{"text_format":"3","workbook":"xlsx","n_sheets":3,"sheets":["BM18","BM18A","Filtro_"],"not_rendered":{"macros":1,"external_links":1,"pivot_tables":1},"read":"whole","date_system":"1900"}

{"sheet":"BM18","index":0,"n_rows":122,"n_cols":23,"rows_kept":122,"merged":[[7,1,8,6],[9,1,9,3],[10,1,11,3],[10,4,11,4],[10,5,11,5],[10,6,11,6],[12,2,12,3],[13,2,13,3],[14,2,14,3],[15,2,15,3],[16,2,16,3],[17,2,17,3],[18,2,18,3],[19,2,19,3],[20,2,20,3],[21,2,21,3],[22,2,22,3],[23,2,23,3],[24,2,24,3],[25,2,25,3],[26,2,26,3],[27,2,27,3],[28,2,28,3],[29,1,42,1],[29,2,30,2],[31,2,32,2],[33,2,34,2],[35,2,36,2],[37,2,38,2],[39,2,40,2],[41,2,42,2],[43,2,43,3],[46,1,47,1],[46,2,47,2],[46,3,47,3],[46,4,47,4],[61,1,62,2],[61,3,62,3],[61,4,62,4],[61,5,62,5],[63,1,63,2],[70,1,71,1],[70,2,71,2],[70,3,71,3],[70,4,71,4],[80,1,81,1],[80,2,81,2],[84,1,85,1],[84,2,85,2],[84,3,84,8],[90,1,90,2],[91,1,93,1],[95,1,96,1],[95,2,96,2],[95,3,95,5],[95,6,96,6],[99,1,100,1],[99,2,100,2],[99,3,99,5],[99,6,100,6],[99,7,100,7],[99,8,100,8]]}
[null,"SERVICIO DE SALUD "]
[null,{"$f":"CONCATENATE(\"COMUNA: \",[1]NOMBRE!B2,\"  \",\"( \",[1]NOMBRE!C2,[1]NOMBRE!D2,[1]NOMBRE!E2,[1]NOMBRE!F2,[1]NOMBRE!G2,\" )\")","v":"COMUNA: 0  ( 00000 )"}]
[null,{"$f":"CONCATENATE(\"ESTABLECIMIENTO/ESTRATEGIA: \",[1]NOMBRE!B3,\"  \",\"( \",[1]NOMBRE!C3,[1]NOMBRE!D3,[1]NOMBRE!E3,[1]NOMBRE!F3,[1]NOMBRE!G3,[1]NOMBRE!H3,\" )\")","v":"ESTABLECIMIENTO/ESTRATEGIA: 0  ( 000000 )"}]
[null,{"$f":"CONCATENATE(\"MES: \",[1]NOMBRE!B6,\"  \",\"( \",[1]NOMBRE!C6,[1]NOMBRE!D6,\" )\")","v":"MES: 0  ( 00 )"}]
[null,{"$f":"CONCATENATE(\"AÑO: \",[1]NOMBRE!B7)","v":"AÑO: 2023"}]
[]
[]
[null,"REM-B18.   ACTIVIDADES DE APOYO DIAGNOSTICO Y TERAPEUTICO\n     (USO EXCLUSIVO DE ESTABLECIMIENTOS MUNICIPALES)"]
[]
[null,"SECCIÓN A: EXÁMENES DE DIAGNOSTICO"]
[null,"EXÁMENES",null,null,"TOTAL","SAPU/SAR/SUR","Resto Establecimientos APS"]
[{"$nulls":5},"Total","Total"]
[null,"TOTAL EXÁMENES LABORATORIO",null,null,{"$f":"SUM(F13:G13)","v":{"v":580585,"d":"580,585"}},{"$f":"SUM(F14:F16,F18:F19,F24:F25)","v":{"v":1681,"d":"1,681"}},{"$f":"SUM(G14:G16,G18:G19,G24:G25)","v":{"v":578904,"d":"578,904"}},"Linea"]
["18010100","I  ","HEMATOLÓGICOS",null,{"$f":"IFERROR(VLOOKUP('BM18'!$A14,Filtro_!$A$5:$I$358,2,FALSE),0)","v":{"v":86640,"d":"86,640"}},{"$f":"IFERROR(VLOOKUP('BM18'!$A14,Filtro_!$A$5:$I$358,3,FALSE),0)","v":0},{"$f":"IFERROR(VLOOKUP('BM18'!$A14,Filtro_!$A$5:$I$358,4,FALSE),0)","v":{"v":86640,"d":"86,640"}},14]
["18010200","II  ","BIOQUÍMICOS",null,{"$f":"IFERROR(VLOOKUP('BM18'!$A15,Filtro_!$A$5:$I$358,2,FALSE),0)","v":{"v":298537,"d":"298,537"}},{"$f":"IFERROR(VLOOKUP('BM18'!$A15,Filtro_!$A$5:$I$358,3,FALSE),0)","v":0},{"$f":"IFERROR(VLOOKUP('BM18'!$A15,Filtro_!$A$5:$I$358,4,FALSE),0)","v":{"v":298537,"d":"298,537"}},15]
["18090100","III","HORMONALES",null,{"$f":"IFERROR(VLOOKUP('BM18'!$A16,Filtro_!$A$5:$I$358,2,FALSE),0)","v":{"v":58189,"d":"58,189"}},{"$f":"IFERROR(VLOOKUP('BM18'!$A16,Filtro_!$A$5:$I$358,3,FALSE),0)","v":0},{"$f":"IFERROR(VLOOKUP('BM18'!$A16,Filtro_!$A$5:$I$358,4,FALSE),0)","v":{"v":58189,"d":"58,189"}},16]
[null,"IV","GENÉTICA",{"$nulls":4},17]
["18010500","V","INMUNOLÓGICOS",null,{"$f":"IFERROR(VLOOKUP('BM18'!$A18,Filtro_!$A$5:$I$358,2,FALSE),0)","v":{"v":3303,"d":"3,303"}},{"$f":"IFERROR(VLOOKUP('BM18'!$A18,Filtro_!$A$5:$I$358,3,FALSE),0)","v":0},{"$f":"IFERROR(VLOOKUP('BM18'!$A18,Filtro_!$A$5:$I$358,4,FALSE),0)","v":{"v":3303,"d":"3,303"}},18]
["18010601","VI  ","MICROBIOLÓGICOS",null,{"$f":"IFERROR(VLOOKUP('BM18'!$A19,Filtro_!$A$5:$I$358,2,FALSE),0)","v":{"v":21060,"d":"21,060"}},{"$f":"IFERROR(VLOOKUP('BM18'!$A19,Filtro_!$A$5:$I$358,3,FALSE),0)","v":0},{"$f":"IFERROR(VLOOKUP('BM18'!$A19,Filtro_!$A$5:$I$358,4,FALSE),0)","v":{"v":21060,"d":"21,060"}},19]
[null,null,"a)   BACTERIAS Y HONGOS",{"$nulls":4},20]
[null,null,"b)   PARÁSITOS",{"$nulls":4},21]
[null,null,"c)   VIRUS",{"$nulls":4},22]
[null,"VII","PROCEDIMIENTO O DETERMINACIÓN DIRECTA C/PACIENTE",{"$nulls":4},23]
["18010800","VIII  ","EX.  DE DEPOSICIONES EXUDADOS. SECREC. Y OTROS LIQ.  ",null,{"$f":"IFERROR(VLOOKUP('BM18'!$A24,Filtro_!$A$5:$I$358,2,FALSE),0)","v":{"v":2530,"d":"2,530"}},{"$f":"IFERROR(VLOOKUP('BM18'!$A24,Filtro_!$A$5:$I$358,3,FALSE),0)","v":0},{"$f":"IFERROR(VLOOKUP('BM18'!$A24,Filtro_!$A$5:$I$358,4,FALSE),0)","v":{"v":2530,"d":"2,530"}},24]
["18010900","IX   ","ORINA",null,{"$f":"IFERROR(VLOOKUP('BM18'!$A25,Filtro_!$A$5:$I$358,2,FALSE),0)","v":{"v":110326,"d":"110,326"}},{"$f":"IFERROR(VLOOKUP('BM18'!$A25,Filtro_!$A$5:$I$358,3,FALSE),0)","v":{"v":1681,"d":"1,681"}},{"$f":"IFERROR(VLOOKUP('BM18'!$A25,Filtro_!$A$5:$I$358,4,FALSE),0)","v":{"v":108645,"d":"108,645"}},25]
[null,"TOTAL EXÁMENES IMAGENOLOGIA",null,null,{"$f":"SUM(F26:G26)","v":{"v":48429,"d":"48,429"}},{"$f":"SUM(F27+F28+F44)","v":{"v":42115,"d":"42,115"}},{"$f":"SUM(G27+G28)","v":{"v":6314,"d":"6,314"}},26]
["18011001","a)","EX. RADIOLÓGICOS SIMPLES",null,{"$f":"IFERROR(VLOOKUP('BM18'!$A27,Filtro_!$A$5:$I$358,2,FALSE),0)","v":{"v":46684,"d":"46,684"}},{"$f":"IFERROR(VLOOKUP('BM18'!$A27,Filtro_!$A$5:$I$358,3,FALSE),0)","v":{"v":42056,"d":"42,056"}},{"$f":"IFERROR(VLOOKUP('BM18'!$A27,Filtro_!$A$5:$I$358,4,FALSE),0)","v":{"v":4628,"d":"4,628"}},27]
["18011002",null," Ecotomografías",null,{"$f":"IFERROR(VLOOKUP('BM18'!$A28,Filtro_!$A$5:$I$358,2,FALSE),0)","v":{"v":1745,"d":"1,745"}},{"$f":"IFERROR(VLOOKUP('BM18'!$A28,Filtro_!$A$5:$I$358,3,FALSE),0)","v":59},{"$f":"IFERROR(VLOOKUP('BM18'!$A28,Filtro_!$A$5:$I$358,4,FALSE),0)","v":{"v":1686,"d":"1,686"}},28]
["18400500",null," Ecotomografías abdominal ",null,{"$f":"SUM(F29:G29)","v":597},{"$f":"IFERROR(VLOOKUP('BM18'!$A29,Filtro_!$A$5:$I$358,3,FALSE),0)","v":0},{"$f":"IFERROR(VLOOKUP('BM18'!$A29,Filtro_!$A$5:$I$358,4,FALSE),0)","v":597},29]
["18700240",null,"Ecografías Obstétrica Primer Trimestre (<11 semanas)","Médico/a",{"$f":"IFERROR(VLOOKUP('BM18'!$A30,Filtro_!$A$5:$I$358,2,FALSE),0)","v":16},{"$f":"IFERROR(VLOOKUP('BM18'!$A30,Filtro_!$A$5:$I$358,3,FALSE),0)","v":0},{"$f":"IFERROR(VLOOKUP('BM18'!$A30,Filtro_!$A$5:$I$358,4,FALSE),0)","v":16},30]
["18700250",null,null,"Matrón/a",{"$f":"IFERROR(VLOOKUP('BM18'!$A31,Filtro_!$A$5:$I$358,2,FALSE),0)","v":688},{"$f":"IFERROR(VLOOKUP('BM18'!$A31,Filtro_!$A$5:$I$358,3,FALSE),0)","v":0},{"$f":"IFERROR(VLOOKUP('BM18'!$A31,Filtro_!$A$5:$I$358,4,FALSE),0)","v":688},31]
["18700260",null,"Ecografias Obstétricas Primer Trimestre (11 - 14 semanas)","Médico/a",{"$f":"IFERROR(VLOOKUP('BM18'!$A32,Filtro_!$A$5:$I$358,2,FALSE),0)","v":75},{"$f":"IFERROR(VLOOKUP('BM18'!$A32,Filtro_!$A$5:$I$358,3,FALSE),0)","v":0},{"$f":"IFERROR(VLOOKUP('BM18'!$A32,Filtro_!$A$5:$I$358,4,FALSE),0)","v":75},32]
["18700270",null,null,"Matrón/a",{"$f":"IFERROR(VLOOKUP('BM18'!$A33,Filtro_!$A$5:$I$358,2,FALSE),0)","v":{"v":1354,"d":"1,354"}},{"$f":"IFERROR(VLOOKUP('BM18'!$A33,Filtro_!$A$5:$I$358,3,FALSE),0)","v":0},{"$f":"IFERROR(VLOOKUP('BM18'!$A33,Filtro_!$A$5:$I$358,4,FALSE),0)","v":{"v":1354,"d":"1,354"}},33]
["18700280",null,"Ecografias Obstétricas Segundo Trimestre (22 - 24 semanas)","Médico/a",{"$f":"IFERROR(VLOOKUP('BM18'!$A34,Filtro_!$A$5:$I$358,2,FALSE),0)","v":206},{"$f":"IFERROR(VLOOKUP('BM18'!$A34,Filtro_!$A$5:$I$358,3,FALSE),0)","v":0},{"$f":"IFERROR(VLOOKUP('BM18'!$A34,Filtro_!$A$5:$I$358,4,FALSE),0)","v":206},34]
["18700290",null,null,"Matrón/a",{"$f":"IFERROR(VLOOKUP('BM18'!$A35,Filtro_!$A$5:$I$358,2,FALSE),0)","v":356},{"$f":"IFERROR(VLOOKUP('BM18'!$A35,Filtro_!$A$5:$I$358,3,FALSE),0)","v":0},{"$f":"IFERROR(VLOOKUP('BM18'!$A35,Filtro_!$A$5:$I$358,4,FALSE),0)","v":356},35]
["18700300",null,"Ecografias Obstétricas Tercer Trimestre (30 - 34 semanas)","Médico/a",{"$f":"IFERROR(VLOOKUP('BM18'!$A36,Filtro_!$A$5:$I$358,2,FALSE),0)","v":131},{"$f":"IFERROR(VLOOKUP('BM18'!$A36,Filtro_!$A$5:$I$358,3,FALSE),0)","v":0},{"$f":"IFERROR(VLOOKUP('BM18'!$A36,Filtro_!$A$5:$I$358,4,FALSE),0)","v":131},36]
["18700310",null,null,"Matrón/a",{"$f":"IFERROR(VLOOKUP('BM18'!$A37,Filtro_!$A$5:$I$358,2,FALSE),0)","v":495},{"$f":"IFERROR(VLOOKUP('BM18'!$A37,Filtro_!$A$5:$I$358,3,FALSE),0)","v":0},{"$f":"IFERROR(VLOOKUP('BM18'!$A37,Filtro_!$A$5:$I$358,4,FALSE),0)","v":495},37]
[null,null,"Total Ecografías Obstétricas por profesional","Médico/a",{"$f":"SUM(E30+E32+E34+E36)","v":428},{"$f":"IFERROR(VLOOKUP('BM18'!$A38,Filtro_!$A$5:$I$358,3,FALSE),0)","v":0},{"$f":"IFERROR(VLOOKUP('BM18'!$A38,Filtro_!$A$5:$I$358,4,FALSE),0)","v":0},38]
[{"$nulls":3},"Matrón/a",{"$f":"SUM(E31+E33+E35+E37)","v":{"v":2893,"d":"2,893"}},{"$f":"IFERROR(VLOOKUP('BM18'!$A39,Filtro_!$A$5:$I$358,3,FALSE),0)","v":0},{"$f":"IFERROR(VLOOKUP('BM18'!$A39,Filtro_!$A$5:$I$358,4,FALSE),0)","v":0},39]
["18700320",null,"Ecografía de seguimiento DIU (Regulación de la Fertilidad)","Médico/a",{"$f":"IFERROR(VLOOKUP('BM18'!$A40,Filtro_!$A$5:$I$358,2,FALSE),0)","v":0},{"$f":"IFERROR(VLOOKUP('BM18'!$A40,Filtro_!$A$5:$I$358,3,FALSE),0)","v":0},{"$f":"IFERROR(VLOOKUP('BM18'!$A40,Filtro_!$A$5:$I$358,4,FALSE),0)","v":0},40]
["18700330",null,null,"Matrón/a",{"$f":"IFERROR(VLOOKUP('BM18'!$A41,Filtro_!$A$5:$I$358,2,FALSE),0)","v":335},{"$f":"IFERROR(VLOOKUP('BM18'!$A41,Filtro_!$A$5:$I$358,3,FALSE),0)","v":0},{"$f":"IFERROR(VLOOKUP('BM18'!$A41,Filtro_!$A$5:$I$358,4,FALSE),0)","v":335},41]
["18700340",null,"Ecografía Transvaginal (control de Climaterio y Ginecológico)","Médico/a",{"$f":"IFERROR(VLOOKUP('BM18'!$A42,Filtro_!$A$5:$I$358,2,FALSE),0)","v":179},{"$f":"IFERROR(VLOOKUP('BM18'!$A42,Filtro_!$A$5:$I$358,3,FALSE),0)","v":0},{"$f":"IFERROR(VLOOKUP('BM18'!$A42,Filtro_!$A$5:$I$358,4,FALSE),0)","v":179},42]
["18700350",null,null,"Matrón/a",{"$f":"IFERROR(VLOOKUP('BM18'!$A43,Filtro_!$A$5:$I$358,2,FALSE),0)","v":390},{"$f":"IFERROR(VLOOKUP('BM18'!$A43,Filtro_!$A$5:$I$358,3,FALSE),0)","v":0},{"$f":"IFERROR(VLOOKUP('BM18'!$A43,Filtro_!$A$5:$I$358,4,FALSE),0)","v":390},43]
[null,null,"Total de ecografías obstetricas y ginecologicas ",null,{"$f":"SUM(E38:E43)","v":{"v":4225,"d":"4,225"}},null,null,44]
[{"$nulls":7},45]
[null,"SECCIÓN B:  PROCEDIMIENTO DE APOYO CLÍNICO Y TERAPÉUTICO",{"$nulls":5},46]
[null,"PROCEDIMIENTOS","TOTAL","SAPU/SAR/SUR","Resto Establecimientos APS",null,null,47]
[{"$nulls":3},"Total","Total",null,null,48]
["18020100","PROC. DE NEUROLOGÍA ",{"$f":"IFERROR(VLOOKUP('BM18'!$A49,Filtro_!$A$5:$I$358,2,FALSE),0)","v":0},{"$f":"IFERROR(VLOOKUP('BM18'!$A49,Filtro_!$A$5:$I$358,3,FALSE),0)","v":0},{"$f":"IFERROR(VLOOKUP('BM18'!$A49,Filtro_!$A$5:$I$358,4,FALSE),0)","v":0},null,null,49]
["18400400","PROC. DE OFTALMOLOGÍA",{"$f":"IFERROR(VLOOKUP('BM18'!$A50,Filtro_!$A$5:$I$358,2,FALSE),0)","v":265},{"$f":"IFERROR(VLOOKUP('BM18'!$A50,Filtro_!$A$5:$I$358,3,FALSE),0)","v":187},{"$f":"IFERROR(VLOOKUP('BM18'!$A50,Filtro_!$A$5:$I$358,4,FALSE),0)","v":78},null,null,50]
["18020200","PROC. DE OTORRINOLARINGOLOGÍA ",{"$f":"IFERROR(VLOOKUP('BM18'!$A51,Filtro_!$A$5:$I$358,2,FALSE),0)","v":202},{"$f":"IFERROR(VLOOKUP('BM18'!$A51,Filtro_!$A$5:$I$358,3,FALSE),0)","v":137},{"$f":"IFERROR(VLOOKUP('BM18'!$A51,Filtro_!$A$5:$I$358,4,FALSE),0)","v":65},null,null,51]
["18020300","PROC. DE NEUMOLOGÍA",{"$f":"IFERROR(VLOOKUP('BM18'!$A52,Filtro_!$A$5:$I$358,2,FALSE),0)","v":{"v":19751,"d":"19,751"}},{"$f":"IFERROR(VLOOKUP('BM18'!$A52,Filtro_!$A$5:$I$358,3,FALSE),0)","v":{"v":15961,"d":"15,961"}},{"$f":"IFERROR(VLOOKUP('BM18'!$A52,Filtro_!$A$5:$I$358,4,FALSE),0)","v":{"v":3790,"d":"3,790"}},null,null,52]
["18020400","PROC. DE DERMATOLOGÍA",{"$f":"IFERROR(VLOOKUP('BM18'!$A53,Filtro_!$A$5:$I$358,2,FALSE),0)","v":917},{"$f":"IFERROR(VLOOKUP('BM18'!$A53,Filtro_!$A$5:$I$358,3,FALSE),0)","v":0},{"$f":"IFERROR(VLOOKUP('BM18'!$A53,Filtro_!$A$5:$I$358,4,FALSE),0)","v":917},null,null,53]
["18020500","PROC. DE CARDIOLOGÍA",{"$f":"IFERROR(VLOOKUP('BM18'!$A54,Filtro_!$A$5:$I$358,2,FALSE),0)","v":{"v":138971,"d":"138,971"}},{"$f":"IFERROR(VLOOKUP('BM18'!$A54,Filtro_!$A$5:$I$358,3,FALSE),0)","v":{"v":30228,"d":"30,228"}},{"$f":"IFERROR(VLOOKUP('BM18'!$A54,Filtro_!$A$5:$I$358,4,FALSE),0)","v":{"v":108743,"d":"108,743"}},null,null,54]
["18020600","PROC. DE GASTROENTEROLOGÍA",{"$f":"IFERROR(VLOOKUP('BM18'!$A55,Filtro_!$A$5:$I$358,2,FALSE),0)","v":177},{"$f":"IFERROR(VLOOKUP('BM18'!$A55,Filtro_!$A$5:$I$358,3,FALSE),0)","v":145},{"$f":"IFERROR(VLOOKUP('BM18'!$A55,Filtro_!$A$5:$I$358,4,FALSE),0)","v":32},null,null,55]
["18020700","PROC. DE UROLOGÍA",{"$f":"IFERROR(VLOOKUP('BM18'!$A56,Filtro_!$A$5:$I$358,2,FALSE),0)","v":{"v":1518,"d":"1,518"}},{"$f":"IFERROR(VLOOKUP('BM18'!$A56,Filtro_!$A$5:$I$358,3,FALSE),0)","v":{"v":1095,"d":"1,095"}},{"$f":"IFERROR(VLOOKUP('BM18'!$A56,Filtro_!$A$5:$I$358,4,FALSE),0)","v":423},null,null,56]
["18020800","PROC. ORTOPEDIA Y TRAUMATOLOGÍA",{"$f":"IFERROR(VLOOKUP('BM18'!$A57,Filtro_!$A$5:$I$358,2,FALSE),0)","v":{"v":1891,"d":"1,891"}},{"$f":"IFERROR(VLOOKUP('BM18'!$A57,Filtro_!$A$5:$I$358,3,FALSE),0)","v":{"v":1888,"d":"1,888"}},{"$f":"IFERROR(VLOOKUP('BM18'!$A57,Filtro_!$A$5:$I$358,4,FALSE),0)","v":3},null,null,57]
["18020900","PROC. GINECOLOGÍA",{"$f":"IFERROR(VLOOKUP('BM18'!$A58,Filtro_!$A$5:$I$358,2,FALSE),0)","v":{"v":1122,"d":"1,122"}},{"$f":"IFERROR(VLOOKUP('BM18'!$A58,Filtro_!$A$5:$I$358,3,FALSE),0)","v":0},{"$f":"IFERROR(VLOOKUP('BM18'!$A58,Filtro_!$A$5:$I$358,4,FALSE),0)","v":{"v":1122,"d":"1,122"}},null,null,58]
[null,"TOTAL",{"$f":"SUM(C49:C58)","v":{"v":164814,"d":"164,814"}},{"$f":"SUM(D49:D58)","v":{"v":49641,"d":"49,641"}},{"$f":"SUM(E49:E58)","v":{"v":115173,"d":"115,173"}},null,null,59]
[{"$nulls":7},60]
[null,"SECCIÓN C:  INTERVENCIONES QUIRÚRGICAS MENORES",{"$nulls":5},61]
[{"$nulls":3},"TOTAL","SAPU/SAR/SUR","Resto Establecimientos APS",null,62]
[{"$nulls":4},"Total",null,null,63]
["18030000","TOTAL INTERVENCIONES QUIRÚRGICAS MENORES (SUB-GRUPO TEGUMENTOS)",null,{"$f":"IFERROR(VLOOKUP('BM18'!$A64,Filtro_!$A$5:$I$358,2,FALSE),0)","v":{"v":6477,"d":"6,477"}},{"$f":"IFERROR(VLOOKUP('BM18'!$A64,Filtro_!$A$5:$I$358,3,FALSE),0)","v":{"v":3837,"d":"3,837"}},{"$f":"IFERROR(VLOOKUP('BM18'!$A64,Filtro_!$A$5:$I$358,4,FALSE),0)","v":{"v":2640,"d":"2,640"}},null,64]
[null,"SECCIÓN D : INTERVENCIONES QUIRÚRGICAS MENORES, POR EDAD",{"$nulls":5},65]
[null,"INTERVENCIONES QUIRÚRGICAS","TOTAL","< 15 AÑOS","15 Y + AÑOS",null,null,66]
[null,"TOTAL",{"$f":"SUM(D67:E67)","v":{"v":6330,"d":"6,330"}},{"$f":"SUM(D68:D69)","v":674},{"$f":"SUM(E68:E69)","v":{"v":5656,"d":"5,656"}},{"$f":"V67","v":"El Total de Intervenciones Quirúrgicas de la Sección C debe coincidir con el Total de la Seccion D"},null,67,{"$nulls":13},{"$f":"IF(C67=D64,\"\",\"El Total de Intervenciones Quirúrgicas de la Sección C debe coincidir con el Total de la Seccion D\")","v":"El Total de Intervenciones Quirúrgicas de la Sección C debe coincidir con el Total de la Seccion D"},{"$f":"IF(C67=D64,0,1)","v":1}]
["18040100","SAPU/SAR",{"$f":"IFERROR(VLOOKUP('BM18'!$A68,Filtro_!$A$5:$I$358,2,FALSE),0)","v":{"v":3801,"d":"3,801"}},{"$f":"IFERROR(VLOOKUP('BM18'!$A68,Filtro_!$A$5:$I$358,3,FALSE),0)","v":520},{"$f":"IFERROR(VLOOKUP('BM18'!$A68,Filtro_!$A$5:$I$358,4,FALSE),0)","v":{"v":3281,"d":"3,281"}},{"$f":"V68","v":"El Total de Intervenciones Quirúrgicas menores SAPU/SAR debe coincidir con el Total de Intervenciones Quirúrgicas menores SAPU/SAR/SUR de la Sección C. "},null,68,{"$nulls":13},{"$f":"IF(C68=E64,\"\",\"El Total de Intervenciones Quirúrgicas menores SAPU/SAR debe coincidir con el Total de Intervenciones Quirúrgicas menores SAPU/SAR/SUR de la Sección C. \")","v":"El Total de Intervenciones Quirúrgicas menores SAPU/SAR debe coincidir con el Total de Intervenciones Quirúrgicas menores SAPU/SAR/SUR de la Sección C. "},{"$f":"IF(C68<>#REF!,1,0)","v":{"$error":"#REF!"}}]
["18040200","RESTO ESTABLECIMIENTOS APS",{"$f":"IFERROR(VLOOKUP('BM18'!$A69,Filtro_!$A$5:$I$358,2,FALSE),0)","v":{"v":2521,"d":"2,521"}},{"$f":"IFERROR(VLOOKUP('BM18'!$A69,Filtro_!$A$5:$I$358,3,FALSE),0)","v":154},{"$f":"IFERROR(VLOOKUP('BM18'!$A69,Filtro_!$A$5:$I$358,4,FALSE),0)","v":{"v":2375,"d":"2,375"}},{"$f":"V69","v":" * El Total de Intervenciones Quirúrgicas menores NO SAPU debe coincidir con el Total de Intervenciones Quirúrgicas menores NO SAPU/NO SUR de la Sección C. "},null,69,{"$nulls":13},{"$f":"IF(C69=F64,\"\",\" * El Total de Intervenciones Quirúrgicas menores NO SAPU debe coincidir con el Total de Intervenciones Quirúrgicas menores NO SAPU/NO SUR de la Sección C. \")","v":" * El Total de Intervenciones Quirúrgicas menores NO SAPU debe coincidir con el Total de Intervenciones Quirúrgicas menores NO SAPU/NO SUR de la Sección C. "},{"$f":"IF(C69<>#REF!,1,0)","v":{"$error":"#REF!"}}]
[null,"SECCIÓN E:  MISCELÁNEOS",{"$nulls":5},70]
[null,"MISCELÁNEOS","TOTAL","SAPU/SAR/SUR","Resto Establecimientos APS",null,null,71]
[{"$nulls":3},"Total","Total",null,null,72]
["18090000","PROCEDIMIENTOS DE PODOLOGIA",{"$f":"SUM(D73:E73)","v":{"v":31672,"d":"31,672"}},{"$f":"IFERROR(VLOOKUP('BM18'!$A73,Filtro_!$A$5:$I$358,3,FALSE),0)","v":865},{"$f":"IFERROR(VLOOKUP('BM18'!$A73,Filtro_!$A$5:$I$358,4,FALSE),0)","v":{"v":30807,"d":"30,807"}},null,null,73]
["18050100","CURACIÓN SIMPLE AMBULATORIA",{"$f":"SUM(D74:E74)","v":{"v":95912,"d":"95,912"}},{"$f":"IFERROR(VLOOKUP('BM18'!$A74,Filtro_!$A$5:$I$358,3,FALSE),0)","v":{"v":14064,"d":"14,064"}},{"$f":"IFERROR(VLOOKUP('BM18'!$A74,Filtro_!$A$5:$I$358,4,FALSE),0)","v":{"v":81848,"d":"81,848"}},null,null,74]
["18050400","CURACION AVANZADA UV",{"v":7677,"d":"7,677"},{"$f":"IFERROR(VLOOKUP('BM18'!$A75,Filtro_!$A$5:$I$358,3,FALSE),0)","v":473},{"$f":"IFERROR(VLOOKUP('BM18'!$A75,Filtro_!$A$5:$I$358,4,FALSE),0)","v":{"v":7204,"d":"7,204"}},null,null,75]
["18050500","CURACION COMPLEJA",{"v":52241,"d":"52,241"},{"$f":"IFERROR(VLOOKUP('BM18'!$A76,Filtro_!$A$5:$I$358,3,FALSE),0)","v":{"v":1817,"d":"1,817"}},{"$f":"IFERROR(VLOOKUP('BM18'!$A76,Filtro_!$A$5:$I$358,4,FALSE),0)","v":{"v":50424,"d":"50,424"}},null,null,76]
["18050200","AUTOCONTROL PERSONAS CON DIABETES INSULINO DEPENDIENTE (D.I.D. MENSUAL)",{"v":3590,"d":"3,590"},{"$f":"IFERROR(VLOOKUP('BM18'!$A77,Filtro_!$A$5:$I$358,3,FALSE),0)","v":{"v":1460,"d":"1,460"}},{"$f":"IFERROR(VLOOKUP('BM18'!$A77,Filtro_!$A$5:$I$358,4,FALSE),0)","v":{"v":2130,"d":"2,130"}},null,null,77]
["18050300","OXIGENOTERAPIA A DOMICILIO",{"$f":"SUM(D78:E78)","v":{"v":1221,"d":"1,221"}},{"$f":"IFERROR(VLOOKUP('BM18'!$A78,Filtro_!$A$5:$I$358,3,FALSE),0)","v":193},{"$f":"IFERROR(VLOOKUP('BM18'!$A78,Filtro_!$A$5:$I$358,4,FALSE),0)","v":{"v":1028,"d":"1,028"}},null,null,78]
[null,"AUTOCONTROL PERSONAS CON DIABETES INSULINO DEPENDIENTE (D.I.D. MENSUAL)",{"$nulls":5},79]
[null,"SECCIÓN F: PRESCRIPCIONES ADMINISTRADAS EN URGENCIA ",{"$nulls":5},80]
[null,"ATENCIÓN","TOTAL",{"$nulls":4},81]
[{"$nulls":7},82]
["18400700","URGENCIA SAPU/SAR/SUR",{"$f":"IFERROR(VLOOKUP('BM18'!$A83,Filtro_!$A$5:$I$358,2,FALSE),0)","v":{"v":1179567,"d":"1,179,567"}},{"$nulls":4},83]
[null,"SECCIÓN G : OTRAS ATENCIONES A PACIENTES AMBULATORIOS",{"$nulls":5},84]
[null,"TIPO DE ATENCIÓN","TOTAL","ATENCIONES POR EDAD",{"$nulls":5},85]
[{"$nulls":3},"< 1 año","1 - 4 años","5 a 9 años","10 a 19 años","20 a 64 años","65 años y más",86]
["18070100","POR TERAPÉUTICA OCUPACIONAL",{"$f":"IFERROR(VLOOKUP('BM18'!$A87,Filtro_!$A$5:$I$358,2,FALSE),0)","v":512},{"$f":"IFERROR(VLOOKUP('BM18'!$A87,Filtro_!$A$5:$I$358,3,FALSE),0)","v":13},{"$f":"IFERROR(VLOOKUP('BM18'!$A87,Filtro_!$A$5:$I$358,4,FALSE),0)","v":297},{"$f":"IFERROR(VLOOKUP('BM18'!$A87,Filtro_!$A$5:$I$358,5,FALSE),0)","v":107},{"$f":"IFERROR(VLOOKUP('BM18'!$A87,Filtro_!$A$5:$I$358,6,FALSE),0)","v":26},{"$f":"IFERROR(VLOOKUP('BM18'!$A87,Filtro_!$A$5:$I$358,7,FALSE),0)","v":7},{"$f":"IFERROR(VLOOKUP('BM18'!$A87,Filtro_!$A$5:$I$358,8,FALSE),0)","v":62},87]
["18070300","POR KINESIOLOGO (NO SAPU)",{"$f":"IFERROR(VLOOKUP('BM18'!$A88,Filtro_!$A$5:$I$358,2,FALSE),0)","v":{"v":1838,"d":"1,838"}},{"$f":"IFERROR(VLOOKUP('BM18'!$A88,Filtro_!$A$5:$I$358,3,FALSE),0)","v":442},{"$f":"IFERROR(VLOOKUP('BM18'!$A88,Filtro_!$A$5:$I$358,4,FALSE),0)","v":622},{"$f":"IFERROR(VLOOKUP('BM18'!$A88,Filtro_!$A$5:$I$358,5,FALSE),0)","v":84},{"$f":"IFERROR(VLOOKUP('BM18'!$A88,Filtro_!$A$5:$I$358,6,FALSE),0)","v":68},{"$f":"IFERROR(VLOOKUP('BM18'!$A88,Filtro_!$A$5:$I$358,7,FALSE),0)","v":341},{"$f":"IFERROR(VLOOKUP('BM18'!$A88,Filtro_!$A$5:$I$358,8,FALSE),0)","v":281},88]
["18400900","POR EDUCADORA DE PÁRVULO/DIFERENCIAL",{"$f":"IFERROR(VLOOKUP('BM18'!$A89,Filtro_!$A$5:$I$358,2,FALSE),0)","v":{"v":14964,"d":"14,964"}},{"$f":"IFERROR(VLOOKUP('BM18'!$A89,Filtro_!$A$5:$I$358,3,FALSE),0)","v":{"v":2840,"d":"2,840"}},{"$f":"IFERROR(VLOOKUP('BM18'!$A89,Filtro_!$A$5:$I$358,4,FALSE),0)","v":{"v":12124,"d":"12,124"}},{"$nulls":4},89]
[null,"SECCIÓN H: OTROS TRASLADOS DE PACIENTES",{"$nulls":5},90]
[null,"TIPO DE ACCION",null,"TOTAL        ","POR COMPRA \nDE SERVICIO",null,null,91]
["18090200","TRASLADOS NO DE URGENCIA","AMBULANCIA",{"$f":"IFERROR(VLOOKUP('BM18'!$A92,Filtro_!$A$5:$I$358,2,FALSE),0)","v":{"v":9573,"d":"9,573"}},{"$f":"IFERROR(VLOOKUP('BM18'!$A92,Filtro_!$A$5:$I$358,3,FALSE),0)","v":{"v":1968,"d":"1,968"}},null,null,92]
["18090300",null,"MARÍTIMO",{"$f":"IFERROR(VLOOKUP('BM18'!$A93,Filtro_!$A$5:$I$358,2,FALSE),0)","v":20},{"$f":"IFERROR(VLOOKUP('BM18'!$A93,Filtro_!$A$5:$I$358,3,FALSE),0)","v":0},null,null,93]
["18090400",null,"AÉREO",{"$f":"IFERROR(VLOOKUP('BM18'!$A94,Filtro_!$A$5:$I$358,2,FALSE),0)","v":0},{"$f":"IFERROR(VLOOKUP('BM18'!$A94,Filtro_!$A$5:$I$358,3,FALSE),0)","v":0},null,null,94]
[null,"SECCIÓN I: EXAMENES PESQUISA COVID-19 ",{"$nulls":5},95]
[null,"TIPO DE EXÁMEN","TOTAL        ","Por grupos etarios",null,null,"POR COMPRA DE SERVICIO",96]
[{"$nulls":3},"< 15 años","> 15-64 años","65 y más años",null,97]
["18700100","0306082: Reacción de Polimerasa en Cadena (P.C.R.), virus Influenza, virus Herpes, citomegalovirus, hepatitis C, mycobacteria TBC, SARS CoV -2 c/u (incluye toma muestra hisopado nasofaríngeo).",{"$f":"IFERROR(VLOOKUP('BM18'!$A98,Filtro_!$A$5:$I$358,2,FALSE),0)","v":11333},{"$f":"IFERROR(VLOOKUP('BM18'!$A98,Filtro_!$A$5:$I$358,3,FALSE),0)","v":3452},{"$f":"IFERROR(VLOOKUP('BM18'!$A98,Filtro_!$A$5:$I$358,4,FALSE),0)","v":6165},{"$f":"IFERROR(VLOOKUP('BM18'!$A98,Filtro_!$A$5:$I$358,5,FALSE),0)","v":1716},{"$f":"IFERROR(VLOOKUP('BM18'!$A98,Filtro_!$A$5:$I$358,6,FALSE),0)","v":0},98]
[null,"SECCIÓN J: EXAMENES TEST RAPIDOS COVID-19",{"$nulls":5},99]
[null,"Test rápido para detección de anticuerpos CoVID-19","TOTAL        ","Por grupos etarios",null,null,"Informados ","Positivo","Negativo",100]
[{"$nulls":3},"< 15 años","> 15-64 años","65 y más años",{"$nulls":3},101]
["18700110","OnSite COVID-19 IgG/IgM Rapid Test",{"$f":"IFERROR(VLOOKUP('BM18'!$A102,Filtro_!$A$5:$I$358,2,FALSE),0)","v":122},{"$f":"IFERROR(VLOOKUP('BM18'!$A102,Filtro_!$A$5:$I$358,3,FALSE),0)","v":23},{"$f":"IFERROR(VLOOKUP('BM18'!$A102,Filtro_!$A$5:$I$358,4,FALSE),0)","v":66},{"$f":"IFERROR(VLOOKUP('BM18'!$A102,Filtro_!$A$5:$I$358,5,FALSE),0)","v":33},{"$f":"IFERROR(VLOOKUP('BM18'!$A102,Filtro_!$A$5:$I$358,6,FALSE),0)","v":115},{"$f":"IFERROR(VLOOKUP('BM18'!$A102,Filtro_!$A$5:$I$358,7,FALSE),0)","v":7},{"$f":"IFERROR(VLOOKUP('BM18'!$A102,Filtro_!$A$5:$I$358,8,FALSE),0)","v":115},102]
["18700120","DPP® COVID-19 IgM/IgG System",{"$f":"IFERROR(VLOOKUP('BM18'!$A103,Filtro_!$A$5:$I$358,2,FALSE),0)","v":0},{"$f":"IFERROR(VLOOKUP('BM18'!$A103,Filtro_!$A$5:$I$358,3,FALSE),0)","v":0},{"$f":"IFERROR(VLOOKUP('BM18'!$A103,Filtro_!$A$5:$I$358,4,FALSE),0)","v":0},{"$f":"IFERROR(VLOOKUP('BM18'!$A103,Filtro_!$A$5:$I$358,5,FALSE),0)","v":0},{"$f":"IFERROR(VLOOKUP('BM18'!$A103,Filtro_!$A$5:$I$358,6,FALSE),0)","v":0},{"$f":"IFERROR(VLOOKUP('BM18'!$A103,Filtro_!$A$5:$I$358,7,FALSE),0)","v":0},{"$f":"IFERROR(VLOOKUP('BM18'!$A103,Filtro_!$A$5:$I$358,8,FALSE),0)","v":0},103]
["18700130","LUMIRATEK COVID-19 (IgG / IgM)",{"$f":"IFERROR(VLOOKUP('BM18'!$A104,Filtro_!$A$5:$I$358,2,FALSE),0)","v":0},{"$f":"IFERROR(VLOOKUP('BM18'!$A104,Filtro_!$A$5:$I$358,3,FALSE),0)","v":0},{"$f":"IFERROR(VLOOKUP('BM18'!$A104,Filtro_!$A$5:$I$358,4,FALSE),0)","v":0},{"$f":"IFERROR(VLOOKUP('BM18'!$A104,Filtro_!$A$5:$I$358,5,FALSE),0)","v":0},{"$f":"IFERROR(VLOOKUP('BM18'!$A104,Filtro_!$A$5:$I$358,6,FALSE),0)","v":0},{"$f":"IFERROR(VLOOKUP('BM18'!$A104,Filtro_!$A$5:$I$358,7,FALSE),0)","v":0},{"$f":"IFERROR(VLOOKUP('BM18'!$A104,Filtro_!$A$5:$I$358,8,FALSE),0)","v":0},104]
["18700140","VivaDiag™ COVID19 IgM/IgG Rapid Test",{"$f":"IFERROR(VLOOKUP('BM18'!$A105,Filtro_!$A$5:$I$358,2,FALSE),0)","v":42},{"$f":"IFERROR(VLOOKUP('BM18'!$A105,Filtro_!$A$5:$I$358,3,FALSE),0)","v":0},{"$f":"IFERROR(VLOOKUP('BM18'!$A105,Filtro_!$A$5:$I$358,4,FALSE),0)","v":42},{"$f":"IFERROR(VLOOKUP('BM18'!$A105,Filtro_!$A$5:$I$358,5,FALSE),0)","v":0},{"$f":"IFERROR(VLOOKUP('BM18'!$A105,Filtro_!$A$5:$I$358,6,FALSE),0)","v":29},{"$f":"IFERROR(VLOOKUP('BM18'!$A105,Filtro_!$A$5:$I$358,7,FALSE),0)","v":16},{"$f":"IFERROR(VLOOKUP('BM18'!$A105,Filtro_!$A$5:$I$358,8,FALSE),0)","v":26},105]
["18700150","Smart Test Covid19",{"$f":"IFERROR(VLOOKUP('BM18'!$A106,Filtro_!$A$5:$I$358,2,FALSE),0)","v":0},{"$f":"IFERROR(VLOOKUP('BM18'!$A106,Filtro_!$A$5:$I$358,3,FALSE),0)","v":0},{"$f":"IFERROR(VLOOKUP('BM18'!$A106,Filtro_!$A$5:$I$358,4,FALSE),0)","v":0},{"$f":"IFERROR(VLOOKUP('BM18'!$A106,Filtro_!$A$5:$I$358,5,FALSE),0)","v":0},{"$f":"IFERROR(VLOOKUP('BM18'!$A106,Filtro_!$A$5:$I$358,6,FALSE),0)","v":0},{"$f":"IFERROR(VLOOKUP('BM18'!$A106,Filtro_!$A$5:$I$358,7,FALSE),0)","v":0},{"$f":"IFERROR(VLOOKUP('BM18'!$A106,Filtro_!$A$5:$I$358,8,FALSE),0)","v":0},106]
["18700160","Cellex qSARS-CoV2 IgG/IgM Cassette Rapid Test kit",{"$f":"IFERROR(VLOOKUP('BM18'!$A107,Filtro_!$A$5:$I$358,2,FALSE),0)","v":0},{"$f":"IFERROR(VLOOKUP('BM18'!$A107,Filtro_!$A$5:$I$358,3,FALSE),0)","v":0},{"$f":"IFERROR(VLOOKUP('BM18'!$A107,Filtro_!$A$5:$I$358,4,FALSE),0)","v":0},{"$f":"IFERROR(VLOOKUP('BM18'!$A107,Filtro_!$A$5:$I$358,5,FALSE),0)","v":0},{"$f":"IFERROR(VLOOKUP('BM18'!$A107,Filtro_!$A$5:$I$358,6,FALSE),0)","v":0},{"$f":"IFERROR(VLOOKUP('BM18'!$A107,Filtro_!$A$5:$I$358,7,FALSE),0)","v":0},{"$f":"IFERROR(VLOOKUP('BM18'!$A107,Filtro_!$A$5:$I$358,8,FALSE),0)","v":0},107]
["18700170","CORONAVÍRUS IgG/IgM (COVID19)",{"$f":"IFERROR(VLOOKUP('BM18'!$A108,Filtro_!$A$5:$I$358,2,FALSE),0)","v":2},{"$f":"IFERROR(VLOOKUP('BM18'!$A108,Filtro_!$A$5:$I$358,3,FALSE),0)","v":0},{"$f":"IFERROR(VLOOKUP('BM18'!$A108,Filtro_!$A$5:$I$358,4,FALSE),0)","v":2},{"$f":"IFERROR(VLOOKUP('BM18'!$A108,Filtro_!$A$5:$I$358,5,FALSE),0)","v":0},{"$f":"IFERROR(VLOOKUP('BM18'!$A108,Filtro_!$A$5:$I$358,6,FALSE),0)","v":2},{"$f":"IFERROR(VLOOKUP('BM18'!$A108,Filtro_!$A$5:$I$358,7,FALSE),0)","v":0},{"$f":"IFERROR(VLOOKUP('BM18'!$A108,Filtro_!$A$5:$I$358,8,FALSE),0)","v":2},108]
["18700180","COVID-19 IgG/IgM ECO Teste",{"$f":"IFERROR(VLOOKUP('BM18'!$A109,Filtro_!$A$5:$I$358,2,FALSE),0)","v":0},{"$f":"IFERROR(VLOOKUP('BM18'!$A109,Filtro_!$A$5:$I$358,3,FALSE),0)","v":0},{"$f":"IFERROR(VLOOKUP('BM18'!$A109,Filtro_!$A$5:$I$358,4,FALSE),0)","v":0},{"$f":"IFERROR(VLOOKUP('BM18'!$A109,Filtro_!$A$5:$I$358,5,FALSE),0)","v":0},{"$f":"IFERROR(VLOOKUP('BM18'!$A109,Filtro_!$A$5:$I$358,6,FALSE),0)","v":0},{"$f":"IFERROR(VLOOKUP('BM18'!$A109,Filtro_!$A$5:$I$358,7,FALSE),0)","v":0},{"$f":"IFERROR(VLOOKUP('BM18'!$A109,Filtro_!$A$5:$I$358,8,FALSE),0)","v":0},109]
["18700190","Anti COVID-19 IgG/IgM Rapid Test",{"$f":"IFERROR(VLOOKUP('BM18'!$A110,Filtro_!$A$5:$I$358,2,FALSE),0)","v":22},{"$f":"IFERROR(VLOOKUP('BM18'!$A110,Filtro_!$A$5:$I$358,3,FALSE),0)","v":0},{"$f":"IFERROR(VLOOKUP('BM18'!$A110,Filtro_!$A$5:$I$358,4,FALSE),0)","v":22},{"$f":"IFERROR(VLOOKUP('BM18'!$A110,Filtro_!$A$5:$I$358,5,FALSE),0)","v":0},{"$f":"IFERROR(VLOOKUP('BM18'!$A110,Filtro_!$A$5:$I$358,6,FALSE),0)","v":22},{"$f":"IFERROR(VLOOKUP('BM18'!$A110,Filtro_!$A$5:$I$358,7,FALSE),0)","v":5},{"$f":"IFERROR(VLOOKUP('BM18'!$A110,Filtro_!$A$5:$I$358,8,FALSE),0)","v":17},110]
["18700210","Família Teste Rápido em Cassete 2019-nCoV IgG/IgM",{"$f":"IFERROR(VLOOKUP('BM18'!$A111,Filtro_!$A$5:$I$358,2,FALSE),0)","v":0},{"$f":"IFERROR(VLOOKUP('BM18'!$A111,Filtro_!$A$5:$I$358,3,FALSE),0)","v":0},{"$f":"IFERROR(VLOOKUP('BM18'!$A111,Filtro_!$A$5:$I$358,4,FALSE),0)","v":0},{"$f":"IFERROR(VLOOKUP('BM18'!$A111,Filtro_!$A$5:$I$358,5,FALSE),0)","v":0},{"$f":"IFERROR(VLOOKUP('BM18'!$A111,Filtro_!$A$5:$I$358,6,FALSE),0)","v":0},{"$f":"IFERROR(VLOOKUP('BM18'!$A111,Filtro_!$A$5:$I$358,7,FALSE),0)","v":0},{"$f":"IFERROR(VLOOKUP('BM18'!$A111,Filtro_!$A$5:$I$358,8,FALSE),0)","v":0},111]
["18700220","Smart Test Covid19 Vyttra",{"$f":"IFERROR(VLOOKUP('BM18'!$A112,Filtro_!$A$5:$I$358,2,FALSE),0)","v":0},{"$f":"IFERROR(VLOOKUP('BM18'!$A112,Filtro_!$A$5:$I$358,3,FALSE),0)","v":0},{"$f":"IFERROR(VLOOKUP('BM18'!$A112,Filtro_!$A$5:$I$358,4,FALSE),0)","v":0},{"$f":"IFERROR(VLOOKUP('BM18'!$A112,Filtro_!$A$5:$I$358,5,FALSE),0)","v":0},{"$f":"IFERROR(VLOOKUP('BM18'!$A112,Filtro_!$A$5:$I$358,6,FALSE),0)","v":0},{"$f":"IFERROR(VLOOKUP('BM18'!$A112,Filtro_!$A$5:$I$358,7,FALSE),0)","v":0},{"$f":"IFERROR(VLOOKUP('BM18'!$A112,Filtro_!$A$5:$I$358,8,FALSE),0)","v":0},112]
["18700230","Lo desconoce",{"$f":"IFERROR(VLOOKUP('BM18'!$A113,Filtro_!$A$5:$I$358,2,FALSE),0)","v":2474},{"$f":"IFERROR(VLOOKUP('BM18'!$A113,Filtro_!$A$5:$I$358,3,FALSE),0)","v":383},{"$f":"IFERROR(VLOOKUP('BM18'!$A113,Filtro_!$A$5:$I$358,4,FALSE),0)","v":1850},{"$f":"IFERROR(VLOOKUP('BM18'!$A113,Filtro_!$A$5:$I$358,5,FALSE),0)","v":241},{"$f":"IFERROR(VLOOKUP('BM18'!$A113,Filtro_!$A$5:$I$358,6,FALSE),0)","v":1422},{"$f":"IFERROR(VLOOKUP('BM18'!$A113,Filtro_!$A$5:$I$358,7,FALSE),0)","v":415},{"$f":"IFERROR(VLOOKUP('BM18'!$A113,Filtro_!$A$5:$I$358,8,FALSE),0)","v":1478},113]
[null,"TOTAL",{"$f":"SUM(C102:C113)","v":2662},406,1982,274,1590,443,1638,114]
[]
[]
["CODIGOS NUEVOS"]
[18050400]
[18050500]
[]
["CODIGO ELIMINADO"]
[18050600]

{"sheet":"BM18A","index":1,"n_rows":652,"n_cols":10,"rows_kept":652,"merged":[[5,1,5,3],[6,1,6,6],[9,1,10,1],[9,2,10,2],[9,3,10,3],[9,4,10,4],[9,5,10,5],[9,6,10,6],[11,1,11,2],[11,3,11,6],[97,1,97,2],[99,1,99,2],[99,3,99,6],[169,1,169,2],[171,1,171,2],[171,3,171,6],[178,1,178,2],[180,1,180,2],[180,3,180,6],[238,1,238,2],[240,1,240,2],[240,3,240,6],[319,1,319,2],[321,1,321,2],[366,1,366,2],[368,1,368,2],[399,1,399,2],[400,1,400,2],[402,1,402,2],[402,3,402,6],[487,1,487,8],[488,1,489,1],[488,2,489,2],[488,3,489,3],[488,4,489,4],[488,5,489,5],[488,6,488,7],[488,8,489,8],[490,1,490,2],[490,3,490,8],[493,1,493,2],[493,3,493,8],[505,1,505,2],[507,1,507,2],[514,1,514,2],[516,1,516,2],[516,3,516,8],[519,1,519,2],[521,1,521,2],[521,3,521,8],[526,1,526,2],[528,1,528,2],[528,3,528,8],[540,1,540,2],[542,1,542,2],[542,3,542,8],[546,1,546,2],[548,1,548,2],[548,3,548,8],[551,1,551,2],[553,1,553,2],[553,3,553,8],[556,1,556,2],[556,3,556,8],[564,1,564,2],[566,1,566,2],[566,3,566,8],[591,1,591,2],[593,1,593,2],[593,3,593,8],[612,1,612,2],[614,3,615,3],[614,4,615,4],[614,5,615,5],[614,6,615,6],[618,1,618,2],[620,1,620,3],[620,4,620,8],[621,1,622,2],[621,4,622,4],[621,5,622,5],[621,6,621,7],[621,8,622,8]]}
[null,"SERVICIO DE SALUD "]
[null,{"$f":"CONCATENATE(\"COMUNA: \",[1]NOMBRE!B2,\"  \",\"( \",[1]NOMBRE!C2,[1]NOMBRE!D2,[1]NOMBRE!E2,[1]NOMBRE!F2,[1]NOMBRE!G2,\" )\")","v":"COMUNA: 0  ( 00000 )"}]
[null,{"$f":"CONCATENATE(\"ESTABLECIMIENTO/ESTRATEGIA: \",[1]NOMBRE!B3,\"  \",\"( \",[1]NOMBRE!C3,[1]NOMBRE!D3,[1]NOMBRE!E3,[1]NOMBRE!F3,[1]NOMBRE!G3,[1]NOMBRE!H3,\" )\")","v":"ESTABLECIMIENTO/ESTRATEGIA: 0  ( 000000 )"}]
[null,{"$f":"CONCATENATE(\"MES: \",[1]NOMBRE!B6,\"  \",\"( \",[1]NOMBRE!C6,[1]NOMBRE!D6,\" )\")","v":"MES: 0  ( 00 )"}]
[null,{"$f":"CONCATENATE(\"AÑO: \",[1]NOMBRE!B7)","v":"AÑO: 2023"}]
[]
[null,"REM-18A  -  LIBRO DE PRESTACIONES DE APOYO DIAGNOSTICO y TERAPÉUTICO\n(USO EXCLUSIVO DE ESTABLECIMIENTOS MUNICIPALES)"]
[]
[null,"SECCIÓN A: EXÁMENES DE DIAGNOSTICO"]
[null,"CÓDIGOS","EXÁMENES","TOTAL","SAPU/SAR/SUR","Resto Establecimientos APS","Compra de Servicios"]
[]
[null,"SANGRE HEMATOLOGÍA",{"$nulls":5},"Línea"]
["80301001","0301001","Acidificación del suero, test de Ham",{"$f":"SUM(E13:F13)","v":0},{"$f":"IFERROR(VLOOKUP($A13,Filtro_!$A$5:$I$358,3,FALSE),0)","v":0},{"$f":"IFERROR(VLOOKUP($A13,Filtro_!$A$5:$I$358,4,FALSE),0)","v":0},{"$f":"IFERROR(VLOOKUP($A13,Filtro_!$A$5:$I$358,5,FALSE),0)","v":0},13]
["80301002","0301002","Acido fólico o folatos",{"$f":"SUM(E14:F14)","v":0},{"$f":"IFERROR(VLOOKUP($A14,Filtro_!$A$5:$I$358,3,FALSE),0)","v":0},{"$f":"IFERROR(VLOOKUP($A14,Filtro_!$A$5:$I$358,4,FALSE),0)","v":0},{"$f":"IFERROR(VLOOKUP($A14,Filtro_!$A$5:$I$358,5,FALSE),0)","v":26},14]
["80301003","0301003","Adenograma, esplenograma, mielograma c/u",0,{"$f":"IFERROR(VLOOKUP($A15,Filtro_!$A$5:$I$358,3,FALSE),0)","v":0},{"$f":"IFERROR(VLOOKUP($A15,Filtro_!$A$5:$I$358,4,FALSE),0)","v":0},{"$f":"IFERROR(VLOOKUP($A15,Filtro_!$A$5:$I$358,5,FALSE),0)","v":0},15]
["80301004","0301004","Adhesividad plaquetaria",0,{"$f":"IFERROR(VLOOKUP($A16,Filtro_!$A$5:$I$358,3,FALSE),0)","v":0},{"$f":"IFERROR(VLOOKUP($A16,Filtro_!$A$5:$I$358,4,FALSE),0)","v":0},{"$f":"IFERROR(VLOOKUP($A16,Filtro_!$A$5:$I$358,5,FALSE),0)","v":0},16]
["80301005","0301005","Aglutininas anti Rho",0,{"$f":"IFERROR(VLOOKUP($A17,Filtro_!$A$5:$I$358,3,FALSE),0)","v":0},{"$f":"IFERROR(VLOOKUP($A17,Filtro_!$A$5:$I$358,4,FALSE),0)","v":0},{"$f":"IFERROR(VLOOKUP($A17,Filtro_!$A$5:$I$358,5,FALSE),0)","v":0},17]
["80301006","0301006","Agregación plaquetaria",0,{"$f":"IFERROR(VLOOKUP($A18,Filtro_!$A$5:$I$358,3,FALSE),0)","v":0},{"$f":"IFERROR(VLOOKUP($A18,Filtro_!$A$5:$I$358,4,FALSE),0)","v":0},{"$f":"IFERROR(VLOOKUP($A18,Filtro_!$A$5:$I$358,5,FALSE),0)","v":0},18]
["80301007","0301007","Anticoagulantes circulantes o anticoagulante lúpico",0,{"$f":"IFERROR(VLOOKUP($A19,Filtro_!$A$5:$I$358,3,FALSE),0)","v":0},{"$f":"IFERROR(VLOOKUP($A19,Filtro_!$A$5:$I$358,4,FALSE),0)","v":0},{"$f":"IFERROR(VLOOKUP($A19,Filtro_!$A$5:$I$358,5,FALSE),0)","v":0},19]
["80301008","0301008","Antitrombina III",0,{"$f":"IFERROR(VLOOKUP($A20,Filtro_!$A$5:$I$358,3,FALSE),0)","v":0},{"$f":"IFERROR(VLOOKUP($A20,Filtro_!$A$5:$I$358,4,FALSE),0)","v":0},{"$f":"IFERROR(VLOOKUP($A20,Filtro_!$A$5:$I$358,5,FALSE),0)","v":0},20]
["80301009","0301009","Auto-hemólisis test,  con y sin glucosa",0,{"$f":"IFERROR(VLOOKUP($A21,Filtro_!$A$5:$I$358,3,FALSE),0)","v":0},{"$f":"IFERROR(VLOOKUP($A21,Filtro_!$A$5:$I$358,4,FALSE),0)","v":0},{"$f":"IFERROR(VLOOKUP($A21,Filtro_!$A$5:$I$358,5,FALSE),0)","v":0},21]
["80301010","0301010","Células del lupus, cada muestra",0,{"$f":"IFERROR(VLOOKUP($A22,Filtro_!$A$5:$I$358,3,FALSE),0)","v":0},{"$f":"IFERROR(VLOOKUP($A22,Filtro_!$A$5:$I$358,4,FALSE),0)","v":0},{"$f":"IFERROR(VLOOKUP($A22,Filtro_!$A$5:$I$358,5,FALSE),0)","v":0},22]
["80301011","0301011","Coagulación, tiempo de",0,{"$f":"IFERROR(VLOOKUP($A23,Filtro_!$A$5:$I$358,3,FALSE),0)","v":0},{"$f":"IFERROR(VLOOKUP($A23,Filtro_!$A$5:$I$358,4,FALSE),0)","v":0},{"$f":"IFERROR(VLOOKUP($A23,Filtro_!$A$5:$I$358,5,FALSE),0)","v":249},23]
["80301012","0301012","Coágulo,  tiempo de retracción del",0,{"$f":"IFERROR(VLOOKUP($A24,Filtro_!$A$5:$I$358,3,FALSE),0)","v":0},{"$f":"IFERROR(VLOOKUP($A24,Filtro_!$A$5:$I$358,4,FALSE),0)","v":0},{"$f":"IFERROR(VLOOKUP($A24,Filtro_!$A$5:$I$358,5,FALSE),0)","v":0},24]
["80301013","0301013","Coágulo, tiempo de lisis del",0,{"$f":"IFERROR(VLOOKUP($A25,Filtro_!$A$5:$I$358,3,FALSE),0)","v":0},{"$f":"IFERROR(VLOOKUP($A25,Filtro_!$A$5:$I$358,4,FALSE),0)","v":0},{"$f":"IFERROR(VLOOKUP($A25,Filtro_!$A$5:$I$358,5,FALSE),0)","v":0},25]
["80301014","0301014","Coombs directo, test de",0,{"$f":"IFERROR(VLOOKUP($A26,Filtro_!$A$5:$I$358,3,FALSE),0)","v":0},{"$f":"IFERROR(VLOOKUP($A26,Filtro_!$A$5:$I$358,4,FALSE),0)","v":0},{"$f":"IFERROR(VLOOKUP($A26,Filtro_!$A$5:$I$358,5,FALSE),0)","v":136},26]
["80301015","0301015","Coombs indirecto, prueba de",2,{"$f":"IFERROR(VLOOKUP($A27,Filtro_!$A$5:$I$358,3,FALSE),0)","v":0},{"$f":"IFERROR(VLOOKUP($A27,Filtro_!$A$5:$I$358,4,FALSE),0)","v":2},{"$f":"IFERROR(VLOOKUP($A27,Filtro_!$A$5:$I$358,5,FALSE),0)","v":{"v":1611,"d":"1,611"}},27]
["80301016","0301016","Cuerpos de Heinz",0,{"$f":"IFERROR(VLOOKUP($A28,Filtro_!$A$5:$I$358,3,FALSE),0)","v":0},{"$f":"IFERROR(VLOOKUP($A28,Filtro_!$A$5:$I$358,4,FALSE),0)","v":0},{"$f":"IFERROR(VLOOKUP($A28,Filtro_!$A$5:$I$358,5,FALSE),0)","v":0},28]
["80301017","0301017","Deshidrogenasa glucosa-6-fosfato en eritrocitos",0,{"$f":"IFERROR(VLOOKUP($A29,Filtro_!$A$5:$I$358,3,FALSE),0)","v":0},{"$f":"IFERROR(VLOOKUP($A29,Filtro_!$A$5:$I$358,4,FALSE),0)","v":0},{"$f":"IFERROR(VLOOKUP($A29,Filtro_!$A$5:$I$358,5,FALSE),0)","v":0},29]
["80301020","0301020","Euglobulinas, tiempo de lisis de",0,{"$f":"IFERROR(VLOOKUP($A30,Filtro_!$A$5:$I$358,3,FALSE),0)","v":0},{"$f":"IFERROR(VLOOKUP($A30,Filtro_!$A$5:$I$358,4,FALSE),0)","v":0},{"$f":"IFERROR(VLOOKUP($A30,Filtro_!$A$5:$I$358,5,FALSE),0)","v":0},30]
["80301021","0301021","Fibrinógeno",0,{"$f":"IFERROR(VLOOKUP($A31,Filtro_!$A$5:$I$358,3,FALSE),0)","v":0},{"$f":"IFERROR(VLOOKUP($A31,Filtro_!$A$5:$I$358,4,FALSE),0)","v":0},{"$f":"IFERROR(VLOOKUP($A31,Filtro_!$A$5:$I$358,5,FALSE),0)","v":0},31]
["80301022","0301022","Test de neutralización plaquetaria",0,{"$f":"IFERROR(VLOOKUP($A32,Filtro_!$A$5:$I$358,3,FALSE),0)","v":0},{"$f":"IFERROR(VLOOKUP($A32,Filtro_!$A$5:$I$358,4,FALSE),0)","v":0},{"$f":"IFERROR(VLOOKUP($A32,Filtro_!$A$5:$I$358,5,FALSE),0)","v":0},32]
["80301023","0301023","Factor III plaquetario",0,{"$f":"IFERROR(VLOOKUP($A33,Filtro_!$A$5:$I$358,3,FALSE),0)","v":0},{"$f":"IFERROR(VLOOKUP($A33,Filtro_!$A$5:$I$358,4,FALSE),0)","v":0},{"$f":"IFERROR(VLOOKUP($A33,Filtro_!$A$5:$I$358,5,FALSE),0)","v":0},33]
["80301024","0301024","Factor V",0,{"$f":"IFERROR(VLOOKUP($A34,Filtro_!$A$5:$I$358,3,FALSE),0)","v":0},{"$f":"IFERROR(VLOOKUP($A34,Filtro_!$A$5:$I$358,4,FALSE),0)","v":0},{"$f":"IFERROR(VLOOKUP($A34,Filtro_!$A$5:$I$358,5,FALSE),0)","v":0},34]
["80301025","0301025","Factores VII, VIII, IX, X, XI, XII, XIII, c/u",0,{"$f":"IFERROR(VLOOKUP($A35,Filtro_!$A$5:$I$358,3,FALSE),0)","v":0},{"$f":"IFERROR(VLOOKUP($A35,Filtro_!$A$5:$I$358,4,FALSE),0)","v":0},{"$f":"IFERROR(VLOOKUP($A35,Filtro_!$A$5:$I$358,5,FALSE),0)","v":0},35]
["80301026","0301026","Ferritina",0,{"$f":"IFERROR(VLOOKUP($A36,Filtro_!$A$5:$I$358,3,FALSE),0)","v":0},{"$f":"IFERROR(VLOOKUP($A36,Filtro_!$A$5:$I$358,4,FALSE),0)","v":0},{"$f":"IFERROR(VLOOKUP($A36,Filtro_!$A$5:$I$358,5,FALSE),0)","v":{"v":2128,"d":"2,128"}},36]
["80301027","0301027","Fibrinógeno, productos de degradación del",0,{"$f":"IFERROR(VLOOKUP($A37,Filtro_!$A$5:$I$358,3,FALSE),0)","v":0},{"$f":"IFERROR(VLOOKUP($A37,Filtro_!$A$5:$I$358,4,FALSE),0)","v":0},{"$f":"IFERROR(VLOOKUP($A37,Filtro_!$A$5:$I$358,5,FALSE),0)","v":1},37]
["80301028","0301028","Fierro sérico",0,{"$f":"IFERROR(VLOOKUP($A38,Filtro_!$A$5:$I$358,3,FALSE),0)","v":0},{"$f":"IFERROR(VLOOKUP($A38,Filtro_!$A$5:$I$358,4,FALSE),0)","v":0},{"$f":"IFERROR(VLOOKUP($A38,Filtro_!$A$5:$I$358,5,FALSE),0)","v":2},38]
["80301029","0301029","Fierro, capacidad de fijación del (incluye fierro sérico)",0,{"$f":"IFERROR(VLOOKUP($A39,Filtro_!$A$5:$I$358,3,FALSE),0)","v":0},{"$f":"IFERROR(VLOOKUP($A39,Filtro_!$A$5:$I$358,4,FALSE),0)","v":0},{"$f":"IFERROR(VLOOKUP($A39,Filtro_!$A$5:$I$358,5,FALSE),0)","v":0},39]
["80301030","0301030","Fierro, cinética del (cada determinación)",0,{"$f":"IFERROR(VLOOKUP($A40,Filtro_!$A$5:$I$358,3,FALSE),0)","v":0},{"$f":"IFERROR(VLOOKUP($A40,Filtro_!$A$5:$I$358,4,FALSE),0)","v":0},{"$f":"IFERROR(VLOOKUP($A40,Filtro_!$A$5:$I$358,5,FALSE),0)","v":1},40]
["80301032","0301032","Gelación por etanol",0,{"$f":"IFERROR(VLOOKUP($A41,Filtro_!$A$5:$I$358,3,FALSE),0)","v":0},{"$f":"IFERROR(VLOOKUP($A41,Filtro_!$A$5:$I$358,4,FALSE),0)","v":0},{"$f":"IFERROR(VLOOKUP($A41,Filtro_!$A$5:$I$358,5,FALSE),0)","v":0},41]
["80301033","0301033","Grupos menores. Tipificación o determinación de otros sistemas sanguíneos (Kell, Duffy, Kidd y otros) c/u.",0,{"$f":"IFERROR(VLOOKUP($A42,Filtro_!$A$5:$I$358,3,FALSE),0)","v":0},{"$f":"IFERROR(VLOOKUP($A42,Filtro_!$A$5:$I$358,4,FALSE),0)","v":0},{"$f":"IFERROR(VLOOKUP($A42,Filtro_!$A$5:$I$358,5,FALSE),0)","v":0},42]
["80301034","0301034","Grupos sanguíneos AB0 y Rho (incluye estudio de factor Du en Rh negativos)",{"v":1340,"d":"1,340"},{"$f":"IFERROR(VLOOKUP($A43,Filtro_!$A$5:$I$358,3,FALSE),0)","v":0},{"$f":"IFERROR(VLOOKUP($A43,Filtro_!$A$5:$I$358,4,FALSE),0)","v":{"v":1340,"d":"1,340"}},{"$f":"IFERROR(VLOOKUP($A43,Filtro_!$A$5:$I$358,5,FALSE),0)","v":{"v":2748,"d":"2,748"}},43]
["80301035","0301035","Haptoglobina cuantitativa",0,{"$f":"IFERROR(VLOOKUP($A44,Filtro_!$A$5:$I$358,3,FALSE),0)","v":0},{"$f":"IFERROR(VLOOKUP($A44,Filtro_!$A$5:$I$358,4,FALSE),0)","v":0},{"$f":"IFERROR(VLOOKUP($A44,Filtro_!$A$5:$I$358,5,FALSE),0)","v":151},44]
["80301036","0301036","Hematocrito (proc. aut.)",{"v":2849,"d":"2,849"},{"$f":"IFERROR(VLOOKUP($A45,Filtro_!$A$5:$I$358,3,FALSE),0)","v":0},{"$f":"IFERROR(VLOOKUP($A45,Filtro_!$A$5:$I$358,4,FALSE),0)","v":{"v":2849,"d":"2,849"}},{"$f":"IFERROR(VLOOKUP($A45,Filtro_!$A$5:$I$358,5,FALSE),0)","v":{"v":41855,"d":"41,855"}},45]
["80301038","0301038","Hemoglobina en sangre total (proc. aut.)",{"v":1503,"d":"1,503"},{"$f":"IFERROR(VLOOKUP($A46,Filtro_!$A$5:$I$358,3,FALSE),0)","v":0},{"$f":"IFERROR(VLOOKUP($A46,Filtro_!$A$5:$I$358,4,FALSE),0)","v":{"v":1503,"d":"1,503"}},{"$f":"IFERROR(VLOOKUP($A46,Filtro_!$A$5:$I$358,5,FALSE),0)","v":{"v":39171,"d":"39,171"}},46]
["80301039","0301039","Hemoglobina fetal cualitativa",0,{"$f":"IFERROR(VLOOKUP($A47,Filtro_!$A$5:$I$358,3,FALSE),0)","v":0},{"$f":"IFERROR(VLOOKUP($A47,Filtro_!$A$5:$I$358,4,FALSE),0)","v":0},{"$f":"IFERROR(VLOOKUP($A47,Filtro_!$A$5:$I$358,5,FALSE),0)","v":145},47]
["80301040","0301040","Hemoglobina fetal cuantitativa en eritrocitos",0,{"$f":"IFERROR(VLOOKUP($A48,Filtro_!$A$5:$I$358,3,FALSE),0)","v":0},{"$f":"IFERROR(VLOOKUP($A48,Filtro_!$A$5:$I$358,4,FALSE),0)","v":0},{"$f":"IFERROR(VLOOKUP($A48,Filtro_!$A$5:$I$358,5,FALSE),0)","v":9},48]
["80301041","0301041","Hemoglobina glicosilada",{"v":25207,"d":"25,207"},{"$f":"IFERROR(VLOOKUP($A49,Filtro_!$A$5:$I$358,3,FALSE),0)","v":0},{"$f":"IFERROR(VLOOKUP($A49,Filtro_!$A$5:$I$358,4,FALSE),0)","v":{"v":25207,"d":"25,207"}},{"$f":"IFERROR(VLOOKUP($A49,Filtro_!$A$5:$I$358,5,FALSE),0)","v":{"v":57845,"d":"57,845"}},49]
["80301042","0301042","Hemoglobina plasmática",0,{"$f":"IFERROR(VLOOKUP($A50,Filtro_!$A$5:$I$358,3,FALSE),0)","v":0},{"$f":"IFERROR(VLOOKUP($A50,Filtro_!$A$5:$I$358,4,FALSE),0)","v":0},{"$f":"IFERROR(VLOOKUP($A50,Filtro_!$A$5:$I$358,5,FALSE),0)","v":267},50]
["80301043","0301043","Hemoglobina termolabil",0,{"$f":"IFERROR(VLOOKUP($A51,Filtro_!$A$5:$I$358,3,FALSE),0)","v":0},{"$f":"IFERROR(VLOOKUP($A51,Filtro_!$A$5:$I$358,4,FALSE),0)","v":0},{"$f":"IFERROR(VLOOKUP($A51,Filtro_!$A$5:$I$358,5,FALSE),0)","v":29},51]
["80301044","0301044","Hemoglobina, electroforesis de (incluye Hb. total)",0,{"$f":"IFERROR(VLOOKUP($A52,Filtro_!$A$5:$I$358,3,FALSE),0)","v":0},{"$f":"IFERROR(VLOOKUP($A52,Filtro_!$A$5:$I$358,4,FALSE),0)","v":0},{"$f":"IFERROR(VLOOKUP($A52,Filtro_!$A$5:$I$358,5,FALSE),0)","v":18},52]
["80301045","0301045","Hemograma (incluye recuentos de leucocitos y eritrocitos, hemoglobina, hematocrito, fórmula leucocitaria, características de los elementos figurados y velocidad de eritrosedimentación)",{"v":40859,"d":"40,859"},{"$f":"IFERROR(VLOOKUP($A53,Filtro_!$A$5:$I$358,3,FALSE),0)","v":0},{"$f":"IFERROR(VLOOKUP($A53,Filtro_!$A$5:$I$358,4,FALSE),0)","v":{"v":40859,"d":"40,859"}},{"$f":"IFERROR(VLOOKUP($A53,Filtro_!$A$5:$I$358,5,FALSE),0)","v":{"v":74000,"d":"74,000"}},53]
["80301046","0301046","Hemolisinas",0,{"$f":"IFERROR(VLOOKUP($A54,Filtro_!$A$5:$I$358,3,FALSE),0)","v":0},{"$f":"IFERROR(VLOOKUP($A54,Filtro_!$A$5:$I$358,4,FALSE),0)","v":0},{"$f":"IFERROR(VLOOKUP($A54,Filtro_!$A$5:$I$358,5,FALSE),0)","v":0},54]
["80301047","0301047","Hemólisis con sucrosa, test de",0,{"$f":"IFERROR(VLOOKUP($A55,Filtro_!$A$5:$I$358,3,FALSE),0)","v":0},{"$f":"IFERROR(VLOOKUP($A55,Filtro_!$A$5:$I$358,4,FALSE),0)","v":0},{"$f":"IFERROR(VLOOKUP($A55,Filtro_!$A$5:$I$358,5,FALSE),0)","v":0},55]
["80301048","0301048","Hemosiderina medular",0,{"$f":"IFERROR(VLOOKUP($A56,Filtro_!$A$5:$I$358,3,FALSE),0)","v":0},{"$f":"IFERROR(VLOOKUP($A56,Filtro_!$A$5:$I$358,4,FALSE),0)","v":0},{"$f":"IFERROR(VLOOKUP($A56,Filtro_!$A$5:$I$358,5,FALSE),0)","v":0},56]
["80301049","0301049","Heparina, cuantificación de",0,{"$f":"IFERROR(VLOOKUP($A57,Filtro_!$A$5:$I$358,3,FALSE),0)","v":0},{"$f":"IFERROR(VLOOKUP($A57,Filtro_!$A$5:$I$358,4,FALSE),0)","v":0},{"$f":"IFERROR(VLOOKUP($A57,Filtro_!$A$5:$I$358,5,FALSE),0)","v":0},57]
["80301050","0301050","Isoinmunización, detección de anticuerpos irregulares (proc. aut.).",0,{"$f":"IFERROR(VLOOKUP($A58,Filtro_!$A$5:$I$358,3,FALSE),0)","v":0},{"$f":"IFERROR(VLOOKUP($A58,Filtro_!$A$5:$I$358,4,FALSE),0)","v":0},{"$f":"IFERROR(VLOOKUP($A58,Filtro_!$A$5:$I$358,5,FALSE),0)","v":0},58]
["80301051","0301051","Isoinmunización, detección e identificación de anticuerpos",0,{"$f":"IFERROR(VLOOKUP($A59,Filtro_!$A$5:$I$358,3,FALSE),0)","v":0},{"$f":"IFERROR(VLOOKUP($A59,Filtro_!$A$5:$I$358,4,FALSE),0)","v":0},{"$f":"IFERROR(VLOOKUP($A59,Filtro_!$A$5:$I$358,5,FALSE),0)","v":0},59]
["80301052","0301052","Isopropanol, test de",0,{"$f":"IFERROR(VLOOKUP($A60,Filtro_!$A$5:$I$358,3,FALSE),0)","v":0},{"$f":"IFERROR(VLOOKUP($A60,Filtro_!$A$5:$I$358,4,FALSE),0)","v":0},{"$f":"IFERROR(VLOOKUP($A60,Filtro_!$A$5:$I$358,5,FALSE),0)","v":0},60]
["80301053","0301053","Metahemalbúmina",0,{"$f":"IFERROR(VLOOKUP($A61,Filtro_!$A$5:$I$358,3,FALSE),0)","v":0},{"$f":"IFERROR(VLOOKUP($A61,Filtro_!$A$5:$I$358,4,FALSE),0)","v":0},{"$f":"IFERROR(VLOOKUP($A61,Filtro_!$A$5:$I$358,5,FALSE),0)","v":0},61]
["80301054","0301054","Metahemoglobina",0,{"$f":"IFERROR(VLOOKUP($A62,Filtro_!$A$5:$I$358,3,FALSE),0)","v":0},{"$f":"IFERROR(VLOOKUP($A62,Filtro_!$A$5:$I$358,4,FALSE),0)","v":0},{"$f":"IFERROR(VLOOKUP($A62,Filtro_!$A$5:$I$358,5,FALSE),0)","v":0},62]
["80301055","0301055","Muraminidasa en eritrocitos",0,{"$f":"IFERROR(VLOOKUP($A63,Filtro_!$A$5:$I$358,3,FALSE),0)","v":0},{"$f":"IFERROR(VLOOKUP($A63,Filtro_!$A$5:$I$358,4,FALSE),0)","v":0},{"$f":"IFERROR(VLOOKUP($A63,Filtro_!$A$5:$I$358,5,FALSE),0)","v":0},63]
["80301056","0301056","Piruvatoquinasa en eritrocitos",0,{"$f":"IFERROR(VLOOKUP($A64,Filtro_!$A$5:$I$358,3,FALSE),0)","v":0},{"$f":"IFERROR(VLOOKUP($A64,Filtro_!$A$5:$I$358,4,FALSE),0)","v":0},{"$f":"IFERROR(VLOOKUP($A64,Filtro_!$A$5:$I$358,5,FALSE),0)","v":0},64]
["80301057","0301057","Protamina sulfato, determinación de",0,{"$f":"IFERROR(VLOOKUP($A65,Filtro_!$A$5:$I$358,3,FALSE),0)","v":0},{"$f":"IFERROR(VLOOKUP($A65,Filtro_!$A$5:$I$358,4,FALSE),0)","v":0},{"$f":"IFERROR(VLOOKUP($A65,Filtro_!$A$5:$I$358,5,FALSE),0)","v":0},65]
["80301058","0301058","Protoporfirinas en eritrocitos",0,{"$f":"IFERROR(VLOOKUP($A66,Filtro_!$A$5:$I$358,3,FALSE),0)","v":0},{"$f":"IFERROR(VLOOKUP($A66,Filtro_!$A$5:$I$358,4,FALSE),0)","v":0},{"$f":"IFERROR(VLOOKUP($A66,Filtro_!$A$5:$I$358,5,FALSE),0)","v":63},66]
["80301059","0301059","Protrombina, tiempo de o consumo de (incluye INR, Relación Internacional Normalizada)",{"v":2796,"d":"2,796"},{"$f":"IFERROR(VLOOKUP($A67,Filtro_!$A$5:$I$358,3,FALSE),0)","v":0},{"$f":"IFERROR(VLOOKUP($A67,Filtro_!$A$5:$I$358,4,FALSE),0)","v":{"v":2796,"d":"2,796"}},{"$f":"IFERROR(VLOOKUP($A67,Filtro_!$A$5:$I$358,5,FALSE),0)","v":{"v":3740,"d":"3,740"}},67]
["80301062","0301062","Recuento de basófilos (absoluto)",0,{"$f":"IFERROR(VLOOKUP($A68,Filtro_!$A$5:$I$358,3,FALSE),0)","v":0},{"$f":"IFERROR(VLOOKUP($A68,Filtro_!$A$5:$I$358,4,FALSE),0)","v":0},{"$f":"IFERROR(VLOOKUP($A68,Filtro_!$A$5:$I$358,5,FALSE),0)","v":0},68]
["80301063","0301063","Recuento de eosinófilos (absoluto)",0,{"$f":"IFERROR(VLOOKUP($A69,Filtro_!$A$5:$I$358,3,FALSE),0)","v":0},{"$f":"IFERROR(VLOOKUP($A69,Filtro_!$A$5:$I$358,4,FALSE),0)","v":0},{"$f":"IFERROR(VLOOKUP($A69,Filtro_!$A$5:$I$358,5,FALSE),0)","v":0},69]
["80301064","0301064","Recuento de eritrocitos, absoluto (proc. aut.)",0,{"$f":"IFERROR(VLOOKUP($A70,Filtro_!$A$5:$I$358,3,FALSE),0)","v":0},{"$f":"IFERROR(VLOOKUP($A70,Filtro_!$A$5:$I$358,4,FALSE),0)","v":0},{"$f":"IFERROR(VLOOKUP($A70,Filtro_!$A$5:$I$358,5,FALSE),0)","v":0},70]
["80301065","0301065","Recuento de leucocitos, absoluto (proc. aut.)",28,{"$f":"IFERROR(VLOOKUP($A71,Filtro_!$A$5:$I$358,3,FALSE),0)","v":0},{"$f":"IFERROR(VLOOKUP($A71,Filtro_!$A$5:$I$358,4,FALSE),0)","v":28},{"$f":"IFERROR(VLOOKUP($A71,Filtro_!$A$5:$I$358,5,FALSE),0)","v":32},71]
["80301066","0301066","Recuento de linfocitos (absoluto)",0,{"$f":"IFERROR(VLOOKUP($A72,Filtro_!$A$5:$I$358,3,FALSE),0)","v":0},{"$f":"IFERROR(VLOOKUP($A72,Filtro_!$A$5:$I$358,4,FALSE),0)","v":0},{"$f":"IFERROR(VLOOKUP($A72,Filtro_!$A$5:$I$358,5,FALSE),0)","v":0},72]
["80301067","0301067","Recuento de plaquetas (absoluto)",219,{"$f":"IFERROR(VLOOKUP($A73,Filtro_!$A$5:$I$358,3,FALSE),0)","v":0},{"$f":"IFERROR(VLOOKUP($A73,Filtro_!$A$5:$I$358,4,FALSE),0)","v":219},{"$f":"IFERROR(VLOOKUP($A73,Filtro_!$A$5:$I$358,5,FALSE),0)","v":45},73]
["80301068","0301068","Recuento de reticulocitos (absoluto o porcentual)",0,{"$f":"IFERROR(VLOOKUP($A74,Filtro_!$A$5:$I$358,3,FALSE),0)","v":0},{"$f":"IFERROR(VLOOKUP($A74,Filtro_!$A$5:$I$358,4,FALSE),0)","v":0},{"$f":"IFERROR(VLOOKUP($A74,Filtro_!$A$5:$I$358,5,FALSE),0)","v":9},74]
["80301069","0301069","Recuento diferencial o fórmula leucocitaria (proc. aut.)",0,{"$f":"IFERROR(VLOOKUP($A75,Filtro_!$A$5:$I$358,3,FALSE),0)","v":0},{"$f":"IFERROR(VLOOKUP($A75,Filtro_!$A$5:$I$358,4,FALSE),0)","v":0},{"$f":"IFERROR(VLOOKUP($A75,Filtro_!$A$5:$I$358,5,FALSE),0)","v":0},75]
["80301070","0301070","Resistencia globular osmótica",0,{"$f":"IFERROR(VLOOKUP($A76,Filtro_!$A$5:$I$358,3,FALSE),0)","v":0},{"$f":"IFERROR(VLOOKUP($A76,Filtro_!$A$5:$I$358,4,FALSE),0)","v":0},{"$f":"IFERROR(VLOOKUP($A76,Filtro_!$A$5:$I$358,5,FALSE),0)","v":0},76]
["80301071","0301071","Sacarosa, prueba de la",0,{"$f":"IFERROR(VLOOKUP($A77,Filtro_!$A$5:$I$358,3,FALSE),0)","v":0},{"$f":"IFERROR(VLOOKUP($A77,Filtro_!$A$5:$I$358,4,FALSE),0)","v":0},{"$f":"IFERROR(VLOOKUP($A77,Filtro_!$A$5:$I$358,5,FALSE),0)","v":0},77]
["80301072","0301072","Sangría, tiempo de (Ivy) (no incluye dispositivo asociado )",{"$f":"SUM(E78:F78)","v":31},{"$f":"IFERROR(VLOOKUP($A78,Filtro_!$A$5:$I$358,3,FALSE),0)","v":0},{"$f":"IFERROR(VLOOKUP($A78,Filtro_!$A$5:$I$358,4,FALSE),0)","v":31},{"$f":"IFERROR(VLOOKUP($A78,Filtro_!$A$5:$I$358,5,FALSE),0)","v":0},78]
["80301074","0301074","Sobrevida del eritrocito (Cr 51 o similar)",0,{"$f":"IFERROR(VLOOKUP($A79,Filtro_!$A$5:$I$358,3,FALSE),0)","v":0},{"$f":"IFERROR(VLOOKUP($A79,Filtro_!$A$5:$I$358,4,FALSE),0)","v":0},{"$f":"IFERROR(VLOOKUP($A79,Filtro_!$A$5:$I$358,5,FALSE),0)","v":0},79]
["80301075","0301075","Subgrupo ABO y Rh fenotipo - genotipo Rh, c/u",0,{"$f":"IFERROR(VLOOKUP($A80,Filtro_!$A$5:$I$358,3,FALSE),0)","v":0},{"$f":"IFERROR(VLOOKUP($A80,Filtro_!$A$5:$I$358,4,FALSE),0)","v":0},{"$f":"IFERROR(VLOOKUP($A80,Filtro_!$A$5:$I$358,5,FALSE),0)","v":146},80]
["80301076","0301076","Thorn, prueba de (no incluye ACTH)",0,{"$f":"IFERROR(VLOOKUP($A81,Filtro_!$A$5:$I$358,3,FALSE),0)","v":0},{"$f":"IFERROR(VLOOKUP($A81,Filtro_!$A$5:$I$358,4,FALSE),0)","v":0},{"$f":"IFERROR(VLOOKUP($A81,Filtro_!$A$5:$I$358,5,FALSE),0)","v":0},81]
["80301077","0301077","Tinción de estearasa",0,{"$f":"IFERROR(VLOOKUP($A82,Filtro_!$A$5:$I$358,3,FALSE),0)","v":0},{"$f":"IFERROR(VLOOKUP($A82,Filtro_!$A$5:$I$358,4,FALSE),0)","v":0},{"$f":"IFERROR(VLOOKUP($A82,Filtro_!$A$5:$I$358,5,FALSE),0)","v":5},82]
["80301078","0301078","Tinción de fosfatasas alcalinas o ácidas",0,{"$f":"IFERROR(VLOOKUP($A83,Filtro_!$A$5:$I$358,3,FALSE),0)","v":0},{"$f":"IFERROR(VLOOKUP($A83,Filtro_!$A$5:$I$358,4,FALSE),0)","v":0},{"$f":"IFERROR(VLOOKUP($A83,Filtro_!$A$5:$I$358,5,FALSE),0)","v":26},83]
["80301079","0301079","Tinción de glicógeno o PAS",0,{"$f":"IFERROR(VLOOKUP($A84,Filtro_!$A$5:$I$358,3,FALSE),0)","v":0},{"$f":"IFERROR(VLOOKUP($A84,Filtro_!$A$5:$I$358,4,FALSE),0)","v":0},{"$f":"IFERROR(VLOOKUP($A84,Filtro_!$A$5:$I$358,5,FALSE),0)","v":0},84]
["80301080","0301080","Tinción de lípidos",0,{"$f":"IFERROR(VLOOKUP($A85,Filtro_!$A$5:$I$358,3,FALSE),0)","v":0},{"$f":"IFERROR(VLOOKUP($A85,Filtro_!$A$5:$I$358,4,FALSE),0)","v":0},{"$f":"IFERROR(VLOOKUP($A85,Filtro_!$A$5:$I$358,5,FALSE),0)","v":0},85]
["80301081","0301081","Tinción de peroxidasas",0,{"$f":"IFERROR(VLOOKUP($A86,Filtro_!$A$5:$I$358,3,FALSE),0)","v":0},{"$f":"IFERROR(VLOOKUP($A86,Filtro_!$A$5:$I$358,4,FALSE),0)","v":0},{"$f":"IFERROR(VLOOKUP($A86,Filtro_!$A$5:$I$358,5,FALSE),0)","v":0},86]
["80301082","0301082","Transferrina",0,{"$f":"IFERROR(VLOOKUP($A87,Filtro_!$A$5:$I$358,3,FALSE),0)","v":0},{"$f":"IFERROR(VLOOKUP($A87,Filtro_!$A$5:$I$358,4,FALSE),0)","v":0},{"$f":"IFERROR(VLOOKUP($A87,Filtro_!$A$5:$I$358,5,FALSE),0)","v":0},87]
["80301083","0301083","Trombina, tiempo de",0,{"$f":"IFERROR(VLOOKUP($A88,Filtro_!$A$5:$I$358,3,FALSE),0)","v":0},{"$f":"IFERROR(VLOOKUP($A88,Filtro_!$A$5:$I$358,4,FALSE),0)","v":0},{"$f":"IFERROR(VLOOKUP($A88,Filtro_!$A$5:$I$358,5,FALSE),0)","v":278},88]
["80301085","0301085","Tromboplastina, tiempo parcial de (TTPA, TTPK o similares)",985,{"$f":"IFERROR(VLOOKUP($A89,Filtro_!$A$5:$I$358,3,FALSE),0)","v":0},{"$f":"IFERROR(VLOOKUP($A89,Filtro_!$A$5:$I$358,4,FALSE),0)","v":985},{"$f":"IFERROR(VLOOKUP($A89,Filtro_!$A$5:$I$358,5,FALSE),0)","v":{"v":2070,"d":"2,070"}},89]
["80301086","0301086","Velocidad de eritrosedimentación (proc. aut.)",{"v":10771,"d":"10,771"},{"$f":"IFERROR(VLOOKUP($A90,Filtro_!$A$5:$I$358,3,FALSE),0)","v":0},{"$f":"IFERROR(VLOOKUP($A90,Filtro_!$A$5:$I$358,4,FALSE),0)","v":{"v":10771,"d":"10,771"}},{"$f":"IFERROR(VLOOKUP($A90,Filtro_!$A$5:$I$358,5,FALSE),0)","v":{"v":2226,"d":"2,226"}},90]
["80301087","0301087","Vitamina B12, absorción de (Co 57 o similar)",50,{"$f":"IFERROR(VLOOKUP($A91,Filtro_!$A$5:$I$358,3,FALSE),0)","v":0},{"$f":"IFERROR(VLOOKUP($A91,Filtro_!$A$5:$I$358,4,FALSE),0)","v":50},{"$f":"IFERROR(VLOOKUP($A91,Filtro_!$A$5:$I$358,5,FALSE),0)","v":{"v":2890,"d":"2,890"}},91]
["80301088","0301088","Volemia (incluye volumen globular total, volumen plasmático total y volumen sanguíneo total)",0,{"$f":"IFERROR(VLOOKUP($A92,Filtro_!$A$5:$I$358,3,FALSE),0)","v":0},{"$f":"IFERROR(VLOOKUP($A92,Filtro_!$A$5:$I$358,4,FALSE),0)","v":0},{"$f":"IFERROR(VLOOKUP($A92,Filtro_!$A$5:$I$358,5,FALSE),0)","v":0},92]
["80301089","0301089","Von Willebrand, Ag de (factor VIII Ag.)",0,{"$f":"IFERROR(VLOOKUP($A93,Filtro_!$A$5:$I$358,3,FALSE),0)","v":0},{"$f":"IFERROR(VLOOKUP($A93,Filtro_!$A$5:$I$358,4,FALSE),0)","v":0},{"$f":"IFERROR(VLOOKUP($A93,Filtro_!$A$5:$I$358,5,FALSE),0)","v":0},93]
["80301090","0301090","Cofactor de Ristocetina",0,{"$f":"IFERROR(VLOOKUP($A94,Filtro_!$A$5:$I$358,3,FALSE),0)","v":0},{"$f":"IFERROR(VLOOKUP($A94,Filtro_!$A$5:$I$358,4,FALSE),0)","v":0},{"$f":"IFERROR(VLOOKUP($A94,Filtro_!$A$5:$I$358,5,FALSE),0)","v":0},94]
["80301091","0301091","Proteína C",0,{"$f":"IFERROR(VLOOKUP($A95,Filtro_!$A$5:$I$358,3,FALSE),0)","v":0},{"$f":"IFERROR(VLOOKUP($A95,Filtro_!$A$5:$I$358,4,FALSE),0)","v":0},{"$f":"IFERROR(VLOOKUP($A95,Filtro_!$A$5:$I$358,5,FALSE),0)","v":0},95]
["80301092","0301092","Proteína S",0,{"$f":"IFERROR(VLOOKUP($A96,Filtro_!$A$5:$I$358,3,FALSE),0)","v":0},{"$f":"IFERROR(VLOOKUP($A96,Filtro_!$A$5:$I$358,4,FALSE),0)","v":0},{"$f":"IFERROR(VLOOKUP($A96,Filtro_!$A$5:$I$358,5,FALSE),0)","v":0},96]
["80301093","0301093","Resistencia Proteína C",0,{"$f":"IFERROR(VLOOKUP($A97,Filtro_!$A$5:$I$358,3,FALSE),0)","v":0},{"$f":"IFERROR(VLOOKUP($A97,Filtro_!$A$5:$I$358,4,FALSE),0)","v":0},{"$f":"IFERROR(VLOOKUP($A97,Filtro_!$A$5:$I$358,5,FALSE),0)","v":0},97]
[null,"TOTAL",null,{"$f":"SUM(D13:D97)","v":{"v":86640,"d":"86,640"}},{"$f":"SUM(E13:E97)","v":0},{"$f":"SUM(F13:F97)","v":{"v":86640,"d":"86,640"}},{"$f":"SUM(G13:G97)","v":{"v":231922,"d":"231,922"}},98]
[{"$nulls":7},99]
[null,"SANGRE BIOQUÍMICO",{"$nulls":5},100]
["80302001","0302001","Acetona cualitativa",{"$f":"SUM(E101:F101)","v":0},{"$f":"IFERROR(VLOOKUP($A101,Filtro_!$A$5:$I$358,3,FALSE),0)","v":0},{"$f":"IFERROR(VLOOKUP($A101,Filtro_!$A$5:$I$358,4,FALSE),0)","v":0},{"$f":"IFERROR(VLOOKUP($A101,Filtro_!$A$5:$I$358,5,FALSE),0)","v":0},101]
["80302002","0302002","Acido cítrico",0,{"$f":"IFERROR(VLOOKUP($A102,Filtro_!$A$5:$I$358,3,FALSE),0)","v":0},{"$f":"IFERROR(VLOOKUP($A102,Filtro_!$A$5:$I$358,4,FALSE),0)","v":0},{"$f":"IFERROR(VLOOKUP($A102,Filtro_!$A$5:$I$358,5,FALSE),0)","v":0},102]
["80302004","0302004","Acido láctico",0,{"$f":"IFERROR(VLOOKUP($A103,Filtro_!$A$5:$I$358,3,FALSE),0)","v":0},{"$f":"IFERROR(VLOOKUP($A103,Filtro_!$A$5:$I$358,4,FALSE),0)","v":0},{"$f":"IFERROR(VLOOKUP($A103,Filtro_!$A$5:$I$358,5,FALSE),0)","v":104},103]
["80302005","0302005","Acido úrico, en sangre",{"v":26289,"d":"26,289"},{"$f":"IFERROR(VLOOKUP($A104,Filtro_!$A$5:$I$358,3,FALSE),0)","v":0},{"$f":"IFERROR(VLOOKUP($A104,Filtro_!$A$5:$I$358,4,FALSE),0)","v":{"v":26289,"d":"26,289"}},{"$f":"IFERROR(VLOOKUP($A104,Filtro_!$A$5:$I$358,5,FALSE),0)","v":{"v":45742,"d":"45,742"}},104]
["80302006","0302006","Alcohol etílico",0,{"$f":"IFERROR(VLOOKUP($A105,Filtro_!$A$5:$I$358,3,FALSE),0)","v":0},{"$f":"IFERROR(VLOOKUP($A105,Filtro_!$A$5:$I$358,4,FALSE),0)","v":0},{"$f":"IFERROR(VLOOKUP($A105,Filtro_!$A$5:$I$358,5,FALSE),0)","v":0},105]
["80302007","0302007","Aldolasa",0,{"$f":"IFERROR(VLOOKUP($A106,Filtro_!$A$5:$I$358,3,FALSE),0)","v":0},{"$f":"IFERROR(VLOOKUP($A106,Filtro_!$A$5:$I$358,4,FALSE),0)","v":0},{"$f":"IFERROR(VLOOKUP($A106,Filtro_!$A$5:$I$358,5,FALSE),0)","v":0},106]
["80302008","0302008","Amilasa, en sangre",0,{"$f":"IFERROR(VLOOKUP($A107,Filtro_!$A$5:$I$358,3,FALSE),0)","v":0},{"$f":"IFERROR(VLOOKUP($A107,Filtro_!$A$5:$I$358,4,FALSE),0)","v":0},{"$f":"IFERROR(VLOOKUP($A107,Filtro_!$A$5:$I$358,5,FALSE),0)","v":86},107]
["80302009","0302009","Aminoácidos, cualitativo en sangre",0,{"$f":"IFERROR(VLOOKUP($A108,Filtro_!$A$5:$I$358,3,FALSE),0)","v":0},{"$f":"IFERROR(VLOOKUP($A108,Filtro_!$A$5:$I$358,4,FALSE),0)","v":0},{"$f":"IFERROR(VLOOKUP($A108,Filtro_!$A$5:$I$358,5,FALSE),0)","v":0},108]
["80302010","0302010","Amonio",0,{"$f":"IFERROR(VLOOKUP($A109,Filtro_!$A$5:$I$358,3,FALSE),0)","v":0},{"$f":"IFERROR(VLOOKUP($A109,Filtro_!$A$5:$I$358,4,FALSE),0)","v":0},{"$f":"IFERROR(VLOOKUP($A109,Filtro_!$A$5:$I$358,5,FALSE),0)","v":0},109]
["80302070","0302070","Apolipoproteínas (A1, B u otras)",0,{"$f":"IFERROR(VLOOKUP($A110,Filtro_!$A$5:$I$358,3,FALSE),0)","v":0},{"$f":"IFERROR(VLOOKUP($A110,Filtro_!$A$5:$I$358,4,FALSE),0)","v":0},{"$f":"IFERROR(VLOOKUP($A110,Filtro_!$A$5:$I$358,5,FALSE),0)","v":0},110]
["80302011","0302011","Bicarbonato (proc. aut.)",0,{"$f":"IFERROR(VLOOKUP($A111,Filtro_!$A$5:$I$358,3,FALSE),0)","v":0},{"$f":"IFERROR(VLOOKUP($A111,Filtro_!$A$5:$I$358,4,FALSE),0)","v":0},{"$f":"IFERROR(VLOOKUP($A111,Filtro_!$A$5:$I$358,5,FALSE),0)","v":0},111]
["80302012","0302012","Bilirrubina total (proc. aut.)",194,{"$f":"IFERROR(VLOOKUP($A112,Filtro_!$A$5:$I$358,3,FALSE),0)","v":0},{"$f":"IFERROR(VLOOKUP($A112,Filtro_!$A$5:$I$358,4,FALSE),0)","v":194},{"$f":"IFERROR(VLOOKUP($A112,Filtro_!$A$5:$I$358,5,FALSE),0)","v":818},112]
["80302013","0302013","Bilirrubina total y conjugada",815,{"$f":"IFERROR(VLOOKUP($A113,Filtro_!$A$5:$I$358,3,FALSE),0)","v":0},{"$f":"IFERROR(VLOOKUP($A113,Filtro_!$A$5:$I$358,4,FALSE),0)","v":815},{"$f":"IFERROR(VLOOKUP($A113,Filtro_!$A$5:$I$358,5,FALSE),0)","v":{"v":8620,"d":"8,620"}},113]
["80302014","0302014","Bromosulftaleína, prueba de (incluye medicamento y tomas de muestra)",0,{"$f":"IFERROR(VLOOKUP($A114,Filtro_!$A$5:$I$358,3,FALSE),0)","v":0},{"$f":"IFERROR(VLOOKUP($A114,Filtro_!$A$5:$I$358,4,FALSE),0)","v":0},{"$f":"IFERROR(VLOOKUP($A114,Filtro_!$A$5:$I$358,5,FALSE),0)","v":0},114]
["80302015","0302015","Calcio en sangre",39,{"$f":"IFERROR(VLOOKUP($A115,Filtro_!$A$5:$I$358,3,FALSE),0)","v":0},{"$f":"IFERROR(VLOOKUP($A115,Filtro_!$A$5:$I$358,4,FALSE),0)","v":39},{"$f":"IFERROR(VLOOKUP($A115,Filtro_!$A$5:$I$358,5,FALSE),0)","v":{"v":2084,"d":"2,084"}},115]
["80302016","0302016","Calcio iónico, incluye proteínas totales",0,{"$f":"IFERROR(VLOOKUP($A116,Filtro_!$A$5:$I$358,3,FALSE),0)","v":0},{"$f":"IFERROR(VLOOKUP($A116,Filtro_!$A$5:$I$358,4,FALSE),0)","v":0},{"$f":"IFERROR(VLOOKUP($A116,Filtro_!$A$5:$I$358,5,FALSE),0)","v":2},116]
["80302017","0302017","Caroteno",0,{"$f":"IFERROR(VLOOKUP($A117,Filtro_!$A$5:$I$358,3,FALSE),0)","v":0},{"$f":"IFERROR(VLOOKUP($A117,Filtro_!$A$5:$I$358,4,FALSE),0)","v":0},{"$f":"IFERROR(VLOOKUP($A117,Filtro_!$A$5:$I$358,5,FALSE),0)","v":0},117]
["80302018","0302018","Caroteno, prueba de sobrecarga de (incluye tomas de muestra)",0,{"$f":"IFERROR(VLOOKUP($A118,Filtro_!$A$5:$I$358,3,FALSE),0)","v":0},{"$f":"IFERROR(VLOOKUP($A118,Filtro_!$A$5:$I$358,4,FALSE),0)","v":0},{"$f":"IFERROR(VLOOKUP($A118,Filtro_!$A$5:$I$358,5,FALSE),0)","v":0},118]
["80302019","0302019","Ceruloplasmina",0,{"$f":"IFERROR(VLOOKUP($A119,Filtro_!$A$5:$I$358,3,FALSE),0)","v":0},{"$f":"IFERROR(VLOOKUP($A119,Filtro_!$A$5:$I$358,4,FALSE),0)","v":0},{"$f":"IFERROR(VLOOKUP($A119,Filtro_!$A$5:$I$358,5,FALSE),0)","v":20},119]
["80302020","0302020","Cobre",68,{"$f":"IFERROR(VLOOKUP($A120,Filtro_!$A$5:$I$358,3,FALSE),0)","v":0},{"$f":"IFERROR(VLOOKUP($A120,Filtro_!$A$5:$I$358,4,FALSE),0)","v":68},{"$f":"IFERROR(VLOOKUP($A120,Filtro_!$A$5:$I$358,5,FALSE),0)","v":1},120]
["80302067","0302067","Colesterol total (proc. aut.)",{"v":3546,"d":"3,546"},{"$f":"IFERROR(VLOOKUP($A121,Filtro_!$A$5:$I$358,3,FALSE),0)","v":0},{"$f":"IFERROR(VLOOKUP($A121,Filtro_!$A$5:$I$358,4,FALSE),0)","v":{"v":3546,"d":"3,546"}},{"$f":"IFERROR(VLOOKUP($A121,Filtro_!$A$5:$I$358,5,FALSE),0)","v":{"v":63444,"d":"63,444"}},121]
["80302068","0302068","Colesterol HDL (proc. aut.)",829,{"$f":"IFERROR(VLOOKUP($A122,Filtro_!$A$5:$I$358,3,FALSE),0)","v":0},{"$f":"IFERROR(VLOOKUP($A122,Filtro_!$A$5:$I$358,4,FALSE),0)","v":829},{"$f":"IFERROR(VLOOKUP($A122,Filtro_!$A$5:$I$358,5,FALSE),0)","v":{"v":55070,"d":"55,070"}},122]
["80302021","0302021","Colinesterasa en plasma o sangre total",0,{"$f":"IFERROR(VLOOKUP($A123,Filtro_!$A$5:$I$358,3,FALSE),0)","v":0},{"$f":"IFERROR(VLOOKUP($A123,Filtro_!$A$5:$I$358,4,FALSE),0)","v":0},{"$f":"IFERROR(VLOOKUP($A123,Filtro_!$A$5:$I$358,5,FALSE),0)","v":581},123]
["80302022","0302022","Creatina",292,{"$f":"IFERROR(VLOOKUP($A124,Filtro_!$A$5:$I$358,3,FALSE),0)","v":0},{"$f":"IFERROR(VLOOKUP($A124,Filtro_!$A$5:$I$358,4,FALSE),0)","v":292},{"$f":"IFERROR(VLOOKUP($A124,Filtro_!$A$5:$I$358,5,FALSE),0)","v":{"v":2393,"d":"2,393"}},124]
["80302023","0302023","Creatinina en sangre",{"v":39016,"d":"39,016"},{"$f":"IFERROR(VLOOKUP($A125,Filtro_!$A$5:$I$358,3,FALSE),0)","v":0},{"$f":"IFERROR(VLOOKUP($A125,Filtro_!$A$5:$I$358,4,FALSE),0)","v":{"v":39016,"d":"39,016"}},{"$f":"IFERROR(VLOOKUP($A125,Filtro_!$A$5:$I$358,5,FALSE),0)","v":{"v":102539,"d":"102,539"}},125]
["80302024","0302024","Creatinina, depuración de (Clearence) (proc. aut.)",178,{"$f":"IFERROR(VLOOKUP($A126,Filtro_!$A$5:$I$358,3,FALSE),0)","v":0},{"$f":"IFERROR(VLOOKUP($A126,Filtro_!$A$5:$I$358,4,FALSE),0)","v":178},{"$f":"IFERROR(VLOOKUP($A126,Filtro_!$A$5:$I$358,5,FALSE),0)","v":273},126]
["80302025","0302025","Creatinquinasa CK - MB  miocárdica",0,{"$f":"IFERROR(VLOOKUP($A127,Filtro_!$A$5:$I$358,3,FALSE),0)","v":0},{"$f":"IFERROR(VLOOKUP($A127,Filtro_!$A$5:$I$358,4,FALSE),0)","v":0},{"$f":"IFERROR(VLOOKUP($A127,Filtro_!$A$5:$I$358,5,FALSE),0)","v":17},127]
["80302026","0302026","Creatinquinasa CK - total",1,{"$f":"IFERROR(VLOOKUP($A128,Filtro_!$A$5:$I$358,3,FALSE),0)","v":0},{"$f":"IFERROR(VLOOKUP($A128,Filtro_!$A$5:$I$358,4,FALSE),0)","v":1},{"$f":"IFERROR(VLOOKUP($A128,Filtro_!$A$5:$I$358,5,FALSE),0)","v":430},128]
["80302028","0302028","Depuraciones (Clearance) exógenas de Hipurán, Rojo Congo, manitol e inulina, c/u (no incluye medicamento)",33,{"$f":"IFERROR(VLOOKUP($A129,Filtro_!$A$5:$I$358,3,FALSE),0)","v":0},{"$f":"IFERROR(VLOOKUP($A129,Filtro_!$A$5:$I$358,4,FALSE),0)","v":33},{"$f":"IFERROR(VLOOKUP($A129,Filtro_!$A$5:$I$358,5,FALSE),0)","v":1},129]
["80302029","0302029","Deshidrogenasa hidroxibutírica (HBDH)",0,{"$f":"IFERROR(VLOOKUP($A130,Filtro_!$A$5:$I$358,3,FALSE),0)","v":0},{"$f":"IFERROR(VLOOKUP($A130,Filtro_!$A$5:$I$358,4,FALSE),0)","v":0},{"$f":"IFERROR(VLOOKUP($A130,Filtro_!$A$5:$I$358,5,FALSE),0)","v":0},130]
["80302030","0302030","Deshidrogenasa láctica total (LDH)",26,{"$f":"IFERROR(VLOOKUP($A131,Filtro_!$A$5:$I$358,3,FALSE),0)","v":0},{"$f":"IFERROR(VLOOKUP($A131,Filtro_!$A$5:$I$358,4,FALSE),0)","v":26},{"$f":"IFERROR(VLOOKUP($A131,Filtro_!$A$5:$I$358,5,FALSE),0)","v":605},131]
["80302031","0302031","Deshidrogenasa láctica total (LDH), con separación de isoenzimas",0,{"$f":"IFERROR(VLOOKUP($A132,Filtro_!$A$5:$I$358,3,FALSE),0)","v":0},{"$f":"IFERROR(VLOOKUP($A132,Filtro_!$A$5:$I$358,4,FALSE),0)","v":0},{"$f":"IFERROR(VLOOKUP($A132,Filtro_!$A$5:$I$358,5,FALSE),0)","v":304},132]
["80302032","0302032","Electrolitos plasmáticos (sodio, potasio, cloro) c/u",{"v":71265,"d":"71,265"},{"$f":"IFERROR(VLOOKUP($A133,Filtro_!$A$5:$I$358,3,FALSE),0)","v":0},{"$f":"IFERROR(VLOOKUP($A133,Filtro_!$A$5:$I$358,4,FALSE),0)","v":{"v":71265,"d":"71,265"}},{"$f":"IFERROR(VLOOKUP($A133,Filtro_!$A$5:$I$358,5,FALSE),0)","v":{"v":86175,"d":"86,175"}},133]
["80302033","0302033","Enzima convertidora de angiotensina I",0,{"$f":"IFERROR(VLOOKUP($A134,Filtro_!$A$5:$I$358,3,FALSE),0)","v":0},{"$f":"IFERROR(VLOOKUP($A134,Filtro_!$A$5:$I$358,4,FALSE),0)","v":0},{"$f":"IFERROR(VLOOKUP($A134,Filtro_!$A$5:$I$358,5,FALSE),0)","v":{"v":1270,"d":"1,270"}},134]
["80302034","0302034","Perfil Lipídico (incluye: colesterol total, HDL, LDL, VLDL y triglicéridos) ",{"v":46154,"d":"46,154"},{"$f":"IFERROR(VLOOKUP($A135,Filtro_!$A$5:$I$358,3,FALSE),0)","v":0},{"$f":"IFERROR(VLOOKUP($A135,Filtro_!$A$5:$I$358,4,FALSE),0)","v":{"v":46154,"d":"46,154"}},{"$f":"IFERROR(VLOOKUP($A135,Filtro_!$A$5:$I$358,5,FALSE),0)","v":{"v":73758,"d":"73,758"}},135]
["80302035","0302035","Fármacos y/o drogas; niveles plasmáticos de (alcohol, anorexígenos, antiarrítmicos, antibióticos, antidepresivos, antiepilépticos, antihistamínicos, antiinflamatorios y analgésicos, estimulantes respiratorios, tranquilizantes mayores y menores, etc.) c/u",0,{"$f":"IFERROR(VLOOKUP($A136,Filtro_!$A$5:$I$358,3,FALSE),0)","v":0},{"$f":"IFERROR(VLOOKUP($A136,Filtro_!$A$5:$I$358,4,FALSE),0)","v":0},{"$f":"IFERROR(VLOOKUP($A136,Filtro_!$A$5:$I$358,5,FALSE),0)","v":169},136]
["80302036","0302036","Fenilalanina",0,{"$f":"IFERROR(VLOOKUP($A137,Filtro_!$A$5:$I$358,3,FALSE),0)","v":0},{"$f":"IFERROR(VLOOKUP($A137,Filtro_!$A$5:$I$358,4,FALSE),0)","v":0},{"$f":"IFERROR(VLOOKUP($A137,Filtro_!$A$5:$I$358,5,FALSE),0)","v":0},137]
["80302037","0302037","Fosfatasas ácidas totales",0,{"$f":"IFERROR(VLOOKUP($A138,Filtro_!$A$5:$I$358,3,FALSE),0)","v":0},{"$f":"IFERROR(VLOOKUP($A138,Filtro_!$A$5:$I$358,4,FALSE),0)","v":0},{"$f":"IFERROR(VLOOKUP($A138,Filtro_!$A$5:$I$358,5,FALSE),0)","v":0},138]
["80302038","0302038","Fosfatasas ácidas totales y fracción prostática",0,{"$f":"IFERROR(VLOOKUP($A139,Filtro_!$A$5:$I$358,3,FALSE),0)","v":0},{"$f":"IFERROR(VLOOKUP($A139,Filtro_!$A$5:$I$358,4,FALSE),0)","v":0},{"$f":"IFERROR(VLOOKUP($A139,Filtro_!$A$5:$I$358,5,FALSE),0)","v":0},139]
["80302039","0302039","Fosfatasas alcalinas con separación de isoenzimas hepáticas, intestinales, óseas c/u",0,{"$f":"IFERROR(VLOOKUP($A140,Filtro_!$A$5:$I$358,3,FALSE),0)","v":0},{"$f":"IFERROR(VLOOKUP($A140,Filtro_!$A$5:$I$358,4,FALSE),0)","v":0},{"$f":"IFERROR(VLOOKUP($A140,Filtro_!$A$5:$I$358,5,FALSE),0)","v":4},140]
["80302040","0302040","Fosfatasas alcalinas totales",365,{"$f":"IFERROR(VLOOKUP($A141,Filtro_!$A$5:$I$358,3,FALSE),0)","v":0},{"$f":"IFERROR(VLOOKUP($A141,Filtro_!$A$5:$I$358,4,FALSE),0)","v":365},{"$f":"IFERROR(VLOOKUP($A141,Filtro_!$A$5:$I$358,5,FALSE),0)","v":{"v":7755,"d":"7,755"}},141]
["80302041","0302041","Fosfolípidos",0,{"$f":"IFERROR(VLOOKUP($A142,Filtro_!$A$5:$I$358,3,FALSE),0)","v":0},{"$f":"IFERROR(VLOOKUP($A142,Filtro_!$A$5:$I$358,4,FALSE),0)","v":0},{"$f":"IFERROR(VLOOKUP($A142,Filtro_!$A$5:$I$358,5,FALSE),0)","v":0},142]
["80302042","0302042","Fósforo (fosfatos) en sangre",30,{"$f":"IFERROR(VLOOKUP($A143,Filtro_!$A$5:$I$358,3,FALSE),0)","v":0},{"$f":"IFERROR(VLOOKUP($A143,Filtro_!$A$5:$I$358,4,FALSE),0)","v":30},{"$f":"IFERROR(VLOOKUP($A143,Filtro_!$A$5:$I$358,5,FALSE),0)","v":509},143]
["80302043","0302043","Galactosa",0,{"$f":"IFERROR(VLOOKUP($A144,Filtro_!$A$5:$I$358,3,FALSE),0)","v":0},{"$f":"IFERROR(VLOOKUP($A144,Filtro_!$A$5:$I$358,4,FALSE),0)","v":0},{"$f":"IFERROR(VLOOKUP($A144,Filtro_!$A$5:$I$358,5,FALSE),0)","v":0},144]
["80302044","0302044","Galactosa, curva de tolerancia, (mínimo cuatro determinaciones) (no incluye la galactosa que se administra) (incluye los valores de todas las tomas de muestras necesarias)",0,{"$f":"IFERROR(VLOOKUP($A145,Filtro_!$A$5:$I$358,3,FALSE),0)","v":0},{"$f":"IFERROR(VLOOKUP($A145,Filtro_!$A$5:$I$358,4,FALSE),0)","v":0},{"$f":"IFERROR(VLOOKUP($A145,Filtro_!$A$5:$I$358,5,FALSE),0)","v":0},145]
["80302045","0302045","Gamma glutamiltranspeptidasa (GGT)",243,{"$f":"IFERROR(VLOOKUP($A146,Filtro_!$A$5:$I$358,3,FALSE),0)","v":0},{"$f":"IFERROR(VLOOKUP($A146,Filtro_!$A$5:$I$358,4,FALSE),0)","v":243},{"$f":"IFERROR(VLOOKUP($A146,Filtro_!$A$5:$I$358,5,FALSE),0)","v":{"v":1427,"d":"1,427"}},146]
["80302046","0302046","Gases y equilibrio ácido base en sangre (incluye: pH, O2, CO2, exceso de base y bicarbonato), todos o cada uno de los parámetros",0,{"$f":"IFERROR(VLOOKUP($A147,Filtro_!$A$5:$I$358,3,FALSE),0)","v":0},{"$f":"IFERROR(VLOOKUP($A147,Filtro_!$A$5:$I$358,4,FALSE),0)","v":0},{"$f":"IFERROR(VLOOKUP($A147,Filtro_!$A$5:$I$358,5,FALSE),0)","v":432},147]
["80302047","0302047","Glucosa en sangre",{"v":53458,"d":"53,458"},{"$f":"IFERROR(VLOOKUP($A148,Filtro_!$A$5:$I$358,3,FALSE),0)","v":0},{"$f":"IFERROR(VLOOKUP($A148,Filtro_!$A$5:$I$358,4,FALSE),0)","v":{"v":53458,"d":"53,458"}},{"$f":"IFERROR(VLOOKUP($A148,Filtro_!$A$5:$I$358,5,FALSE),0)","v":{"v":133266,"d":"133,266"}},148]
["80302048","0302048","Glucosa, Prueba de Tolerancia a la Glucosa Oral (PTGO), (dos determinaciones) (no incluye la glucosa que se administra) (incluye el valor de las dos tomas de muestras)",{"v":4582,"d":"4,582"},{"$f":"IFERROR(VLOOKUP($A149,Filtro_!$A$5:$I$358,3,FALSE),0)","v":0},{"$f":"IFERROR(VLOOKUP($A149,Filtro_!$A$5:$I$358,4,FALSE),0)","v":{"v":4582,"d":"4,582"}},{"$f":"IFERROR(VLOOKUP($A149,Filtro_!$A$5:$I$358,5,FALSE),0)","v":{"v":9734,"d":"9,734"}},149]
["80302050","0302050","Adenosindeaminasa en sangre u otro fluído biológico.",0,{"$f":"IFERROR(VLOOKUP($A150,Filtro_!$A$5:$I$358,3,FALSE),0)","v":0},{"$f":"IFERROR(VLOOKUP($A150,Filtro_!$A$5:$I$358,4,FALSE),0)","v":0},{"$f":"IFERROR(VLOOKUP($A150,Filtro_!$A$5:$I$358,5,FALSE),0)","v":20},150]
["80302051","0302051","Lactosa, curva de tolerancia, (mínimo cuatro determinaciones) (no incluye la lactosa que se administra) (incluye los valores de todas las tomas de muestras necesarias)",0,{"$f":"IFERROR(VLOOKUP($A151,Filtro_!$A$5:$I$358,3,FALSE),0)","v":0},{"$f":"IFERROR(VLOOKUP($A151,Filtro_!$A$5:$I$358,4,FALSE),0)","v":0},{"$f":"IFERROR(VLOOKUP($A151,Filtro_!$A$5:$I$358,5,FALSE),0)","v":29},151]
["80302052","0302052","Leucinaminopeptidasa (LAP)",0,{"$f":"IFERROR(VLOOKUP($A152,Filtro_!$A$5:$I$358,3,FALSE),0)","v":0},{"$f":"IFERROR(VLOOKUP($A152,Filtro_!$A$5:$I$358,4,FALSE),0)","v":0},{"$f":"IFERROR(VLOOKUP($A152,Filtro_!$A$5:$I$358,5,FALSE),0)","v":0},152]
["80302053","0302053","Lipasa",0,{"$f":"IFERROR(VLOOKUP($A153,Filtro_!$A$5:$I$358,3,FALSE),0)","v":0},{"$f":"IFERROR(VLOOKUP($A153,Filtro_!$A$5:$I$358,4,FALSE),0)","v":0},{"$f":"IFERROR(VLOOKUP($A153,Filtro_!$A$5:$I$358,5,FALSE),0)","v":5},153]
["80302069","0302069","Lípidos totales (proc. aut.)",0,{"$f":"IFERROR(VLOOKUP($A154,Filtro_!$A$5:$I$358,3,FALSE),0)","v":0},{"$f":"IFERROR(VLOOKUP($A154,Filtro_!$A$5:$I$358,4,FALSE),0)","v":0},{"$f":"IFERROR(VLOOKUP($A154,Filtro_!$A$5:$I$358,5,FALSE),0)","v":{"v":2931,"d":"2,931"}},154]
["80302054","0302054","Lipoproteínas, electroforesis de (incluye lípidos totales)",0,{"$f":"IFERROR(VLOOKUP($A155,Filtro_!$A$5:$I$358,3,FALSE),0)","v":0},{"$f":"IFERROR(VLOOKUP($A155,Filtro_!$A$5:$I$358,4,FALSE),0)","v":0},{"$f":"IFERROR(VLOOKUP($A155,Filtro_!$A$5:$I$358,5,FALSE),0)","v":7},155]
["80302055","0302055","Litio",0,{"$f":"IFERROR(VLOOKUP($A156,Filtro_!$A$5:$I$358,3,FALSE),0)","v":0},{"$f":"IFERROR(VLOOKUP($A156,Filtro_!$A$5:$I$358,4,FALSE),0)","v":0},{"$f":"IFERROR(VLOOKUP($A156,Filtro_!$A$5:$I$358,5,FALSE),0)","v":0},156]
["80302056","0302056","Magnesio",0,{"$f":"IFERROR(VLOOKUP($A157,Filtro_!$A$5:$I$358,3,FALSE),0)","v":0},{"$f":"IFERROR(VLOOKUP($A157,Filtro_!$A$5:$I$358,4,FALSE),0)","v":0},{"$f":"IFERROR(VLOOKUP($A157,Filtro_!$A$5:$I$358,5,FALSE),0)","v":3},157]
["80302057","0302057","Nitrógeno ureico y/o úrea en sangre",{"v":24253,"d":"24,253"},{"$f":"IFERROR(VLOOKUP($A158,Filtro_!$A$5:$I$358,3,FALSE),0)","v":0},{"$f":"IFERROR(VLOOKUP($A158,Filtro_!$A$5:$I$358,4,FALSE),0)","v":{"v":24253,"d":"24,253"}},{"$f":"IFERROR(VLOOKUP($A158,Filtro_!$A$5:$I$358,5,FALSE),0)","v":{"v":44084,"d":"44,084"}},158]
["80302058","0302058","Osmolalidad en sangre",0,{"$f":"IFERROR(VLOOKUP($A159,Filtro_!$A$5:$I$358,3,FALSE),0)","v":0},{"$f":"IFERROR(VLOOKUP($A159,Filtro_!$A$5:$I$358,4,FALSE),0)","v":0},{"$f":"IFERROR(VLOOKUP($A159,Filtro_!$A$5:$I$358,5,FALSE),0)","v":1},159]
["80302075","0302075","Perfil bioquímico (determinación automatizada de 12 parámetros)",35,{"$f":"IFERROR(VLOOKUP($A160,Filtro_!$A$5:$I$358,3,FALSE),0)","v":0},{"$f":"IFERROR(VLOOKUP($A160,Filtro_!$A$5:$I$358,4,FALSE),0)","v":35},{"$f":"IFERROR(VLOOKUP($A160,Filtro_!$A$5:$I$358,5,FALSE),0)","v":{"v":1242,"d":"1,242"}},160]
["80302059","0302059","Proteínas fraccionadas albúmina/globulina (incluye código 03-02-060)",896,{"$f":"IFERROR(VLOOKUP($A161,Filtro_!$A$5:$I$358,3,FALSE),0)","v":0},{"$f":"IFERROR(VLOOKUP($A161,Filtro_!$A$5:$I$358,4,FALSE),0)","v":896},{"$f":"IFERROR(VLOOKUP($A161,Filtro_!$A$5:$I$358,5,FALSE),0)","v":68},161]
["80302060","0302060","Proteínas totales o albúminas, c/u en sangre",960,{"$f":"IFERROR(VLOOKUP($A162,Filtro_!$A$5:$I$358,3,FALSE),0)","v":0},{"$f":"IFERROR(VLOOKUP($A162,Filtro_!$A$5:$I$358,4,FALSE),0)","v":960},{"$f":"IFERROR(VLOOKUP($A162,Filtro_!$A$5:$I$358,5,FALSE),0)","v":{"v":3172,"d":"3,172"}},162]
["80302061","0302061","Proteínas, electroforesis (incluye cód. 03-02-060)",0,{"$f":"IFERROR(VLOOKUP($A163,Filtro_!$A$5:$I$358,3,FALSE),0)","v":0},{"$f":"IFERROR(VLOOKUP($A163,Filtro_!$A$5:$I$358,4,FALSE),0)","v":0},{"$f":"IFERROR(VLOOKUP($A163,Filtro_!$A$5:$I$358,5,FALSE),0)","v":0},163]
["80302062","0302062","Salicilemia cuantitativa        ",0,{"$f":"IFERROR(VLOOKUP($A164,Filtro_!$A$5:$I$358,3,FALSE),0)","v":0},{"$f":"IFERROR(VLOOKUP($A164,Filtro_!$A$5:$I$358,4,FALSE),0)","v":0},{"$f":"IFERROR(VLOOKUP($A164,Filtro_!$A$5:$I$358,5,FALSE),0)","v":184},164]
["80302076","0302076","Perfil Hepático (incluye tiempo de protrombina, bilirrubina total y conjugada, fosfatasas alcalinas totales, GGT, transaminasas GOT/AST y GPT/ALT)",{"$f":"SUM(E165:F165)","v":{"v":22629,"d":"22,629"}},{"$f":"IFERROR(VLOOKUP($A165,Filtro_!$A$5:$I$358,3,FALSE),0)","v":0},{"$f":"IFERROR(VLOOKUP($A165,Filtro_!$A$5:$I$358,4,FALSE),0)","v":{"v":22629,"d":"22,629"}},{"$f":"IFERROR(VLOOKUP($A165,Filtro_!$A$5:$I$358,5,FALSE),0)","v":{"v":24124,"d":"24,124"}},165]
["80302063","0302063","Transaminasas, oxalacética (GOT/AST), Pirúvica (GPT/ALT), c/u",660,{"$f":"IFERROR(VLOOKUP($A166,Filtro_!$A$5:$I$358,3,FALSE),0)","v":0},{"$f":"IFERROR(VLOOKUP($A166,Filtro_!$A$5:$I$358,4,FALSE),0)","v":660},{"$f":"IFERROR(VLOOKUP($A166,Filtro_!$A$5:$I$358,5,FALSE),0)","v":{"v":19740,"d":"19,740"}},166]
["80302064","0302064","Triglicéridos (proc. aut.)",{"v":1681,"d":"1,681"},{"$f":"IFERROR(VLOOKUP($A167,Filtro_!$A$5:$I$358,3,FALSE),0)","v":0},{"$f":"IFERROR(VLOOKUP($A167,Filtro_!$A$5:$I$358,4,FALSE),0)","v":{"v":1681,"d":"1,681"}},{"$f":"IFERROR(VLOOKUP($A167,Filtro_!$A$5:$I$358,5,FALSE),0)","v":{"v":57569,"d":"57,569"}},167]
["80302065","0302065","Vitaminas A, B, C, D, E, etc., c/u",0,{"$f":"IFERROR(VLOOKUP($A168,Filtro_!$A$5:$I$358,3,FALSE),0)","v":0},{"$f":"IFERROR(VLOOKUP($A168,Filtro_!$A$5:$I$358,4,FALSE),0)","v":0},{"$f":"IFERROR(VLOOKUP($A168,Filtro_!$A$5:$I$358,5,FALSE),0)","v":379},168]
["80302066","0302066","Xilosa, prueba de absorción (no incluye la xilosa que se administra)",0,{"$f":"IFERROR(VLOOKUP($A169,Filtro_!$A$5:$I$358,3,FALSE),0)","v":0},{"$f":"IFERROR(VLOOKUP($A169,Filtro_!$A$5:$I$358,4,FALSE),0)","v":0},{"$f":"IFERROR(VLOOKUP($A169,Filtro_!$A$5:$I$358,5,FALSE),0)","v":0},169]
[null,"TOTAL",null,{"$f":"SUM(D101:D169)","v":{"v":298537,"d":"298,537"}},{"$f":"SUM(E101:E169)","v":0},{"$f":"SUM(F101:F169)","v":{"v":298537,"d":"298,537"}},{"$f":"SUM(G101:G169)","v":{"v":751191,"d":"751,191"}},170]
[{"$nulls":7},171]
[null," EXÁMENES HORMONALES",{"$nulls":5},172]
["80303015","0303015","Hormona folículo estimulante (FSH)",{"$f":"SUM(E173:F173)","v":11},{"$f":"IFERROR(VLOOKUP($A173,Filtro_!$A$5:$I$358,3,FALSE),0)","v":0},{"$f":"IFERROR(VLOOKUP($A173,Filtro_!$A$5:$I$358,4,FALSE),0)","v":11},{"$f":"IFERROR(VLOOKUP($A173,Filtro_!$A$5:$I$358,5,FALSE),0)","v":202},173]
["80303024","0303024","Tiroestimulante (TSH), hormona (adulto, niño o R.N.)                            ",{"v":33352,"d":"33,352"},{"$f":"IFERROR(VLOOKUP($A174,Filtro_!$A$5:$I$358,3,FALSE),0)","v":0},{"$f":"IFERROR(VLOOKUP($A174,Filtro_!$A$5:$I$358,4,FALSE),0)","v":{"v":33352,"d":"33,352"}},{"$f":"IFERROR(VLOOKUP($A174,Filtro_!$A$5:$I$358,5,FALSE),0)","v":{"v":86908,"d":"86,908"}},174]
["80303025","0303025","Tiroglobulina                                                                                   ",0,{"$f":"IFERROR(VLOOKUP($A175,Filtro_!$A$5:$I$358,3,FALSE),0)","v":0},{"$f":"IFERROR(VLOOKUP($A175,Filtro_!$A$5:$I$358,4,FALSE),0)","v":0},{"$f":"IFERROR(VLOOKUP($A175,Filtro_!$A$5:$I$358,5,FALSE),0)","v":39},175]
["80303026","0303026","Tiroxina libre (T4L)                                                                       ",{"v":23985,"d":"23,985"},{"$f":"IFERROR(VLOOKUP($A176,Filtro_!$A$5:$I$358,3,FALSE),0)","v":0},{"$f":"IFERROR(VLOOKUP($A176,Filtro_!$A$5:$I$358,4,FALSE),0)","v":{"v":23985,"d":"23,985"}},{"$f":"IFERROR(VLOOKUP($A176,Filtro_!$A$5:$I$358,5,FALSE),0)","v":{"v":31679,"d":"31,679"}},176]
["80303027","0303027","Tiroxina o tetrayodotironina (T4)                                               ",509,{"$f":"IFERROR(VLOOKUP($A177,Filtro_!$A$5:$I$358,3,FALSE),0)","v":0},{"$f":"IFERROR(VLOOKUP($A177,Filtro_!$A$5:$I$358,4,FALSE),0)","v":509},{"$f":"IFERROR(VLOOKUP($A177,Filtro_!$A$5:$I$358,5,FALSE),0)","v":116},177]
["80303028","0303028","Triyodotironina (T3)                                                               ",332,{"$f":"IFERROR(VLOOKUP($A178,Filtro_!$A$5:$I$358,3,FALSE),0)","v":0},{"$f":"IFERROR(VLOOKUP($A178,Filtro_!$A$5:$I$358,4,FALSE),0)","v":332},{"$f":"IFERROR(VLOOKUP($A178,Filtro_!$A$5:$I$358,5,FALSE),0)","v":51},178]
[null,"TOTAL",null,{"$f":"SUM(D173:D178)","v":{"v":58189,"d":"58,189"}},{"$f":"SUM(E173:E178)","v":0},{"$f":"SUM(F173:F178)","v":{"v":58189,"d":"58,189"}},{"$f":"SUM(G173:G178)","v":{"v":118995,"d":"118,995"}},179]
[{"$nulls":7},180]
[null,"INMUNOLÓGICOS",{"$nulls":5},181]
["80305001","0305001","Alfa -1- antitripsina cuantitativa",{"$f":"SUM(E182:F182)","v":0},{"$f":"IFERROR(VLOOKUP($A182,Filtro_!$A$5:$I$358,3,FALSE),0)","v":0},{"$f":"IFERROR(VLOOKUP($A182,Filtro_!$A$5:$I$358,4,FALSE),0)","v":0},{"$f":"IFERROR(VLOOKUP($A182,Filtro_!$A$5:$I$358,5,FALSE),0)","v":0},182]
["80305002","0305002","Alfa -2- macroglobulina",0,{"$f":"IFERROR(VLOOKUP($A183,Filtro_!$A$5:$I$358,3,FALSE),0)","v":0},{"$f":"IFERROR(VLOOKUP($A183,Filtro_!$A$5:$I$358,4,FALSE),0)","v":0},{"$f":"IFERROR(VLOOKUP($A183,Filtro_!$A$5:$I$358,5,FALSE),0)","v":0},183]
["80305003","0305003","Alfa fetoproteínas",0,{"$f":"IFERROR(VLOOKUP($A184,Filtro_!$A$5:$I$358,3,FALSE),0)","v":0},{"$f":"IFERROR(VLOOKUP($A184,Filtro_!$A$5:$I$358,4,FALSE),0)","v":0},{"$f":"IFERROR(VLOOKUP($A184,Filtro_!$A$5:$I$358,5,FALSE),0)","v":0},184]
["80305004","0305004","Tamizaje de Anticuerpos anti antígenos nucleares extractables (a- ENA: Sm, RNP, Ro, La, Scl- 70 y Jo- 1)",0,{"$f":"IFERROR(VLOOKUP($A185,Filtro_!$A$5:$I$358,3,FALSE),0)","v":0},{"$f":"IFERROR(VLOOKUP($A185,Filtro_!$A$5:$I$358,4,FALSE),0)","v":0},{"$f":"IFERROR(VLOOKUP($A185,Filtro_!$A$5:$I$358,5,FALSE),0)","v":3},185]
["80305005","0305005","Anticuerpos antinucleares (ANA), antimitocondriales, anti DNA (ADNA), anti músculo liso, anticentrómero, u otros, c/u.",0,{"$f":"IFERROR(VLOOKUP($A186,Filtro_!$A$5:$I$358,3,FALSE),0)","v":0},{"$f":"IFERROR(VLOOKUP($A186,Filtro_!$A$5:$I$358,4,FALSE),0)","v":0},{"$f":"IFERROR(VLOOKUP($A186,Filtro_!$A$5:$I$358,5,FALSE),0)","v":382},186]
["80305006","0305006","Anticuerpos atípicos, pannel de identificación",0,{"$f":"IFERROR(VLOOKUP($A187,Filtro_!$A$5:$I$358,3,FALSE),0)","v":0},{"$f":"IFERROR(VLOOKUP($A187,Filtro_!$A$5:$I$358,4,FALSE),0)","v":0},{"$f":"IFERROR(VLOOKUP($A187,Filtro_!$A$5:$I$358,5,FALSE),0)","v":0},187]
["80305007","0305007","Anticuerpos específicos y otros autoanticuerpos (anticuerpos antitiroídeos: anticuerpos antimicrosomales y antitiroglobulinas y otros anticuerpos: prostático, espermios, etc.) c/u",0,{"$f":"IFERROR(VLOOKUP($A188,Filtro_!$A$5:$I$358,3,FALSE),0)","v":0},{"$f":"IFERROR(VLOOKUP($A188,Filtro_!$A$5:$I$358,4,FALSE),0)","v":0},{"$f":"IFERROR(VLOOKUP($A188,Filtro_!$A$5:$I$358,5,FALSE),0)","v":1},188]
["80305008","0305008","Antiestreptolisina O, por técnica de látex ",0,{"$f":"IFERROR(VLOOKUP($A189,Filtro_!$A$5:$I$358,3,FALSE),0)","v":0},{"$f":"IFERROR(VLOOKUP($A189,Filtro_!$A$5:$I$358,4,FALSE),0)","v":0},{"$f":"IFERROR(VLOOKUP($A189,Filtro_!$A$5:$I$358,5,FALSE),0)","v":0},189]
["80305009","0305009","Antígeno carcinoembrionario (CEA)",0,{"$f":"IFERROR(VLOOKUP($A190,Filtro_!$A$5:$I$358,3,FALSE),0)","v":0},{"$f":"IFERROR(VLOOKUP($A190,Filtro_!$A$5:$I$358,4,FALSE),0)","v":0},{"$f":"IFERROR(VLOOKUP($A190,Filtro_!$A$5:$I$358,5,FALSE),0)","v":0},190]
["80305070","0305070","Antígeno prostático específico",{"v":1850,"d":"1,850"},{"$f":"IFERROR(VLOOKUP($A191,Filtro_!$A$5:$I$358,3,FALSE),0)","v":0},{"$f":"IFERROR(VLOOKUP($A191,Filtro_!$A$5:$I$358,4,FALSE),0)","v":{"v":1850,"d":"1,850"}},{"$f":"IFERROR(VLOOKUP($A191,Filtro_!$A$5:$I$358,5,FALSE),0)","v":{"v":6710,"d":"6,710"}},191]
["80305170","0305170","Antígeno Ca 125, Ca 15-3 y Ca 19-9, c/u",0,{"$f":"IFERROR(VLOOKUP($A192,Filtro_!$A$5:$I$358,3,FALSE),0)","v":0},{"$f":"IFERROR(VLOOKUP($A192,Filtro_!$A$5:$I$358,4,FALSE),0)","v":0},{"$f":"IFERROR(VLOOKUP($A192,Filtro_!$A$5:$I$358,5,FALSE),0)","v":98},192]
["80305010","0305010","Beta-2-microglobulina",0,{"$f":"IFERROR(VLOOKUP($A193,Filtro_!$A$5:$I$358,3,FALSE),0)","v":0},{"$f":"IFERROR(VLOOKUP($A193,Filtro_!$A$5:$I$358,4,FALSE),0)","v":0},{"$f":"IFERROR(VLOOKUP($A193,Filtro_!$A$5:$I$358,5,FALSE),0)","v":9},193]
["80305011","0305011","Complejos inmunes circulantes",0,{"$f":"IFERROR(VLOOKUP($A194,Filtro_!$A$5:$I$358,3,FALSE),0)","v":0},{"$f":"IFERROR(VLOOKUP($A194,Filtro_!$A$5:$I$358,4,FALSE),0)","v":0},{"$f":"IFERROR(VLOOKUP($A194,Filtro_!$A$5:$I$358,5,FALSE),0)","v":0},194]
["80305012","0305012","Complemento C1Q, C2, C3, C4, etc., c/u",0,{"$f":"IFERROR(VLOOKUP($A195,Filtro_!$A$5:$I$358,3,FALSE),0)","v":0},{"$f":"IFERROR(VLOOKUP($A195,Filtro_!$A$5:$I$358,4,FALSE),0)","v":0},{"$f":"IFERROR(VLOOKUP($A195,Filtro_!$A$5:$I$358,5,FALSE),0)","v":5},195]
["80305013","0305013","Complemento hemolítico (CH 50)",0,{"$f":"IFERROR(VLOOKUP($A196,Filtro_!$A$5:$I$358,3,FALSE),0)","v":0},{"$f":"IFERROR(VLOOKUP($A196,Filtro_!$A$5:$I$358,4,FALSE),0)","v":0},{"$f":"IFERROR(VLOOKUP($A196,Filtro_!$A$5:$I$358,5,FALSE),0)","v":0},196]
["80305014","0305014","Crioglobulinas, precipitación en frío (cualitativa) o cuantitativa c/u",0,{"$f":"IFERROR(VLOOKUP($A197,Filtro_!$A$5:$I$358,3,FALSE),0)","v":0},{"$f":"IFERROR(VLOOKUP($A197,Filtro_!$A$5:$I$358,4,FALSE),0)","v":0},{"$f":"IFERROR(VLOOKUP($A197,Filtro_!$A$5:$I$358,5,FALSE),0)","v":0},197]
["80305015","0305015","Depósito de complejos inmunes por inmunofluorescencia",0,{"$f":"IFERROR(VLOOKUP($A198,Filtro_!$A$5:$I$358,3,FALSE),0)","v":0},{"$f":"IFERROR(VLOOKUP($A198,Filtro_!$A$5:$I$358,4,FALSE),0)","v":0},{"$f":"IFERROR(VLOOKUP($A198,Filtro_!$A$5:$I$358,5,FALSE),0)","v":0},198]
["80305016","0305016","Depósito de complemento por inmunofluorescencia (C3, C4), c/u",0,{"$f":"IFERROR(VLOOKUP($A199,Filtro_!$A$5:$I$358,3,FALSE),0)","v":0},{"$f":"IFERROR(VLOOKUP($A199,Filtro_!$A$5:$I$358,4,FALSE),0)","v":0},{"$f":"IFERROR(VLOOKUP($A199,Filtro_!$A$5:$I$358,5,FALSE),0)","v":0},199]
["80305017","0305017","Depósito de fibrinógeno por inmunofluorescencia",0,{"$f":"IFERROR(VLOOKUP($A200,Filtro_!$A$5:$I$358,3,FALSE),0)","v":0},{"$f":"IFERROR(VLOOKUP($A200,Filtro_!$A$5:$I$358,4,FALSE),0)","v":0},{"$f":"IFERROR(VLOOKUP($A200,Filtro_!$A$5:$I$358,5,FALSE),0)","v":0},200]
["80305018","0305018","Depósito de inmunoglobulina por inmunofluorescencia (IgG, IgA, IgM) c/u",0,{"$f":"IFERROR(VLOOKUP($A201,Filtro_!$A$5:$I$358,3,FALSE),0)","v":0},{"$f":"IFERROR(VLOOKUP($A201,Filtro_!$A$5:$I$358,4,FALSE),0)","v":0},{"$f":"IFERROR(VLOOKUP($A201,Filtro_!$A$5:$I$358,5,FALSE),0)","v":0},201]
["80305019","0305019","Factor reumatoídeo por técnica de látex u otras similares",{"v":1428,"d":"1,428"},{"$f":"IFERROR(VLOOKUP($A202,Filtro_!$A$5:$I$358,3,FALSE),0)","v":0},{"$f":"IFERROR(VLOOKUP($A202,Filtro_!$A$5:$I$358,4,FALSE),0)","v":{"v":1428,"d":"1,428"}},{"$f":"IFERROR(VLOOKUP($A202,Filtro_!$A$5:$I$358,5,FALSE),0)","v":{"v":3142,"d":"3,142"}},202]
["80305020","0305020","Factor reumatoídeo por técnica Scat, Waaler Rose, nefelométricas y/o turbidimétricas",19,{"$f":"IFERROR(VLOOKUP($A203,Filtro_!$A$5:$I$358,3,FALSE),0)","v":0},{"$f":"IFERROR(VLOOKUP($A203,Filtro_!$A$5:$I$358,4,FALSE),0)","v":19},{"$f":"IFERROR(VLOOKUP($A203,Filtro_!$A$5:$I$358,5,FALSE),0)","v":243},203]
["80305021","0305021","Inhibidor de C1Q, C2 y C3, c/u",0,{"$f":"IFERROR(VLOOKUP($A204,Filtro_!$A$5:$I$358,3,FALSE),0)","v":0},{"$f":"IFERROR(VLOOKUP($A204,Filtro_!$A$5:$I$358,4,FALSE),0)","v":0},{"$f":"IFERROR(VLOOKUP($A204,Filtro_!$A$5:$I$358,5,FALSE),0)","v":0},204]
["80305025","0305025","Inmunofijación de inmunoglobulina, c/u",0,{"$f":"IFERROR(VLOOKUP($A205,Filtro_!$A$5:$I$358,3,FALSE),0)","v":0},{"$f":"IFERROR(VLOOKUP($A205,Filtro_!$A$5:$I$358,4,FALSE),0)","v":0},{"$f":"IFERROR(VLOOKUP($A205,Filtro_!$A$5:$I$358,5,FALSE),0)","v":0},205]
["80305026","0305026","Inmunoglobulina IgA secretora",0,{"$f":"IFERROR(VLOOKUP($A206,Filtro_!$A$5:$I$358,3,FALSE),0)","v":0},{"$f":"IFERROR(VLOOKUP($A206,Filtro_!$A$5:$I$358,4,FALSE),0)","v":0},{"$f":"IFERROR(VLOOKUP($A206,Filtro_!$A$5:$I$358,5,FALSE),0)","v":0},206]
["80305027","0305027","Inmunoglobulinas IgA, IgG, IgM, c/u",0,{"$f":"IFERROR(VLOOKUP($A207,Filtro_!$A$5:$I$358,3,FALSE),0)","v":0},{"$f":"IFERROR(VLOOKUP($A207,Filtro_!$A$5:$I$358,4,FALSE),0)","v":0},{"$f":"IFERROR(VLOOKUP($A207,Filtro_!$A$5:$I$358,5,FALSE),0)","v":4},207]
["80305028","0305028","Inmunoglobulinas IgE, IgD total, c/u",0,{"$f":"IFERROR(VLOOKUP($A208,Filtro_!$A$5:$I$358,3,FALSE),0)","v":0},{"$f":"IFERROR(VLOOKUP($A208,Filtro_!$A$5:$I$358,4,FALSE),0)","v":0},{"$f":"IFERROR(VLOOKUP($A208,Filtro_!$A$5:$I$358,5,FALSE),0)","v":0},208]
["80305029","0305029","Inmunoglobulinas IgE, IgG específicas, c/u",0,{"$f":"IFERROR(VLOOKUP($A209,Filtro_!$A$5:$I$358,3,FALSE),0)","v":0},{"$f":"IFERROR(VLOOKUP($A209,Filtro_!$A$5:$I$358,4,FALSE),0)","v":0},{"$f":"IFERROR(VLOOKUP($A209,Filtro_!$A$5:$I$358,5,FALSE),0)","v":0},209]
["80305030","0305030","Proteína C reactiva por técnica de látex u otras similares",2,{"$f":"IFERROR(VLOOKUP($A210,Filtro_!$A$5:$I$358,3,FALSE),0)","v":0},{"$f":"IFERROR(VLOOKUP($A210,Filtro_!$A$5:$I$358,4,FALSE),0)","v":2},{"$f":"IFERROR(VLOOKUP($A210,Filtro_!$A$5:$I$358,5,FALSE),0)","v":685},210]
["80305031","0305031","Proteína C reactiva por técnicas nefelométricas y/o turbidimétricas",0,{"$f":"IFERROR(VLOOKUP($A211,Filtro_!$A$5:$I$358,3,FALSE),0)","v":0},{"$f":"IFERROR(VLOOKUP($A211,Filtro_!$A$5:$I$358,4,FALSE),0)","v":0},{"$f":"IFERROR(VLOOKUP($A211,Filtro_!$A$5:$I$358,5,FALSE),0)","v":0},211]
["80305034","0305034","Quimiotaxis-leucotaxis",0,{"$f":"IFERROR(VLOOKUP($A212,Filtro_!$A$5:$I$358,3,FALSE),0)","v":0},{"$f":"IFERROR(VLOOKUP($A212,Filtro_!$A$5:$I$358,4,FALSE),0)","v":0},{"$f":"IFERROR(VLOOKUP($A212,Filtro_!$A$5:$I$358,5,FALSE),0)","v":0},212]
["80305035","0305035","Crioaglutininas",0,{"$f":"IFERROR(VLOOKUP($A213,Filtro_!$A$5:$I$358,3,FALSE),0)","v":0},{"$f":"IFERROR(VLOOKUP($A213,Filtro_!$A$5:$I$358,4,FALSE),0)","v":0},{"$f":"IFERROR(VLOOKUP($A213,Filtro_!$A$5:$I$358,5,FALSE),0)","v":0},213]
["80305036","0305036","Criohemolisinas",0,{"$f":"IFERROR(VLOOKUP($A214,Filtro_!$A$5:$I$358,3,FALSE),0)","v":0},{"$f":"IFERROR(VLOOKUP($A214,Filtro_!$A$5:$I$358,4,FALSE),0)","v":0},{"$f":"IFERROR(VLOOKUP($A214,Filtro_!$A$5:$I$358,5,FALSE),0)","v":0},214]
["80305037","0305037","Digestión fagocítica nitroblue-tetrazolium cualitativo y cuantitativo",0,{"$f":"IFERROR(VLOOKUP($A215,Filtro_!$A$5:$I$358,3,FALSE),0)","v":0},{"$f":"IFERROR(VLOOKUP($A215,Filtro_!$A$5:$I$358,4,FALSE),0)","v":0},{"$f":"IFERROR(VLOOKUP($A215,Filtro_!$A$5:$I$358,5,FALSE),0)","v":0},215]
["80305038","0305038","Fagocitosis: ingestión y digestión (killing) de levaduras por polimorfonucleares",0,{"$f":"IFERROR(VLOOKUP($A216,Filtro_!$A$5:$I$358,3,FALSE),0)","v":0},{"$f":"IFERROR(VLOOKUP($A216,Filtro_!$A$5:$I$358,4,FALSE),0)","v":0},{"$f":"IFERROR(VLOOKUP($A216,Filtro_!$A$5:$I$358,5,FALSE),0)","v":0},216]
["80305039","0305039","Fagocitosis: ingestión y digestión (killing) de bacterias por polimorfonucleares",0,{"$f":"IFERROR(VLOOKUP($A217,Filtro_!$A$5:$I$358,3,FALSE),0)","v":0},{"$f":"IFERROR(VLOOKUP($A217,Filtro_!$A$5:$I$358,4,FALSE),0)","v":0},{"$f":"IFERROR(VLOOKUP($A217,Filtro_!$A$5:$I$358,5,FALSE),0)","v":0},217]
["80305040","0305040","Inmunoadherencia de leucocitos macrófagos",0,{"$f":"IFERROR(VLOOKUP($A218,Filtro_!$A$5:$I$358,3,FALSE),0)","v":0},{"$f":"IFERROR(VLOOKUP($A218,Filtro_!$A$5:$I$358,4,FALSE),0)","v":0},{"$f":"IFERROR(VLOOKUP($A218,Filtro_!$A$5:$I$358,5,FALSE),0)","v":2},218]
["80305041","0305041","Intradermoreacción (PPD, histoplasmina, aspergilina, u otros, incluye el valor del antígeno y reacción de control), c/u. ",0,{"$f":"IFERROR(VLOOKUP($A219,Filtro_!$A$5:$I$358,3,FALSE),0)","v":0},{"$f":"IFERROR(VLOOKUP($A219,Filtro_!$A$5:$I$358,4,FALSE),0)","v":0},{"$f":"IFERROR(VLOOKUP($A219,Filtro_!$A$5:$I$358,5,FALSE),0)","v":0},219]
["80305042","0305042","LIF o MIF",0,{"$f":"IFERROR(VLOOKUP($A220,Filtro_!$A$5:$I$358,3,FALSE),0)","v":0},{"$f":"IFERROR(VLOOKUP($A220,Filtro_!$A$5:$I$358,4,FALSE),0)","v":0},{"$f":"IFERROR(VLOOKUP($A220,Filtro_!$A$5:$I$358,5,FALSE),0)","v":3},220]
["80305043","0305043","Linfocitos B (inmunofluorescencia)",0,{"$f":"IFERROR(VLOOKUP($A221,Filtro_!$A$5:$I$358,3,FALSE),0)","v":0},{"$f":"IFERROR(VLOOKUP($A221,Filtro_!$A$5:$I$358,4,FALSE),0)","v":0},{"$f":"IFERROR(VLOOKUP($A221,Filtro_!$A$5:$I$358,5,FALSE),0)","v":0},221]
["80305044","0305044","Linfocitos B (rosetas EAC) y linfocitos T (rosetas E) c/u",0,{"$f":"IFERROR(VLOOKUP($A222,Filtro_!$A$5:$I$358,3,FALSE),0)","v":0},{"$f":"IFERROR(VLOOKUP($A222,Filtro_!$A$5:$I$358,4,FALSE),0)","v":0},{"$f":"IFERROR(VLOOKUP($A222,Filtro_!$A$5:$I$358,5,FALSE),0)","v":0},222]
["80305045","0305045","Linfocitos T \"helper\" (OKT4) o supresores (OKT8) con antisuero monoclonal, c/u",0,{"$f":"IFERROR(VLOOKUP($A223,Filtro_!$A$5:$I$358,3,FALSE),0)","v":0},{"$f":"IFERROR(VLOOKUP($A223,Filtro_!$A$5:$I$358,4,FALSE),0)","v":0},{"$f":"IFERROR(VLOOKUP($A223,Filtro_!$A$5:$I$358,5,FALSE),0)","v":1},223]
["80305047","0305047","Linfotoxinas humanas, detección de",0,{"$f":"IFERROR(VLOOKUP($A224,Filtro_!$A$5:$I$358,3,FALSE),0)","v":0},{"$f":"IFERROR(VLOOKUP($A224,Filtro_!$A$5:$I$358,4,FALSE),0)","v":0},{"$f":"IFERROR(VLOOKUP($A224,Filtro_!$A$5:$I$358,5,FALSE),0)","v":240},224]
["80305048","0305048","Reacción cutánea 16 alergenos por escarificación (incluye el valor de los antígenos)",0,{"$f":"IFERROR(VLOOKUP($A225,Filtro_!$A$5:$I$358,3,FALSE),0)","v":0},{"$f":"IFERROR(VLOOKUP($A225,Filtro_!$A$5:$I$358,4,FALSE),0)","v":0},{"$f":"IFERROR(VLOOKUP($A225,Filtro_!$A$5:$I$358,5,FALSE),0)","v":0},225]
["80305049","0305049","Transformación linfoblástica a drogas, análisis de transformación espontanea con estimulo inespecífico y con diferentes concentraciones de la droga en 1000 células",0,{"$f":"IFERROR(VLOOKUP($A226,Filtro_!$A$5:$I$358,3,FALSE),0)","v":0},{"$f":"IFERROR(VLOOKUP($A226,Filtro_!$A$5:$I$358,4,FALSE),0)","v":0},{"$f":"IFERROR(VLOOKUP($A226,Filtro_!$A$5:$I$358,5,FALSE),0)","v":0},226]
["80305051","0305051","Absorción de autoanticuerpos del receptor",0,{"$f":"IFERROR(VLOOKUP($A227,Filtro_!$A$5:$I$358,3,FALSE),0)","v":0},{"$f":"IFERROR(VLOOKUP($A227,Filtro_!$A$5:$I$358,4,FALSE),0)","v":0},{"$f":"IFERROR(VLOOKUP($A227,Filtro_!$A$5:$I$358,5,FALSE),0)","v":0},227]
["80305052","0305052","Anticuerpos linfocitotóxicos (PRA) por microlinfocitotoxicidad",0,{"$f":"IFERROR(VLOOKUP($A228,Filtro_!$A$5:$I$358,3,FALSE),0)","v":0},{"$f":"IFERROR(VLOOKUP($A228,Filtro_!$A$5:$I$358,4,FALSE),0)","v":0},{"$f":"IFERROR(VLOOKUP($A228,Filtro_!$A$5:$I$358,5,FALSE),0)","v":0},228]
["80305053","0305053","Autocrossmatch con linfocitos T y B",0,{"$f":"IFERROR(VLOOKUP($A229,Filtro_!$A$5:$I$358,3,FALSE),0)","v":0},{"$f":"IFERROR(VLOOKUP($A229,Filtro_!$A$5:$I$358,4,FALSE),0)","v":0},{"$f":"IFERROR(VLOOKUP($A229,Filtro_!$A$5:$I$358,5,FALSE),0)","v":0},229]
["80305054","0305054","Autocross match con linfocitos totales",0,{"$f":"IFERROR(VLOOKUP($A230,Filtro_!$A$5:$I$358,3,FALSE),0)","v":0},{"$f":"IFERROR(VLOOKUP($A230,Filtro_!$A$5:$I$358,4,FALSE),0)","v":0},{"$f":"IFERROR(VLOOKUP($A230,Filtro_!$A$5:$I$358,5,FALSE),0)","v":0},230]
["80305056","0305056","Alocrossmatch con linfocitos totales",0,{"$f":"IFERROR(VLOOKUP($A231,Filtro_!$A$5:$I$358,3,FALSE),0)","v":0},{"$f":"IFERROR(VLOOKUP($A231,Filtro_!$A$5:$I$358,4,FALSE),0)","v":0},{"$f":"IFERROR(VLOOKUP($A231,Filtro_!$A$5:$I$358,5,FALSE),0)","v":0},231]
["80305057","0305057","Alocrossmatch con linfocitos T y B",0,{"$f":"IFERROR(VLOOKUP($A232,Filtro_!$A$5:$I$358,3,FALSE),0)","v":0},{"$f":"IFERROR(VLOOKUP($A232,Filtro_!$A$5:$I$358,4,FALSE),0)","v":0},{"$f":"IFERROR(VLOOKUP($A232,Filtro_!$A$5:$I$358,5,FALSE),0)","v":0},232]
["80305058","0305058","Cultivo mixto de linfocitos",0,{"$f":"IFERROR(VLOOKUP($A233,Filtro_!$A$5:$I$358,3,FALSE),0)","v":0},{"$f":"IFERROR(VLOOKUP($A233,Filtro_!$A$5:$I$358,4,FALSE),0)","v":0},{"$f":"IFERROR(VLOOKUP($A233,Filtro_!$A$5:$I$358,5,FALSE),0)","v":0},233]
["80305059","0305059","Identificación de clase de inmunoglobulinas de auto o alo cross match positivo",0,{"$f":"IFERROR(VLOOKUP($A234,Filtro_!$A$5:$I$358,3,FALSE),0)","v":0},{"$f":"IFERROR(VLOOKUP($A234,Filtro_!$A$5:$I$358,4,FALSE),0)","v":0},{"$f":"IFERROR(VLOOKUP($A234,Filtro_!$A$5:$I$358,5,FALSE),0)","v":0},234]
["80305060","0305060","Tipificación HLA B-27",0,{"$f":"IFERROR(VLOOKUP($A235,Filtro_!$A$5:$I$358,3,FALSE),0)","v":0},{"$f":"IFERROR(VLOOKUP($A235,Filtro_!$A$5:$I$358,4,FALSE),0)","v":0},{"$f":"IFERROR(VLOOKUP($A235,Filtro_!$A$5:$I$358,5,FALSE),0)","v":0},235]
["80305061","0305061","Tipificación HLA B-8",0,{"$f":"IFERROR(VLOOKUP($A236,Filtro_!$A$5:$I$358,3,FALSE),0)","v":0},{"$f":"IFERROR(VLOOKUP($A236,Filtro_!$A$5:$I$358,4,FALSE),0)","v":0},{"$f":"IFERROR(VLOOKUP($A236,Filtro_!$A$5:$I$358,5,FALSE),0)","v":0},236]
["80305062","0305062","Tipificación HLA  - DR serológica",0,{"$f":"IFERROR(VLOOKUP($A237,Filtro_!$A$5:$I$358,3,FALSE),0)","v":0},{"$f":"IFERROR(VLOOKUP($A237,Filtro_!$A$5:$I$358,4,FALSE),0)","v":0},{"$f":"IFERROR(VLOOKUP($A237,Filtro_!$A$5:$I$358,5,FALSE),0)","v":0},237]
["80305063","0305063","Tipificación HLA - A, B serológica",4,{"$f":"IFERROR(VLOOKUP($A238,Filtro_!$A$5:$I$358,3,FALSE),0)","v":0},{"$f":"IFERROR(VLOOKUP($A238,Filtro_!$A$5:$I$358,4,FALSE),0)","v":4},{"$f":"IFERROR(VLOOKUP($A238,Filtro_!$A$5:$I$358,5,FALSE),0)","v":0},238]
[null,"TOTAL",null,{"$f":"SUM(D182:D238)","v":{"v":3303,"d":"3,303"}},{"$f":"SUM(E182:E238)","v":0},{"$f":"SUM(F182:F238)","v":{"v":3303,"d":"3,303"}},{"$f":"SUM(G182:G238)","v":{"v":11528,"d":"11,528"}},239]
[{"$nulls":7},240]
[null,"MICROBIOLÓGICOS",{"$nulls":5},241]
["80306001","0306001","Baciloscopía Ziehl-Neelsen por concentración de líquidos (orina u otros), c/u",{"$f":"SUM(E242:F242)","v":13},{"$f":"IFERROR(VLOOKUP($A242,Filtro_!$A$5:$I$358,3,FALSE),0)","v":0},{"$f":"IFERROR(VLOOKUP($A242,Filtro_!$A$5:$I$358,4,FALSE),0)","v":13},{"$f":"IFERROR(VLOOKUP($A242,Filtro_!$A$5:$I$358,5,FALSE),0)","v":144},242]
["80306002","0306002","Baciloscopía Ziehl-Neelsen, c/u",5,{"$f":"IFERROR(VLOOKUP($A243,Filtro_!$A$5:$I$358,3,FALSE),0)","v":0},{"$f":"IFERROR(VLOOKUP($A243,Filtro_!$A$5:$I$358,4,FALSE),0)","v":5},{"$f":"IFERROR(VLOOKUP($A243,Filtro_!$A$5:$I$358,5,FALSE),0)","v":{"v":1656,"d":"1,656"}},243]
["80306004","0306004","Examen directo al fresco, c/s tinción (incluye trichomonas)",16,{"$f":"IFERROR(VLOOKUP($A244,Filtro_!$A$5:$I$358,3,FALSE),0)","v":0},{"$f":"IFERROR(VLOOKUP($A244,Filtro_!$A$5:$I$358,4,FALSE),0)","v":16},{"$f":"IFERROR(VLOOKUP($A244,Filtro_!$A$5:$I$358,5,FALSE),0)","v":1},244]
["80306005","0306005","Tinción de Gram",291,{"$f":"IFERROR(VLOOKUP($A245,Filtro_!$A$5:$I$358,3,FALSE),0)","v":0},{"$f":"IFERROR(VLOOKUP($A245,Filtro_!$A$5:$I$358,4,FALSE),0)","v":291},{"$f":"IFERROR(VLOOKUP($A245,Filtro_!$A$5:$I$358,5,FALSE),0)","v":14},245]
["80306006","0306006","Ultramicroscopía (incluye toma de muestras)",0,{"$f":"IFERROR(VLOOKUP($A246,Filtro_!$A$5:$I$358,3,FALSE),0)","v":0},{"$f":"IFERROR(VLOOKUP($A246,Filtro_!$A$5:$I$358,4,FALSE),0)","v":0},{"$f":"IFERROR(VLOOKUP($A246,Filtro_!$A$5:$I$358,5,FALSE),0)","v":0},246]
["80306007","0306007","Coprocultivo, c/u",275,{"$f":"IFERROR(VLOOKUP($A247,Filtro_!$A$5:$I$358,3,FALSE),0)","v":0},{"$f":"IFERROR(VLOOKUP($A247,Filtro_!$A$5:$I$358,4,FALSE),0)","v":275},{"$f":"IFERROR(VLOOKUP($A247,Filtro_!$A$5:$I$358,5,FALSE),0)","v":223},247]
["80306008","0306008","Corriente (excepto coprocultivo, hemocultivo y urocultivo) c/u",237,{"$f":"IFERROR(VLOOKUP($A248,Filtro_!$A$5:$I$358,3,FALSE),0)","v":0},{"$f":"IFERROR(VLOOKUP($A248,Filtro_!$A$5:$I$358,4,FALSE),0)","v":237},{"$f":"IFERROR(VLOOKUP($A248,Filtro_!$A$5:$I$358,5,FALSE),0)","v":370},248]
["80306009","0306009","Hemocultivo aerobio, c/u",0,{"$f":"IFERROR(VLOOKUP($A249,Filtro_!$A$5:$I$358,3,FALSE),0)","v":0},{"$f":"IFERROR(VLOOKUP($A249,Filtro_!$A$5:$I$358,4,FALSE),0)","v":0},{"$f":"IFERROR(VLOOKUP($A249,Filtro_!$A$5:$I$358,5,FALSE),0)","v":0},249]
["80306010","0306010","Hemocultivo anaerobio, c/u",0,{"$f":"IFERROR(VLOOKUP($A250,Filtro_!$A$5:$I$358,3,FALSE),0)","v":0},{"$f":"IFERROR(VLOOKUP($A250,Filtro_!$A$5:$I$358,4,FALSE),0)","v":0},{"$f":"IFERROR(VLOOKUP($A250,Filtro_!$A$5:$I$358,5,FALSE),0)","v":0},250]
["80306011","0306011","Urocultivo, recuento de colonias y antibiograma (cualquier técnica) (incluye toma de orina aséptica) (no incluye recolector pediátrico)",{"v":10255,"d":"10,255"},{"$f":"IFERROR(VLOOKUP($A251,Filtro_!$A$5:$I$358,3,FALSE),0)","v":0},{"$f":"IFERROR(VLOOKUP($A251,Filtro_!$A$5:$I$358,4,FALSE),0)","v":{"v":10255,"d":"10,255"}},{"$f":"IFERROR(VLOOKUP($A251,Filtro_!$A$5:$I$358,5,FALSE),0)","v":{"v":19111,"d":"19,111"}},251]
["80306012","0306012","Anaerobios (incluye cód. 03-06-008)",0,{"$f":"IFERROR(VLOOKUP($A252,Filtro_!$A$5:$I$358,3,FALSE),0)","v":0},{"$f":"IFERROR(VLOOKUP($A252,Filtro_!$A$5:$I$358,4,FALSE),0)","v":0},{"$f":"IFERROR(VLOOKUP($A252,Filtro_!$A$5:$I$358,5,FALSE),0)","v":1},252]
["80306013","0306013","Cultivo específico para Bordetella",0,{"$f":"IFERROR(VLOOKUP($A253,Filtro_!$A$5:$I$358,3,FALSE),0)","v":0},{"$f":"IFERROR(VLOOKUP($A253,Filtro_!$A$5:$I$358,4,FALSE),0)","v":0},{"$f":"IFERROR(VLOOKUP($A253,Filtro_!$A$5:$I$358,5,FALSE),0)","v":0},253]
["80306014","0306014","Cultivo para Campylobacter, Yersinia, Vibrio, c/u",0,{"$f":"IFERROR(VLOOKUP($A254,Filtro_!$A$5:$I$358,3,FALSE),0)","v":0},{"$f":"IFERROR(VLOOKUP($A254,Filtro_!$A$5:$I$358,4,FALSE),0)","v":0},{"$f":"IFERROR(VLOOKUP($A254,Filtro_!$A$5:$I$358,5,FALSE),0)","v":0},254]
["80306015","0306015","Difteria",0,{"$f":"IFERROR(VLOOKUP($A255,Filtro_!$A$5:$I$358,3,FALSE),0)","v":0},{"$f":"IFERROR(VLOOKUP($A255,Filtro_!$A$5:$I$358,4,FALSE),0)","v":0},{"$f":"IFERROR(VLOOKUP($A255,Filtro_!$A$5:$I$358,5,FALSE),0)","v":0},255]
["80306016","0306016","Neisseria gonorrhoeae (gonococo)",0,{"$f":"IFERROR(VLOOKUP($A256,Filtro_!$A$5:$I$358,3,FALSE),0)","v":0},{"$f":"IFERROR(VLOOKUP($A256,Filtro_!$A$5:$I$358,4,FALSE),0)","v":0},{"$f":"IFERROR(VLOOKUP($A256,Filtro_!$A$5:$I$358,5,FALSE),0)","v":0},256]
["80306017","0306017","Cultivo para Levaduras",0,{"$f":"IFERROR(VLOOKUP($A257,Filtro_!$A$5:$I$358,3,FALSE),0)","v":0},{"$f":"IFERROR(VLOOKUP($A257,Filtro_!$A$5:$I$358,4,FALSE),0)","v":0},{"$f":"IFERROR(VLOOKUP($A257,Filtro_!$A$5:$I$358,5,FALSE),0)","v":0},257]
["80306117","0306117","Hongos Filamentosos",16,{"$f":"IFERROR(VLOOKUP($A258,Filtro_!$A$5:$I$358,3,FALSE),0)","v":0},{"$f":"IFERROR(VLOOKUP($A258,Filtro_!$A$5:$I$358,4,FALSE),0)","v":16},{"$f":"IFERROR(VLOOKUP($A258,Filtro_!$A$5:$I$358,5,FALSE),0)","v":0},258]
["80306018","0306018","Cultivo para bacilo de Koch, (incluye otras micobacterias)",1,{"$f":"IFERROR(VLOOKUP($A259,Filtro_!$A$5:$I$358,3,FALSE),0)","v":0},{"$f":"IFERROR(VLOOKUP($A259,Filtro_!$A$5:$I$358,4,FALSE),0)","v":1},{"$f":"IFERROR(VLOOKUP($A259,Filtro_!$A$5:$I$358,5,FALSE),0)","v":167},259]
["80306019","0306019","Cultivo para Legionella",0,{"$f":"IFERROR(VLOOKUP($A260,Filtro_!$A$5:$I$358,3,FALSE),0)","v":0},{"$f":"IFERROR(VLOOKUP($A260,Filtro_!$A$5:$I$358,4,FALSE),0)","v":0},{"$f":"IFERROR(VLOOKUP($A260,Filtro_!$A$5:$I$358,5,FALSE),0)","v":0},260]
["80306020","0306020","Listeria",0,{"$f":"IFERROR(VLOOKUP($A261,Filtro_!$A$5:$I$358,3,FALSE),0)","v":0},{"$f":"IFERROR(VLOOKUP($A261,Filtro_!$A$5:$I$358,4,FALSE),0)","v":0},{"$f":"IFERROR(VLOOKUP($A261,Filtro_!$A$5:$I$358,5,FALSE),0)","v":0},261]
["80306021","0306021","Neisseria meningitidis (meningococo)",0,{"$f":"IFERROR(VLOOKUP($A262,Filtro_!$A$5:$I$358,3,FALSE),0)","v":0},{"$f":"IFERROR(VLOOKUP($A262,Filtro_!$A$5:$I$358,4,FALSE),0)","v":0},{"$f":"IFERROR(VLOOKUP($A262,Filtro_!$A$5:$I$358,5,FALSE),0)","v":0},262]
["80306022","0306022","Cultivo y Tipificación de micobacterias",0,{"$f":"IFERROR(VLOOKUP($A263,Filtro_!$A$5:$I$358,3,FALSE),0)","v":0},{"$f":"IFERROR(VLOOKUP($A263,Filtro_!$A$5:$I$358,4,FALSE),0)","v":0},{"$f":"IFERROR(VLOOKUP($A263,Filtro_!$A$5:$I$358,5,FALSE),0)","v":24},263]
["80306023","0306023","Mycoplasma y Ureaplasma, c/u",0,{"$f":"IFERROR(VLOOKUP($A264,Filtro_!$A$5:$I$358,3,FALSE),0)","v":0},{"$f":"IFERROR(VLOOKUP($A264,Filtro_!$A$5:$I$358,4,FALSE),0)","v":0},{"$f":"IFERROR(VLOOKUP($A264,Filtro_!$A$5:$I$358,5,FALSE),0)","v":1},264]
["80306024","0306024","Anaerobios  (mínimo 4 fármacos)",0,{"$f":"IFERROR(VLOOKUP($A265,Filtro_!$A$5:$I$358,3,FALSE),0)","v":0},{"$f":"IFERROR(VLOOKUP($A265,Filtro_!$A$5:$I$358,4,FALSE),0)","v":0},{"$f":"IFERROR(VLOOKUP($A265,Filtro_!$A$5:$I$358,5,FALSE),0)","v":0},265]
["80306025","0306025","Bacilo de Koch (cada fármaco)",0,{"$f":"IFERROR(VLOOKUP($A266,Filtro_!$A$5:$I$358,3,FALSE),0)","v":0},{"$f":"IFERROR(VLOOKUP($A266,Filtro_!$A$5:$I$358,4,FALSE),0)","v":0},{"$f":"IFERROR(VLOOKUP($A266,Filtro_!$A$5:$I$358,5,FALSE),0)","v":0},266]
["80306026","0306026","Corriente (mínimo 10 fármacos) (en caso de urocultivo no corresponde su cobro; incluido en el valor 03-06-011)",{"v":1606,"d":"1,606"},{"$f":"IFERROR(VLOOKUP($A267,Filtro_!$A$5:$I$358,3,FALSE),0)","v":0},{"$f":"IFERROR(VLOOKUP($A267,Filtro_!$A$5:$I$358,4,FALSE),0)","v":{"v":1606,"d":"1,606"}},{"$f":"IFERROR(VLOOKUP($A267,Filtro_!$A$5:$I$358,5,FALSE),0)","v":3},267]
["80306027","0306027","Estudio de sensibilidad por dilución (CIM) (mínimo 6 fármacos) (en caso de urocultivo, no corresponde su cobro; incluido en el valor código 03-06-011)",0,{"$f":"IFERROR(VLOOKUP($A268,Filtro_!$A$5:$I$358,3,FALSE),0)","v":0},{"$f":"IFERROR(VLOOKUP($A268,Filtro_!$A$5:$I$358,4,FALSE),0)","v":0},{"$f":"IFERROR(VLOOKUP($A268,Filtro_!$A$5:$I$358,5,FALSE),0)","v":0},268]
["80306028","0306028","Antifungigrama (mínimo 4 fármacos antihongos)",0,{"$f":"IFERROR(VLOOKUP($A269,Filtro_!$A$5:$I$358,3,FALSE),0)","v":0},{"$f":"IFERROR(VLOOKUP($A269,Filtro_!$A$5:$I$358,4,FALSE),0)","v":0},{"$f":"IFERROR(VLOOKUP($A269,Filtro_!$A$5:$I$358,5,FALSE),0)","v":0},269]
["80306029","0306029","Autovacunas, incluye cultivo y preparación  de mínimo 10 ampollas",0,{"$f":"IFERROR(VLOOKUP($A270,Filtro_!$A$5:$I$358,3,FALSE),0)","v":0},{"$f":"IFERROR(VLOOKUP($A270,Filtro_!$A$5:$I$358,4,FALSE),0)","v":0},{"$f":"IFERROR(VLOOKUP($A270,Filtro_!$A$5:$I$358,5,FALSE),0)","v":0},270]
["80306030","0306030","Poder bactericida del suero",0,{"$f":"IFERROR(VLOOKUP($A271,Filtro_!$A$5:$I$358,3,FALSE),0)","v":0},{"$f":"IFERROR(VLOOKUP($A271,Filtro_!$A$5:$I$358,4,FALSE),0)","v":0},{"$f":"IFERROR(VLOOKUP($A271,Filtro_!$A$5:$I$358,5,FALSE),0)","v":0},271]
["80306031","0306031","Preparación de vacunas uni o polivalentes mantenidas en stock (mínimo 5 ampollas)",0,{"$f":"IFERROR(VLOOKUP($A272,Filtro_!$A$5:$I$358,3,FALSE),0)","v":0},{"$f":"IFERROR(VLOOKUP($A272,Filtro_!$A$5:$I$358,4,FALSE),0)","v":0},{"$f":"IFERROR(VLOOKUP($A272,Filtro_!$A$5:$I$358,5,FALSE),0)","v":0},272]
["80306032","0306032","Aspergilosis, candidiasis, histoplasmosis u otros hongos por inmunodiagnóstico c/u",0,{"$f":"IFERROR(VLOOKUP($A273,Filtro_!$A$5:$I$358,3,FALSE),0)","v":0},{"$f":"IFERROR(VLOOKUP($A273,Filtro_!$A$5:$I$358,4,FALSE),0)","v":0},{"$f":"IFERROR(VLOOKUP($A273,Filtro_!$A$5:$I$358,5,FALSE),0)","v":0},273]
["80306033","0306033","Brucella, reacción de aglutinación para (Wright-Hudleson) o similares",0,{"$f":"IFERROR(VLOOKUP($A274,Filtro_!$A$5:$I$358,3,FALSE),0)","v":0},{"$f":"IFERROR(VLOOKUP($A274,Filtro_!$A$5:$I$358,4,FALSE),0)","v":0},{"$f":"IFERROR(VLOOKUP($A274,Filtro_!$A$5:$I$358,5,FALSE),0)","v":0},274]
["80306034","0306034","Clamidias por inmunofluorescencia, peroxidasa, Elisa o similares",0,{"$f":"IFERROR(VLOOKUP($A275,Filtro_!$A$5:$I$358,3,FALSE),0)","v":0},{"$f":"IFERROR(VLOOKUP($A275,Filtro_!$A$5:$I$358,4,FALSE),0)","v":0},{"$f":"IFERROR(VLOOKUP($A275,Filtro_!$A$5:$I$358,5,FALSE),0)","v":0},275]
["80306036","0306036","Mononucleosis, reacción de Paul Bunnell, Anticuerpos Heterófilos o similares",0,{"$f":"IFERROR(VLOOKUP($A276,Filtro_!$A$5:$I$358,3,FALSE),0)","v":0},{"$f":"IFERROR(VLOOKUP($A276,Filtro_!$A$5:$I$358,4,FALSE),0)","v":0},{"$f":"IFERROR(VLOOKUP($A276,Filtro_!$A$5:$I$358,5,FALSE),0)","v":0},276]
["80306037","0306037","Mycoplasma IgG, IgM, c/u. ",0,{"$f":"IFERROR(VLOOKUP($A277,Filtro_!$A$5:$I$358,3,FALSE),0)","v":0},{"$f":"IFERROR(VLOOKUP($A277,Filtro_!$A$5:$I$358,4,FALSE),0)","v":0},{"$f":"IFERROR(VLOOKUP($A277,Filtro_!$A$5:$I$358,5,FALSE),0)","v":0},277]
["80306038","0306038","R.P.R.",{"v":6236,"d":"6,236"},{"$f":"IFERROR(VLOOKUP($A278,Filtro_!$A$5:$I$358,3,FALSE),0)","v":0},{"$f":"IFERROR(VLOOKUP($A278,Filtro_!$A$5:$I$358,4,FALSE),0)","v":{"v":6236,"d":"6,236"}},{"$f":"IFERROR(VLOOKUP($A278,Filtro_!$A$5:$I$358,5,FALSE),0)","v":{"v":5079,"d":"5,079"}},278]
["80306039","0306039","Tíficas, reacciones de aglutinación  (Eberth H y O, paratyphi A y B) (Widal)",0,{"$f":"IFERROR(VLOOKUP($A279,Filtro_!$A$5:$I$358,3,FALSE),0)","v":0},{"$f":"IFERROR(VLOOKUP($A279,Filtro_!$A$5:$I$358,4,FALSE),0)","v":0},{"$f":"IFERROR(VLOOKUP($A279,Filtro_!$A$5:$I$358,5,FALSE),0)","v":0},279]
["80306041","0306041","Treponema pallidum FTA - ABS, MHA-TP c/u",2,{"$f":"IFERROR(VLOOKUP($A280,Filtro_!$A$5:$I$358,3,FALSE),0)","v":0},{"$f":"IFERROR(VLOOKUP($A280,Filtro_!$A$5:$I$358,4,FALSE),0)","v":2},{"$f":"IFERROR(VLOOKUP($A280,Filtro_!$A$5:$I$358,5,FALSE),0)","v":35},280]
["80306042","0306042","V.D.R.L.",402,{"$f":"IFERROR(VLOOKUP($A281,Filtro_!$A$5:$I$358,3,FALSE),0)","v":0},{"$f":"IFERROR(VLOOKUP($A281,Filtro_!$A$5:$I$358,4,FALSE),0)","v":402},{"$f":"IFERROR(VLOOKUP($A281,Filtro_!$A$5:$I$358,5,FALSE),0)","v":{"v":17583,"d":"17,583"}},281]
["80306043","0306043","Artrópodos macroscópicos y microscópicos (imagos y/o pupas y/o larvas), diagnóstico de",0,{"$f":"IFERROR(VLOOKUP($A282,Filtro_!$A$5:$I$358,3,FALSE),0)","v":0},{"$f":"IFERROR(VLOOKUP($A282,Filtro_!$A$5:$I$358,4,FALSE),0)","v":0},{"$f":"IFERROR(VLOOKUP($A282,Filtro_!$A$5:$I$358,5,FALSE),0)","v":0},282]
["80306045","0306045","Coproparasitario seriado con técnica  para Cryptosporidium sp o para Diantamoeba fragilis (incluye los códigos 03-06-048 y/o 03-06-059 más aplicación de técnica de frotis con tinción tricrómica o tinción Ziehl-Neelsen en por lo menos 3 muestras, según corresponda)",0,{"$f":"IFERROR(VLOOKUP($A283,Filtro_!$A$5:$I$358,3,FALSE),0)","v":0},{"$f":"IFERROR(VLOOKUP($A283,Filtro_!$A$5:$I$358,4,FALSE),0)","v":0},{"$f":"IFERROR(VLOOKUP($A283,Filtro_!$A$5:$I$358,5,FALSE),0)","v":3},283]
["80306046","0306046","Coproparasitario seriado para Fasciola hepática (incluye diagnostico de gusanos macroscópicos y ex. microscópico de 10 muestras separadas por método de Telemann y de otras 10 muestras separadas y simultáneas con las ant. por téc. de sedimentación)",0,{"$f":"IFERROR(VLOOKUP($A284,Filtro_!$A$5:$I$358,3,FALSE),0)","v":0},{"$f":"IFERROR(VLOOKUP($A284,Filtro_!$A$5:$I$358,4,FALSE),0)","v":0},{"$f":"IFERROR(VLOOKUP($A284,Filtro_!$A$5:$I$358,5,FALSE),0)","v":0},284]
["80306047","0306047","Coproparasitario seriado para Isospora y Sarcocystis (incluye diagnóstico de gusanos macroscópicos y examen  microscópico de 3 muestras separadas)",0,{"$f":"IFERROR(VLOOKUP($A285,Filtro_!$A$5:$I$358,3,FALSE),0)","v":0},{"$f":"IFERROR(VLOOKUP($A285,Filtro_!$A$5:$I$358,4,FALSE),0)","v":0},{"$f":"IFERROR(VLOOKUP($A285,Filtro_!$A$5:$I$358,5,FALSE),0)","v":10},285]
["80306048","0306048","Coproparasitológico seriado simple (incluye diagnostico de gusanos macroscópicos y examen microscópico por concentración de 3 muestras separadas método Telemann) (proc. aut.)",494,{"$f":"IFERROR(VLOOKUP($A286,Filtro_!$A$5:$I$358,3,FALSE),0)","v":0},{"$f":"IFERROR(VLOOKUP($A286,Filtro_!$A$5:$I$358,4,FALSE),0)","v":494},{"$f":"IFERROR(VLOOKUP($A286,Filtro_!$A$5:$I$358,5,FALSE),0)","v":{"v":1086,"d":"1,086"}},286]
["80306049","0306049","Diagnostico de parásitos en jugo duodenal y/o bilis, examen macroscópico y microscópico (directo y/o concentración, c/s tinción)",0,{"$f":"IFERROR(VLOOKUP($A287,Filtro_!$A$5:$I$358,3,FALSE),0)","v":0},{"$f":"IFERROR(VLOOKUP($A287,Filtro_!$A$5:$I$358,4,FALSE),0)","v":0},{"$f":"IFERROR(VLOOKUP($A287,Filtro_!$A$5:$I$358,5,FALSE),0)","v":9},287]
["80306050","0306050","Diagnostico parasitario en exudados, secreciones y otros líquidos orgánicos (no especificados mas adelante), examen macro y microscópico de (incluye concentración y/o tinción cuando proceda), c/u",0,{"$f":"IFERROR(VLOOKUP($A288,Filtro_!$A$5:$I$358,3,FALSE),0)","v":0},{"$f":"IFERROR(VLOOKUP($A288,Filtro_!$A$5:$I$358,4,FALSE),0)","v":0},{"$f":"IFERROR(VLOOKUP($A288,Filtro_!$A$5:$I$358,5,FALSE),0)","v":0},288]
["80306051","0306051","Graham, examen de (incluye diagnostico de gusanos macroscópicos y examen microscópico de 5 muestras separadas)",161,{"$f":"IFERROR(VLOOKUP($A289,Filtro_!$A$5:$I$358,3,FALSE),0)","v":0},{"$f":"IFERROR(VLOOKUP($A289,Filtro_!$A$5:$I$358,4,FALSE),0)","v":161},{"$f":"IFERROR(VLOOKUP($A289,Filtro_!$A$5:$I$358,5,FALSE),0)","v":359},289]
["80306052","0306052","Gusanos macroscópicos, diagnóstico de (proc. aut.)",1,{"$f":"IFERROR(VLOOKUP($A290,Filtro_!$A$5:$I$358,3,FALSE),0)","v":0},{"$f":"IFERROR(VLOOKUP($A290,Filtro_!$A$5:$I$358,4,FALSE),0)","v":1},{"$f":"IFERROR(VLOOKUP($A290,Filtro_!$A$5:$I$358,5,FALSE),0)","v":77},290]
["80306053","0306053","Hemoparásitos, diagnóstico microscópico de (mínimo 10 frotis y/o gotas gruesas, c/s examen directo al fresco), cada sesión",0,{"$f":"IFERROR(VLOOKUP($A291,Filtro_!$A$5:$I$358,3,FALSE),0)","v":0},{"$f":"IFERROR(VLOOKUP($A291,Filtro_!$A$5:$I$358,4,FALSE),0)","v":0},{"$f":"IFERROR(VLOOKUP($A291,Filtro_!$A$5:$I$358,5,FALSE),0)","v":0},291]
["80306054","0306054","Hemoparásitos, diagnóstico por técnica de Strout o similar en hasta 10 tubos capilares, cada sesión",0,{"$f":"IFERROR(VLOOKUP($A292,Filtro_!$A$5:$I$358,3,FALSE),0)","v":0},{"$f":"IFERROR(VLOOKUP($A292,Filtro_!$A$5:$I$358,4,FALSE),0)","v":0},{"$f":"IFERROR(VLOOKUP($A292,Filtro_!$A$5:$I$358,5,FALSE),0)","v":0},292]
["80306056","0306056","Raspado de piel, examen microscópico de (\"Acarotest\"): de 6 a 10 preparaciones",0,{"$f":"IFERROR(VLOOKUP($A293,Filtro_!$A$5:$I$358,3,FALSE),0)","v":0},{"$f":"IFERROR(VLOOKUP($A293,Filtro_!$A$5:$I$358,4,FALSE),0)","v":0},{"$f":"IFERROR(VLOOKUP($A293,Filtro_!$A$5:$I$358,5,FALSE),0)","v":0},293]
["80306057","0306057","Tenias post. trat., Diagnostico y búsqueda de escólex de",0,{"$f":"IFERROR(VLOOKUP($A294,Filtro_!$A$5:$I$358,3,FALSE),0)","v":0},{"$f":"IFERROR(VLOOKUP($A294,Filtro_!$A$5:$I$358,4,FALSE),0)","v":0},{"$f":"IFERROR(VLOOKUP($A294,Filtro_!$A$5:$I$358,5,FALSE),0)","v":8},294]
["80306058","0306058","Xenodiagnóstico (cada aplicación de 2 cajas, con 6 ninfas por lo menos c/u, examinadas a los 20 y/o 30 días y hasta por 60 días más si procede)",0,{"$f":"IFERROR(VLOOKUP($A295,Filtro_!$A$5:$I$358,3,FALSE),0)","v":0},{"$f":"IFERROR(VLOOKUP($A295,Filtro_!$A$5:$I$358,4,FALSE),0)","v":0},{"$f":"IFERROR(VLOOKUP($A295,Filtro_!$A$5:$I$358,5,FALSE),0)","v":0},295]
["80306059","0306059","Coproparasitológico seriado simple (incluye diagnóstico de gusanos macroscopicos  y exámen microscopico por concentración de tres muestras separadas método PAFS (proc. aut.)",101,{"$f":"IFERROR(VLOOKUP($A296,Filtro_!$A$5:$I$358,3,FALSE),0)","v":0},{"$f":"IFERROR(VLOOKUP($A296,Filtro_!$A$5:$I$358,4,FALSE),0)","v":101},{"$f":"IFERROR(VLOOKUP($A296,Filtro_!$A$5:$I$358,5,FALSE),0)","v":189},296]
["80306061","0306061","Elisa indirecta (Chagas, hidatidosis, toxocariasis y otras), c/u",884,{"$f":"IFERROR(VLOOKUP($A297,Filtro_!$A$5:$I$358,3,FALSE),0)","v":0},{"$f":"IFERROR(VLOOKUP($A297,Filtro_!$A$5:$I$358,4,FALSE),0)","v":884},{"$f":"IFERROR(VLOOKUP($A297,Filtro_!$A$5:$I$358,5,FALSE),0)","v":{"v":4966,"d":"4,966"}},297]
["80306062","0306062","Fijación del complemento (distomatosis, toxoplasmosis, cisticercosis y otras) c/u",0,{"$f":"IFERROR(VLOOKUP($A298,Filtro_!$A$5:$I$358,3,FALSE),0)","v":0},{"$f":"IFERROR(VLOOKUP($A298,Filtro_!$A$5:$I$358,4,FALSE),0)","v":0},{"$f":"IFERROR(VLOOKUP($A298,Filtro_!$A$5:$I$358,5,FALSE),0)","v":0},298]
["80306063","0306063","Floculación en bentonita, látex, precipitinas o similar (triquinosis, hidatidosis y otros), c/u",0,{"$f":"IFERROR(VLOOKUP($A299,Filtro_!$A$5:$I$358,3,FALSE),0)","v":0},{"$f":"IFERROR(VLOOKUP($A299,Filtro_!$A$5:$I$358,4,FALSE),0)","v":0},{"$f":"IFERROR(VLOOKUP($A299,Filtro_!$A$5:$I$358,5,FALSE),0)","v":0},299]
["80306064","0306064","Hemaglutinación indirecta (toxoplasmosis, Chagas, hidatidosis y otras), c/u",0,{"$f":"IFERROR(VLOOKUP($A300,Filtro_!$A$5:$I$358,3,FALSE),0)","v":0},{"$f":"IFERROR(VLOOKUP($A300,Filtro_!$A$5:$I$358,4,FALSE),0)","v":0},{"$f":"IFERROR(VLOOKUP($A300,Filtro_!$A$5:$I$358,5,FALSE),0)","v":29},300]
["80306065","0306065","Inmunoelectroforesis o contrainmunoelectroforesis (hidatidosis, distomatosis, amebiasis y otras), c/u",0,{"$f":"IFERROR(VLOOKUP($A301,Filtro_!$A$5:$I$358,3,FALSE),0)","v":0},{"$f":"IFERROR(VLOOKUP($A301,Filtro_!$A$5:$I$358,4,FALSE),0)","v":0},{"$f":"IFERROR(VLOOKUP($A301,Filtro_!$A$5:$I$358,5,FALSE),0)","v":0},301]
["80306066","0306066","Inmunofluorescencia indirecta (toxoplasmosis, Chagas, amebiasis y otras), c/u",7,{"$f":"IFERROR(VLOOKUP($A302,Filtro_!$A$5:$I$358,3,FALSE),0)","v":0},{"$f":"IFERROR(VLOOKUP($A302,Filtro_!$A$5:$I$358,4,FALSE),0)","v":7},{"$f":"IFERROR(VLOOKUP($A302,Filtro_!$A$5:$I$358,5,FALSE),0)","v":16},302]
["80306067","0306067","Reacción intradérmica (incluye el valor y la aplicación del antígeno y del control y examen de las reacciones inmediatas y retardadas, cada antígeno) (bachmann, distomatosis u otras)",0,{"$f":"IFERROR(VLOOKUP($A303,Filtro_!$A$5:$I$358,3,FALSE),0)","v":0},{"$f":"IFERROR(VLOOKUP($A303,Filtro_!$A$5:$I$358,4,FALSE),0)","v":0},{"$f":"IFERROR(VLOOKUP($A303,Filtro_!$A$5:$I$358,5,FALSE),0)","v":0},303]
["80306068","0306068","Aislamiento de virus (adenovirus, citomegalovirus, Coxsakie, herpes, influenza, polio, sarampión y otros), c/u",0,{"$f":"IFERROR(VLOOKUP($A304,Filtro_!$A$5:$I$358,3,FALSE),0)","v":0},{"$f":"IFERROR(VLOOKUP($A304,Filtro_!$A$5:$I$358,4,FALSE),0)","v":0},{"$f":"IFERROR(VLOOKUP($A304,Filtro_!$A$5:$I$358,5,FALSE),0)","v":0},304]
["80306069","0306069","Anticuerpos virales, determ. de (adenovirus, citomegalovirus, herpes simple, rubéola, Influenza  A y B; virus varicela-zoster; virus sincicial respiratorio; parainfluenza 1, 2 y 3, Epstein Barr y otros), c/u",0,{"$f":"IFERROR(VLOOKUP($A305,Filtro_!$A$5:$I$358,3,FALSE),0)","v":0},{"$f":"IFERROR(VLOOKUP($A305,Filtro_!$A$5:$I$358,4,FALSE),0)","v":0},{"$f":"IFERROR(VLOOKUP($A305,Filtro_!$A$5:$I$358,5,FALSE),0)","v":6},305]
["80306169","0306169","Anticuerpos virales, determ. de H.I.V.",{"$f":"SUM(E306:F306)","v":1},{"$f":"IFERROR(VLOOKUP($A306,Filtro_!$A$5:$I$358,3,FALSE),0)","v":0},{"$f":"IFERROR(VLOOKUP($A306,Filtro_!$A$5:$I$358,4,FALSE),0)","v":1},{"$f":"IFERROR(VLOOKUP($A306,Filtro_!$A$5:$I$358,5,FALSE),0)","v":{"v":2773,"d":"2,773"}},306]
["80306070","0306070","Antígenos virales determ. de (adenovirus, citomegalovirus, herpes simple, rubéola, influenza y otros), (por cualquier técnica ej: inmunofluorescencia), c/u",0,{"$f":"IFERROR(VLOOKUP($A307,Filtro_!$A$5:$I$358,3,FALSE),0)","v":0},{"$f":"IFERROR(VLOOKUP($A307,Filtro_!$A$5:$I$358,4,FALSE),0)","v":0},{"$f":"IFERROR(VLOOKUP($A307,Filtro_!$A$5:$I$358,5,FALSE),0)","v":62},307]
["80306170","0306170","Antígenos virales determ. de rotavirus, por cualquier técnica ",19,{"$f":"IFERROR(VLOOKUP($A308,Filtro_!$A$5:$I$358,3,FALSE),0)","v":0},{"$f":"IFERROR(VLOOKUP($A308,Filtro_!$A$5:$I$358,4,FALSE),0)","v":19},{"$f":"IFERROR(VLOOKUP($A308,Filtro_!$A$5:$I$358,5,FALSE),0)","v":0},308]
["80306270","0306270","Antígenos virales determ. de virus sincicial, por cualquier técnica ",0,{"$f":"IFERROR(VLOOKUP($A309,Filtro_!$A$5:$I$358,3,FALSE),0)","v":0},{"$f":"IFERROR(VLOOKUP($A309,Filtro_!$A$5:$I$358,4,FALSE),0)","v":0},{"$f":"IFERROR(VLOOKUP($A309,Filtro_!$A$5:$I$358,5,FALSE),0)","v":0},309]
["80306072","0306072","Reacción de seroneutralización para: virus polio, ECHO, Coxsakie, c/u",0,{"$f":"IFERROR(VLOOKUP($A310,Filtro_!$A$5:$I$358,3,FALSE),0)","v":0},{"$f":"IFERROR(VLOOKUP($A310,Filtro_!$A$5:$I$358,4,FALSE),0)","v":0},{"$f":"IFERROR(VLOOKUP($A310,Filtro_!$A$5:$I$358,5,FALSE),0)","v":0},310]
["80306073","0306073","Virus hepatitis A, Anticore",0,{"$f":"IFERROR(VLOOKUP($A311,Filtro_!$A$5:$I$358,3,FALSE),0)","v":0},{"$f":"IFERROR(VLOOKUP($A311,Filtro_!$A$5:$I$358,4,FALSE),0)","v":0},{"$f":"IFERROR(VLOOKUP($A311,Filtro_!$A$5:$I$358,5,FALSE),0)","v":0},311]
["80306074","0306074","Virus hepatitis A, anticuerpos IgM del",5,{"$f":"IFERROR(VLOOKUP($A312,Filtro_!$A$5:$I$358,3,FALSE),0)","v":0},{"$f":"IFERROR(VLOOKUP($A312,Filtro_!$A$5:$I$358,4,FALSE),0)","v":5},{"$f":"IFERROR(VLOOKUP($A312,Filtro_!$A$5:$I$358,5,FALSE),0)","v":32},312]
["80306075","0306075","Virus hepatitis B, anticuerpo del antígeno E del",0,{"$f":"IFERROR(VLOOKUP($A313,Filtro_!$A$5:$I$358,3,FALSE),0)","v":0},{"$f":"IFERROR(VLOOKUP($A313,Filtro_!$A$5:$I$358,4,FALSE),0)","v":0},{"$f":"IFERROR(VLOOKUP($A313,Filtro_!$A$5:$I$358,5,FALSE),0)","v":478},313]
["80306076","0306076","Virus hepatitis B, anticore total del (anti HBc total)",0,{"$f":"IFERROR(VLOOKUP($A314,Filtro_!$A$5:$I$358,3,FALSE),0)","v":0},{"$f":"IFERROR(VLOOKUP($A314,Filtro_!$A$5:$I$358,4,FALSE),0)","v":0},{"$f":"IFERROR(VLOOKUP($A314,Filtro_!$A$5:$I$358,5,FALSE),0)","v":54},314]
["80306077","0306077","Virus hepatitis B, anticuerpos de antígeno de superficie (australiano)",0,{"$f":"IFERROR(VLOOKUP($A315,Filtro_!$A$5:$I$358,3,FALSE),0)","v":0},{"$f":"IFERROR(VLOOKUP($A315,Filtro_!$A$5:$I$358,4,FALSE),0)","v":0},{"$f":"IFERROR(VLOOKUP($A315,Filtro_!$A$5:$I$358,5,FALSE),0)","v":11},315]
["80306078","0306078","Virus hepatitis B, antígeno E del (HBEAg)",2,{"$f":"IFERROR(VLOOKUP($A316,Filtro_!$A$5:$I$358,3,FALSE),0)","v":0},{"$f":"IFERROR(VLOOKUP($A316,Filtro_!$A$5:$I$358,4,FALSE),0)","v":2},{"$f":"IFERROR(VLOOKUP($A316,Filtro_!$A$5:$I$358,5,FALSE),0)","v":{"v":1363,"d":"1,363"}},316]
["80306079","0306079","Virus hepatitis B, antígeno superficie",29,{"$f":"IFERROR(VLOOKUP($A317,Filtro_!$A$5:$I$358,3,FALSE),0)","v":0},{"$f":"IFERROR(VLOOKUP($A317,Filtro_!$A$5:$I$358,4,FALSE),0)","v":29},{"$f":"IFERROR(VLOOKUP($A317,Filtro_!$A$5:$I$358,5,FALSE),0)","v":659},317]
["80306080","0306080","Virus hepatitis B, anticore IgM del (anti HBc IgM)",1,{"$f":"IFERROR(VLOOKUP($A318,Filtro_!$A$5:$I$358,3,FALSE),0)","v":0},{"$f":"IFERROR(VLOOKUP($A318,Filtro_!$A$5:$I$358,4,FALSE),0)","v":1},{"$f":"IFERROR(VLOOKUP($A318,Filtro_!$A$5:$I$358,5,FALSE),0)","v":104},318]
["80306081","0306081","Virus hepatitis C, anticuerpos de (anti HCV)",0,{"$f":"IFERROR(VLOOKUP($A319,Filtro_!$A$5:$I$358,3,FALSE),0)","v":0},{"$f":"IFERROR(VLOOKUP($A319,Filtro_!$A$5:$I$358,4,FALSE),0)","v":0},{"$f":"IFERROR(VLOOKUP($A319,Filtro_!$A$5:$I$358,5,FALSE),0)","v":27},319]
[null,"TOTAL",null,{"$f":"SUM(D242:D319)","v":{"v":21060,"d":"21,060"}},{"$f":"SUM(E242:E319)","v":0},{"$f":"SUM(F242:F319)","v":{"v":21060,"d":"21,060"}},{"$f":"SUM(G242:G319)","v":{"v":56733,"d":"56,733"}},320]
[{"$nulls":7},321]
[null,"EXÁMENES DE DEPOSICIONES, EXUDADOS, SECRESIONES Y OTROS LÍQUIDOS",{"$nulls":5},322]
["80308001","0308001","Azúcares reductores (Benedict-Fehling o similar)",{"$f":"SUM(E323:F323)","v":2},{"$f":"IFERROR(VLOOKUP($A323,Filtro_!$A$5:$I$358,3,FALSE),0)","v":0},{"$f":"IFERROR(VLOOKUP($A323,Filtro_!$A$5:$I$358,4,FALSE),0)","v":2},{"$f":"IFERROR(VLOOKUP($A323,Filtro_!$A$5:$I$358,5,FALSE),0)","v":84},323]
["80308002","0308002","Balance graso (Van de Kamer) muestra de tres o más días",0,{"$f":"IFERROR(VLOOKUP($A324,Filtro_!$A$5:$I$358,3,FALSE),0)","v":0},{"$f":"IFERROR(VLOOKUP($A324,Filtro_!$A$5:$I$358,4,FALSE),0)","v":0},{"$f":"IFERROR(VLOOKUP($A324,Filtro_!$A$5:$I$358,5,FALSE),0)","v":0},324]
["80308003","0308003","Grasas neutras (Sudán III)",0,{"$f":"IFERROR(VLOOKUP($A325,Filtro_!$A$5:$I$358,3,FALSE),0)","v":0},{"$f":"IFERROR(VLOOKUP($A325,Filtro_!$A$5:$I$358,4,FALSE),0)","v":0},{"$f":"IFERROR(VLOOKUP($A325,Filtro_!$A$5:$I$358,5,FALSE),0)","v":0},325]
["80308004","0308004","Hemorragias ocultas, (bencidina, guayaco o test de Weber y similares), cualquier método, c/muestra",171,{"$f":"IFERROR(VLOOKUP($A326,Filtro_!$A$5:$I$358,3,FALSE),0)","v":0},{"$f":"IFERROR(VLOOKUP($A326,Filtro_!$A$5:$I$358,4,FALSE),0)","v":171},{"$f":"IFERROR(VLOOKUP($A326,Filtro_!$A$5:$I$358,5,FALSE),0)","v":{"v":1178,"d":"1,178"}},326]
["80308005","0308005","Leucocitos fecales",151,{"$f":"IFERROR(VLOOKUP($A327,Filtro_!$A$5:$I$358,3,FALSE),0)","v":0},{"$f":"IFERROR(VLOOKUP($A327,Filtro_!$A$5:$I$358,4,FALSE),0)","v":151},{"$f":"IFERROR(VLOOKUP($A327,Filtro_!$A$5:$I$358,5,FALSE),0)","v":319},327]
["80308006","0308006","PH",0,{"$f":"IFERROR(VLOOKUP($A328,Filtro_!$A$5:$I$358,3,FALSE),0)","v":0},{"$f":"IFERROR(VLOOKUP($A328,Filtro_!$A$5:$I$358,4,FALSE),0)","v":0},{"$f":"IFERROR(VLOOKUP($A328,Filtro_!$A$5:$I$358,5,FALSE),0)","v":0},328]
["80308007","0308007","Porfirinas, c/u",0,{"$f":"IFERROR(VLOOKUP($A329,Filtro_!$A$5:$I$358,3,FALSE),0)","v":0},{"$f":"IFERROR(VLOOKUP($A329,Filtro_!$A$5:$I$358,4,FALSE),0)","v":0},{"$f":"IFERROR(VLOOKUP($A329,Filtro_!$A$5:$I$358,5,FALSE),0)","v":0},329]
["80308008","0308008","Urobilinógeno cuantitativo",0,{"$f":"IFERROR(VLOOKUP($A330,Filtro_!$A$5:$I$358,3,FALSE),0)","v":0},{"$f":"IFERROR(VLOOKUP($A330,Filtro_!$A$5:$I$358,4,FALSE),0)","v":0},{"$f":"IFERROR(VLOOKUP($A330,Filtro_!$A$5:$I$358,5,FALSE),0)","v":0},330]
["80308009","0308009","Células neoplásicas en fluídos biológicos",0,{"$f":"IFERROR(VLOOKUP($A331,Filtro_!$A$5:$I$358,3,FALSE),0)","v":0},{"$f":"IFERROR(VLOOKUP($A331,Filtro_!$A$5:$I$358,4,FALSE),0)","v":0},{"$f":"IFERROR(VLOOKUP($A331,Filtro_!$A$5:$I$358,5,FALSE),0)","v":0},331]
["80308010","0308010","Citológico c/s tinción (incluye examen al fresco, recuento celular y citológico porcentual)",{"v":2007,"d":"2,007"},{"$f":"IFERROR(VLOOKUP($A332,Filtro_!$A$5:$I$358,3,FALSE),0)","v":0},{"$f":"IFERROR(VLOOKUP($A332,Filtro_!$A$5:$I$358,4,FALSE),0)","v":{"v":2007,"d":"2,007"}},{"$f":"IFERROR(VLOOKUP($A332,Filtro_!$A$5:$I$358,5,FALSE),0)","v":17},332]
["80308011","0308011","Directo al fresco c/s tinción, (incluye trichomonas)",0,{"$f":"IFERROR(VLOOKUP($A333,Filtro_!$A$5:$I$358,3,FALSE),0)","v":0},{"$f":"IFERROR(VLOOKUP($A333,Filtro_!$A$5:$I$358,4,FALSE),0)","v":0},{"$f":"IFERROR(VLOOKUP($A333,Filtro_!$A$5:$I$358,5,FALSE),0)","v":0},333]
["80308012","0308012","Electrolitos (sodio, potasio, cloro), c/u",50,{"$f":"IFERROR(VLOOKUP($A334,Filtro_!$A$5:$I$358,3,FALSE),0)","v":0},{"$f":"IFERROR(VLOOKUP($A334,Filtro_!$A$5:$I$358,4,FALSE),0)","v":50},{"$f":"IFERROR(VLOOKUP($A334,Filtro_!$A$5:$I$358,5,FALSE),0)","v":{"v":2333,"d":"2,333"}},334]
["80308013","0308013","Eosinófilos, recuento de",0,{"$f":"IFERROR(VLOOKUP($A335,Filtro_!$A$5:$I$358,3,FALSE),0)","v":0},{"$f":"IFERROR(VLOOKUP($A335,Filtro_!$A$5:$I$358,4,FALSE),0)","v":0},{"$f":"IFERROR(VLOOKUP($A335,Filtro_!$A$5:$I$358,5,FALSE),0)","v":308},335]
["80308014","0308014","Físico-químico (incluye aspecto, color, pH, glucosa, proteína, Pandy y filancia)",0,{"$f":"IFERROR(VLOOKUP($A336,Filtro_!$A$5:$I$358,3,FALSE),0)","v":0},{"$f":"IFERROR(VLOOKUP($A336,Filtro_!$A$5:$I$358,4,FALSE),0)","v":0},{"$f":"IFERROR(VLOOKUP($A336,Filtro_!$A$5:$I$358,5,FALSE),0)","v":0},336]
["80308015","0308015","Glucosa en exudados secreciones y otros liquidos",0,{"$f":"IFERROR(VLOOKUP($A337,Filtro_!$A$5:$I$358,3,FALSE),0)","v":0},{"$f":"IFERROR(VLOOKUP($A337,Filtro_!$A$5:$I$358,4,FALSE),0)","v":0},{"$f":"IFERROR(VLOOKUP($A337,Filtro_!$A$5:$I$358,5,FALSE),0)","v":0},337]
["80308016","0308016","Mucina, determinación de",0,{"$f":"IFERROR(VLOOKUP($A338,Filtro_!$A$5:$I$358,3,FALSE),0)","v":0},{"$f":"IFERROR(VLOOKUP($A338,Filtro_!$A$5:$I$358,4,FALSE),0)","v":0},{"$f":"IFERROR(VLOOKUP($A338,Filtro_!$A$5:$I$358,5,FALSE),0)","v":0},338]
["80308017","0308017","pH, (proc. aut.)",0,{"$f":"IFERROR(VLOOKUP($A339,Filtro_!$A$5:$I$358,3,FALSE),0)","v":0},{"$f":"IFERROR(VLOOKUP($A339,Filtro_!$A$5:$I$358,4,FALSE),0)","v":0},{"$f":"IFERROR(VLOOKUP($A339,Filtro_!$A$5:$I$358,5,FALSE),0)","v":0},339]
["80308018","0308018","Proteínas totales o albúmina (proc. aut.) c/u",0,{"$f":"IFERROR(VLOOKUP($A340,Filtro_!$A$5:$I$358,3,FALSE),0)","v":0},{"$f":"IFERROR(VLOOKUP($A340,Filtro_!$A$5:$I$358,4,FALSE),0)","v":0},{"$f":"IFERROR(VLOOKUP($A340,Filtro_!$A$5:$I$358,5,FALSE),0)","v":75},340]
["80308019","0308019","Proteínas, electroforesis de (incluye proteínas totales)",0,{"$f":"IFERROR(VLOOKUP($A341,Filtro_!$A$5:$I$358,3,FALSE),0)","v":0},{"$f":"IFERROR(VLOOKUP($A341,Filtro_!$A$5:$I$358,4,FALSE),0)","v":0},{"$f":"IFERROR(VLOOKUP($A341,Filtro_!$A$5:$I$358,5,FALSE),0)","v":0},341]
["80308020","0308020","Bandas oligoclonales (incluye electroforesis de L.C.R., suero e inmunofijación)",0,{"$f":"IFERROR(VLOOKUP($A342,Filtro_!$A$5:$I$358,3,FALSE),0)","v":0},{"$f":"IFERROR(VLOOKUP($A342,Filtro_!$A$5:$I$358,4,FALSE),0)","v":0},{"$f":"IFERROR(VLOOKUP($A342,Filtro_!$A$5:$I$358,5,FALSE),0)","v":0},342]
["80308021","0308021","Glutamina",0,{"$f":"IFERROR(VLOOKUP($A343,Filtro_!$A$5:$I$358,3,FALSE),0)","v":0},{"$f":"IFERROR(VLOOKUP($A343,Filtro_!$A$5:$I$358,4,FALSE),0)","v":0},{"$f":"IFERROR(VLOOKUP($A343,Filtro_!$A$5:$I$358,5,FALSE),0)","v":0},343]
["80308022","0308022","Indice IgG/albúmina (incluye determ. de IgG y albúmina en L.C.R. y suero)",0,{"$f":"IFERROR(VLOOKUP($A344,Filtro_!$A$5:$I$358,3,FALSE),0)","v":0},{"$f":"IFERROR(VLOOKUP($A344,Filtro_!$A$5:$I$358,4,FALSE),0)","v":0},{"$f":"IFERROR(VLOOKUP($A344,Filtro_!$A$5:$I$358,5,FALSE),0)","v":47},344]
["80308023","0308023","Estudio de cristales (con luz polarizada)",0,{"$f":"IFERROR(VLOOKUP($A345,Filtro_!$A$5:$I$358,3,FALSE),0)","v":0},{"$f":"IFERROR(VLOOKUP($A345,Filtro_!$A$5:$I$358,4,FALSE),0)","v":0},{"$f":"IFERROR(VLOOKUP($A345,Filtro_!$A$5:$I$358,5,FALSE),0)","v":0},345]
["80308024","0308024","Acidez titulable, pH, volumen (una muestra)",0,{"$f":"IFERROR(VLOOKUP($A346,Filtro_!$A$5:$I$358,3,FALSE),0)","v":0},{"$f":"IFERROR(VLOOKUP($A346,Filtro_!$A$5:$I$358,4,FALSE),0)","v":0},{"$f":"IFERROR(VLOOKUP($A346,Filtro_!$A$5:$I$358,5,FALSE),0)","v":474},346]
["80308025","0308025","Prueba de estimulación máxima con histamina, mínimo 5 muestras (no incluye la histamina ni el antihistamínico).",0,{"$f":"IFERROR(VLOOKUP($A347,Filtro_!$A$5:$I$358,3,FALSE),0)","v":0},{"$f":"IFERROR(VLOOKUP($A347,Filtro_!$A$5:$I$358,4,FALSE),0)","v":0},{"$f":"IFERROR(VLOOKUP($A347,Filtro_!$A$5:$I$358,5,FALSE),0)","v":2},347]
["80308026","0308026","Volumen, anhídrido carbónico, amilasa y lipasa",0,{"$f":"IFERROR(VLOOKUP($A348,Filtro_!$A$5:$I$358,3,FALSE),0)","v":0},{"$f":"IFERROR(VLOOKUP($A348,Filtro_!$A$5:$I$358,4,FALSE),0)","v":0},{"$f":"IFERROR(VLOOKUP($A348,Filtro_!$A$5:$I$358,5,FALSE),0)","v":0},348]
["80308027","0308027","Cristales de colesterol",0,{"$f":"IFERROR(VLOOKUP($A349,Filtro_!$A$5:$I$358,3,FALSE),0)","v":0},{"$f":"IFERROR(VLOOKUP($A349,Filtro_!$A$5:$I$358,4,FALSE),0)","v":0},{"$f":"IFERROR(VLOOKUP($A349,Filtro_!$A$5:$I$358,5,FALSE),0)","v":0},349]
["80308028","0308028","Lípidos biliares",0,{"$f":"IFERROR(VLOOKUP($A350,Filtro_!$A$5:$I$358,3,FALSE),0)","v":0},{"$f":"IFERROR(VLOOKUP($A350,Filtro_!$A$5:$I$358,4,FALSE),0)","v":0},{"$f":"IFERROR(VLOOKUP($A350,Filtro_!$A$5:$I$358,5,FALSE),0)","v":0},350]
["80308029","0308029","Espermiograma (físico y microscópico, con o sin observación hasta 24 horas)",0,{"$f":"IFERROR(VLOOKUP($A351,Filtro_!$A$5:$I$358,3,FALSE),0)","v":0},{"$f":"IFERROR(VLOOKUP($A351,Filtro_!$A$5:$I$358,4,FALSE),0)","v":0},{"$f":"IFERROR(VLOOKUP($A351,Filtro_!$A$5:$I$358,5,FALSE),0)","v":17},351]
["80308030","0308030","Fosfatasa ácida prostática",0,{"$f":"IFERROR(VLOOKUP($A352,Filtro_!$A$5:$I$358,3,FALSE),0)","v":0},{"$f":"IFERROR(VLOOKUP($A352,Filtro_!$A$5:$I$358,4,FALSE),0)","v":0},{"$f":"IFERROR(VLOOKUP($A352,Filtro_!$A$5:$I$358,5,FALSE),0)","v":3},352]
["80308031","0308031","Fructosa, consumo de",0,{"$f":"IFERROR(VLOOKUP($A353,Filtro_!$A$5:$I$358,3,FALSE),0)","v":0},{"$f":"IFERROR(VLOOKUP($A353,Filtro_!$A$5:$I$358,4,FALSE),0)","v":0},{"$f":"IFERROR(VLOOKUP($A353,Filtro_!$A$5:$I$358,5,FALSE),0)","v":30},353]
["80308032","0308032","Bilirrubina                               ",0,{"$f":"IFERROR(VLOOKUP($A354,Filtro_!$A$5:$I$358,3,FALSE),0)","v":0},{"$f":"IFERROR(VLOOKUP($A354,Filtro_!$A$5:$I$358,4,FALSE),0)","v":0},{"$f":"IFERROR(VLOOKUP($A354,Filtro_!$A$5:$I$358,5,FALSE),0)","v":6},354]
["80308033","0308033","Células anaranjadas (proc. aut.)",0,{"$f":"IFERROR(VLOOKUP($A355,Filtro_!$A$5:$I$358,3,FALSE),0)","v":0},{"$f":"IFERROR(VLOOKUP($A355,Filtro_!$A$5:$I$358,4,FALSE),0)","v":0},{"$f":"IFERROR(VLOOKUP($A355,Filtro_!$A$5:$I$358,5,FALSE),0)","v":0},355]
["80308034","0308034","Contaminantes (meconio y sangre) (proc. aut.)",5,{"$f":"IFERROR(VLOOKUP($A356,Filtro_!$A$5:$I$358,3,FALSE),0)","v":0},{"$f":"IFERROR(VLOOKUP($A356,Filtro_!$A$5:$I$358,4,FALSE),0)","v":5},{"$f":"IFERROR(VLOOKUP($A356,Filtro_!$A$5:$I$358,5,FALSE),0)","v":0},356]
["80308035","0308035","Creatinina (proc. aut.)",0,{"$f":"IFERROR(VLOOKUP($A357,Filtro_!$A$5:$I$358,3,FALSE),0)","v":0},{"$f":"IFERROR(VLOOKUP($A357,Filtro_!$A$5:$I$358,4,FALSE),0)","v":0},{"$f":"IFERROR(VLOOKUP($A357,Filtro_!$A$5:$I$358,5,FALSE),0)","v":{"v":1535,"d":"1,535"}},357]
["80308036","0308036","Fosfatidil glicerol y/o fosfatidil inositol",0,{"$f":"IFERROR(VLOOKUP($A358,Filtro_!$A$5:$I$358,3,FALSE),0)","v":0},{"$f":"IFERROR(VLOOKUP($A358,Filtro_!$A$5:$I$358,4,FALSE),0)","v":0},{"$f":"IFERROR(VLOOKUP($A358,Filtro_!$A$5:$I$358,5,FALSE),0)","v":0},358]
["80308037","0308037","Indice de bilirrubina (prueba de Liley)",0,{"$f":"IFERROR(VLOOKUP($A359,Filtro_!$A$5:$I$358,3,FALSE),0)","v":0},{"$f":"IFERROR(VLOOKUP($A359,Filtro_!$A$5:$I$358,4,FALSE),0)","v":0},{"$f":"IFERROR(VLOOKUP($A359,Filtro_!$A$5:$I$358,5,FALSE),0)","v":0},359]
["80308038","0308038","Indice lecitina/esfingomielina",0,{"$f":"IFERROR(VLOOKUP($A360,Filtro_!$A$5:$I$358,3,FALSE),0)","v":0},{"$f":"IFERROR(VLOOKUP($A360,Filtro_!$A$5:$I$358,4,FALSE),0)","v":0},{"$f":"IFERROR(VLOOKUP($A360,Filtro_!$A$5:$I$358,5,FALSE),0)","v":0},360]
["80308039","0308039","Madurez fetal completa (físico; células anaranjadas, bilirrubina, test de Clements, creatinina, contaminantes)",0,{"$f":"IFERROR(VLOOKUP($A361,Filtro_!$A$5:$I$358,3,FALSE),0)","v":0},{"$f":"IFERROR(VLOOKUP($A361,Filtro_!$A$5:$I$358,4,FALSE),0)","v":0},{"$f":"IFERROR(VLOOKUP($A361,Filtro_!$A$5:$I$358,5,FALSE),0)","v":0},361]
["80308040","0308040","Test de Clements (proc. aut.)",0,{"$f":"IFERROR(VLOOKUP($A362,Filtro_!$A$5:$I$358,3,FALSE),0)","v":0},{"$f":"IFERROR(VLOOKUP($A362,Filtro_!$A$5:$I$358,4,FALSE),0)","v":0},{"$f":"IFERROR(VLOOKUP($A362,Filtro_!$A$5:$I$358,5,FALSE),0)","v":2},362]
["80308041","0308041","Colpocitograma",0,{"$f":"IFERROR(VLOOKUP($A363,Filtro_!$A$5:$I$358,3,FALSE),0)","v":0},{"$f":"IFERROR(VLOOKUP($A363,Filtro_!$A$5:$I$358,4,FALSE),0)","v":0},{"$f":"IFERROR(VLOOKUP($A363,Filtro_!$A$5:$I$358,5,FALSE),0)","v":0},363]
["80308042","0308042","Cristalización y filancia de moco cervical",0,{"$f":"IFERROR(VLOOKUP($A364,Filtro_!$A$5:$I$358,3,FALSE),0)","v":0},{"$f":"IFERROR(VLOOKUP($A364,Filtro_!$A$5:$I$358,4,FALSE),0)","v":0},{"$f":"IFERROR(VLOOKUP($A364,Filtro_!$A$5:$I$358,5,FALSE),0)","v":0},364]
["80308043","0308043","Moco-semen, prueba de compatibilidad",0,{"$f":"IFERROR(VLOOKUP($A365,Filtro_!$A$5:$I$358,3,FALSE),0)","v":0},{"$f":"IFERROR(VLOOKUP($A365,Filtro_!$A$5:$I$358,4,FALSE),0)","v":0},{"$f":"IFERROR(VLOOKUP($A365,Filtro_!$A$5:$I$358,5,FALSE),0)","v":0},365]
["80308044","0308044","Flujo vaginal o secreción uretral, estudio de (incluye toma de muestra y códigos 03-06-004, 03-06-005, 03-06-008, 03-06-017, y 03-06-026 )",144,{"$f":"IFERROR(VLOOKUP($A366,Filtro_!$A$5:$I$358,3,FALSE),0)","v":0},{"$f":"IFERROR(VLOOKUP($A366,Filtro_!$A$5:$I$358,4,FALSE),0)","v":144},{"$f":"IFERROR(VLOOKUP($A366,Filtro_!$A$5:$I$358,5,FALSE),0)","v":61},366]
[null,"TOTAL",null,{"$f":"SUM(D323:D366)","v":{"v":2530,"d":"2,530"}},{"$f":"SUM(E323:E366)","v":0},{"$f":"SUM(F323:F366)","v":{"v":2530,"d":"2,530"}},{"$f":"SUM(G323:G366)","v":{"v":6491,"d":"6,491"}},367]
[{"$nulls":7},368]
[null,"EXÁMENES DE ORINA",{"$nulls":5},369]
["80309001","0309001","Acido ascórbico",{"$f":"SUM(E370:F370)","v":0},{"$f":"IFERROR(VLOOKUP($A370,Filtro_!$A$5:$I$358,3,FALSE),0)","v":0},{"$f":"IFERROR(VLOOKUP($A370,Filtro_!$A$5:$I$358,4,FALSE),0)","v":0},{"$f":"IFERROR(VLOOKUP($A370,Filtro_!$A$5:$I$358,5,FALSE),0)","v":0},370]
["80309002","0309002","Acido delta aminolevulínico",0,{"$f":"IFERROR(VLOOKUP($A371,Filtro_!$A$5:$I$358,3,FALSE),0)","v":0},{"$f":"IFERROR(VLOOKUP($A371,Filtro_!$A$5:$I$358,4,FALSE),0)","v":0},{"$f":"IFERROR(VLOOKUP($A371,Filtro_!$A$5:$I$358,5,FALSE),0)","v":0},371]
["80309003","0309003","Acido fenilpirúvico (PKU, cualitativo)",0,{"$f":"IFERROR(VLOOKUP($A372,Filtro_!$A$5:$I$358,3,FALSE),0)","v":0},{"$f":"IFERROR(VLOOKUP($A372,Filtro_!$A$5:$I$358,4,FALSE),0)","v":0},{"$f":"IFERROR(VLOOKUP($A372,Filtro_!$A$5:$I$358,5,FALSE),0)","v":0},372]
["80309004","0309004","Acido úrico cuantitativo",14,{"$f":"IFERROR(VLOOKUP($A373,Filtro_!$A$5:$I$358,3,FALSE),0)","v":0},{"$f":"IFERROR(VLOOKUP($A373,Filtro_!$A$5:$I$358,4,FALSE),0)","v":14},{"$f":"IFERROR(VLOOKUP($A373,Filtro_!$A$5:$I$358,5,FALSE),0)","v":840},373]
["80309005","0309005","Acido 5 hidroxiindolacético cuantitativo",0,{"$f":"IFERROR(VLOOKUP($A374,Filtro_!$A$5:$I$358,3,FALSE),0)","v":0},{"$f":"IFERROR(VLOOKUP($A374,Filtro_!$A$5:$I$358,4,FALSE),0)","v":0},{"$f":"IFERROR(VLOOKUP($A374,Filtro_!$A$5:$I$358,5,FALSE),0)","v":0},374]
["80309006","0309006","Amilasa cuantitativa en orina",0,{"$f":"IFERROR(VLOOKUP($A375,Filtro_!$A$5:$I$358,3,FALSE),0)","v":0},{"$f":"IFERROR(VLOOKUP($A375,Filtro_!$A$5:$I$358,4,FALSE),0)","v":0},{"$f":"IFERROR(VLOOKUP($A375,Filtro_!$A$5:$I$358,5,FALSE),0)","v":0},375]
["80309007","0309007","Aminoácidos (cualitativo) (excepto fenilalanina, PKU)",0,{"$f":"IFERROR(VLOOKUP($A376,Filtro_!$A$5:$I$358,3,FALSE),0)","v":0},{"$f":"IFERROR(VLOOKUP($A376,Filtro_!$A$5:$I$358,4,FALSE),0)","v":0},{"$f":"IFERROR(VLOOKUP($A376,Filtro_!$A$5:$I$358,5,FALSE),0)","v":0},376]
["80309008","0309008","Calcio cuantitativo en orina",0,{"$f":"IFERROR(VLOOKUP($A377,Filtro_!$A$5:$I$358,3,FALSE),0)","v":0},{"$f":"IFERROR(VLOOKUP($A377,Filtro_!$A$5:$I$358,4,FALSE),0)","v":0},{"$f":"IFERROR(VLOOKUP($A377,Filtro_!$A$5:$I$358,5,FALSE),0)","v":7},377]
["80309009","0309009","Cálculo urinario (examen físico y químico)",0,{"$f":"IFERROR(VLOOKUP($A378,Filtro_!$A$5:$I$358,3,FALSE),0)","v":0},{"$f":"IFERROR(VLOOKUP($A378,Filtro_!$A$5:$I$358,4,FALSE),0)","v":0},{"$f":"IFERROR(VLOOKUP($A378,Filtro_!$A$5:$I$358,5,FALSE),0)","v":0},378]
["80309010","0309010","Creatinina cuantitativa en orina",{"v":30561,"d":"30,561"},{"$f":"IFERROR(VLOOKUP($A379,Filtro_!$A$5:$I$358,3,FALSE),0)","v":0},{"$f":"IFERROR(VLOOKUP($A379,Filtro_!$A$5:$I$358,4,FALSE),0)","v":{"v":30561,"d":"30,561"}},{"$f":"IFERROR(VLOOKUP($A379,Filtro_!$A$5:$I$358,5,FALSE),0)","v":{"v":28123,"d":"28,123"}},379]
["80309011","0309011","Cuerpos cetónicos",0,{"$f":"IFERROR(VLOOKUP($A380,Filtro_!$A$5:$I$358,3,FALSE),0)","v":0},{"$f":"IFERROR(VLOOKUP($A380,Filtro_!$A$5:$I$358,4,FALSE),0)","v":0},{"$f":"IFERROR(VLOOKUP($A380,Filtro_!$A$5:$I$358,5,FALSE),0)","v":336},380]
["80309012","0309012","Electrolitos (sodio, potasio, cloro) c/u en orina",45,{"$f":"IFERROR(VLOOKUP($A381,Filtro_!$A$5:$I$358,3,FALSE),0)","v":0},{"$f":"IFERROR(VLOOKUP($A381,Filtro_!$A$5:$I$358,4,FALSE),0)","v":45},{"$f":"IFERROR(VLOOKUP($A381,Filtro_!$A$5:$I$358,5,FALSE),0)","v":45},381]
["80309013","0309013","Microalbuminuria cuantitativa",{"v":30465,"d":"30,465"},{"$f":"IFERROR(VLOOKUP($A382,Filtro_!$A$5:$I$358,3,FALSE),0)","v":0},{"$f":"IFERROR(VLOOKUP($A382,Filtro_!$A$5:$I$358,4,FALSE),0)","v":{"v":30465,"d":"30,465"}},{"$f":"IFERROR(VLOOKUP($A382,Filtro_!$A$5:$I$358,5,FALSE),0)","v":{"v":43685,"d":"43,685"}},382]
["80309014","0309014","Embarazo, detección de (cualquier técnica)",222,{"$f":"IFERROR(VLOOKUP($A383,Filtro_!$A$5:$I$358,3,FALSE),0)","v":27},{"$f":"IFERROR(VLOOKUP($A383,Filtro_!$A$5:$I$358,4,FALSE),0)","v":195},{"$f":"IFERROR(VLOOKUP($A383,Filtro_!$A$5:$I$358,5,FALSE),0)","v":154},383]
["80309040","0309040","Fenilquetonuria (PKU), cuantitativo",11,{"$f":"IFERROR(VLOOKUP($A384,Filtro_!$A$5:$I$358,3,FALSE),0)","v":11},{"$f":"IFERROR(VLOOKUP($A384,Filtro_!$A$5:$I$358,4,FALSE),0)","v":0},{"$f":"IFERROR(VLOOKUP($A384,Filtro_!$A$5:$I$358,5,FALSE),0)","v":0},384]
["80309015","0309015","Fósforo cuantitativo en orina",0,{"$f":"IFERROR(VLOOKUP($A385,Filtro_!$A$5:$I$358,3,FALSE),0)","v":0},{"$f":"IFERROR(VLOOKUP($A385,Filtro_!$A$5:$I$358,4,FALSE),0)","v":0},{"$f":"IFERROR(VLOOKUP($A385,Filtro_!$A$5:$I$358,5,FALSE),0)","v":13},385]
["80309016","0309016","Glucosa (cuantitativo) en orina",{"v":1022,"d":"1,022"},{"$f":"IFERROR(VLOOKUP($A386,Filtro_!$A$5:$I$358,3,FALSE),0)","v":0},{"$f":"IFERROR(VLOOKUP($A386,Filtro_!$A$5:$I$358,4,FALSE),0)","v":{"v":1022,"d":"1,022"}},{"$f":"IFERROR(VLOOKUP($A386,Filtro_!$A$5:$I$358,5,FALSE),0)","v":0},386]
["80309035","0309035","Hemosiderina",0,{"$f":"IFERROR(VLOOKUP($A387,Filtro_!$A$5:$I$358,3,FALSE),0)","v":0},{"$f":"IFERROR(VLOOKUP($A387,Filtro_!$A$5:$I$358,4,FALSE),0)","v":0},{"$f":"IFERROR(VLOOKUP($A387,Filtro_!$A$5:$I$358,5,FALSE),0)","v":0},387]
["80309017","0309017","Hidroxiprolina en orina",0,{"$f":"IFERROR(VLOOKUP($A388,Filtro_!$A$5:$I$358,3,FALSE),0)","v":0},{"$f":"IFERROR(VLOOKUP($A388,Filtro_!$A$5:$I$358,4,FALSE),0)","v":0},{"$f":"IFERROR(VLOOKUP($A388,Filtro_!$A$5:$I$358,5,FALSE),0)","v":0},388]
["80309018","0309018","Melanogenuria (test de cloruro férrico)",0,{"$f":"IFERROR(VLOOKUP($A389,Filtro_!$A$5:$I$358,3,FALSE),0)","v":0},{"$f":"IFERROR(VLOOKUP($A389,Filtro_!$A$5:$I$358,4,FALSE),0)","v":0},{"$f":"IFERROR(VLOOKUP($A389,Filtro_!$A$5:$I$358,5,FALSE),0)","v":0},389]
["80309019","0309019","Mucopolisacáridos",0,{"$f":"IFERROR(VLOOKUP($A390,Filtro_!$A$5:$I$358,3,FALSE),0)","v":0},{"$f":"IFERROR(VLOOKUP($A390,Filtro_!$A$5:$I$358,4,FALSE),0)","v":0},{"$f":"IFERROR(VLOOKUP($A390,Filtro_!$A$5:$I$358,5,FALSE),0)","v":0},390]
["80309020","0309020","Nitrógeno ureico o urea en orina (cuantitativo)",54,{"$f":"IFERROR(VLOOKUP($A391,Filtro_!$A$5:$I$358,3,FALSE),0)","v":0},{"$f":"IFERROR(VLOOKUP($A391,Filtro_!$A$5:$I$358,4,FALSE),0)","v":54},{"$f":"IFERROR(VLOOKUP($A391,Filtro_!$A$5:$I$358,5,FALSE),0)","v":{"v":1233,"d":"1,233"}},391]
["80309021","0309021","Nucleótidos cíclicos (CAMP, CGM, u otros) c/u",111,{"$f":"IFERROR(VLOOKUP($A392,Filtro_!$A$5:$I$358,3,FALSE),0)","v":0},{"$f":"IFERROR(VLOOKUP($A392,Filtro_!$A$5:$I$358,4,FALSE),0)","v":111},{"$f":"IFERROR(VLOOKUP($A392,Filtro_!$A$5:$I$358,5,FALSE),0)","v":111},392]
["80309022","0309022","Orina completa, (incluye cód. 03-09-023 y 03-09-024)",{"v":44887,"d":"44,887"},{"$f":"IFERROR(VLOOKUP($A393,Filtro_!$A$5:$I$358,3,FALSE),0)","v":109},{"$f":"IFERROR(VLOOKUP($A393,Filtro_!$A$5:$I$358,4,FALSE),0)","v":{"v":44778,"d":"44,778"}},{"$f":"IFERROR(VLOOKUP($A393,Filtro_!$A$5:$I$358,5,FALSE),0)","v":{"v":99989,"d":"99,989"}},393]
["80309023","0309023","Orina, físico-químico (aspecto, color, densidad, pH, proteínas, glucosa, cuerpos cetónicos, urobilinógeno, bilirrubina, hemoglobina y nitritos) todos o cada uno de los parámetros (proc. aut.)",{"v":1627,"d":"1,627"},{"$f":"IFERROR(VLOOKUP($A394,Filtro_!$A$5:$I$358,3,FALSE),0)","v":{"v":1534,"d":"1,534"}},{"$f":"IFERROR(VLOOKUP($A394,Filtro_!$A$5:$I$358,4,FALSE),0)","v":93},{"$f":"IFERROR(VLOOKUP($A394,Filtro_!$A$5:$I$358,5,FALSE),0)","v":{"v":2802,"d":"2,802"}},394]
["80309024","0309024","Orina, sedimento (proc. aut.)",0,{"$f":"IFERROR(VLOOKUP($A395,Filtro_!$A$5:$I$358,3,FALSE),0)","v":0},{"$f":"IFERROR(VLOOKUP($A395,Filtro_!$A$5:$I$358,4,FALSE),0)","v":0},{"$f":"IFERROR(VLOOKUP($A395,Filtro_!$A$5:$I$358,5,FALSE),0)","v":{"v":4666,"d":"4,666"}},395]
["80309025","0309025","Osmolalidad",0,{"$f":"IFERROR(VLOOKUP($A396,Filtro_!$A$5:$I$358,3,FALSE),0)","v":0},{"$f":"IFERROR(VLOOKUP($A396,Filtro_!$A$5:$I$358,4,FALSE),0)","v":0},{"$f":"IFERROR(VLOOKUP($A396,Filtro_!$A$5:$I$358,5,FALSE),0)","v":0},396]
["80309027","0309027","Porfirinas, c/u",0,{"$f":"IFERROR(VLOOKUP($A397,Filtro_!$A$5:$I$358,3,FALSE),0)","v":0},{"$f":"IFERROR(VLOOKUP($A397,Filtro_!$A$5:$I$358,4,FALSE),0)","v":0},{"$f":"IFERROR(VLOOKUP($A397,Filtro_!$A$5:$I$358,5,FALSE),0)","v":2},397]
["80309028","0309028","Proteína (cuantitativa) en orina",{"v":1307,"d":"1,307"},{"$f":"IFERROR(VLOOKUP($A398,Filtro_!$A$5:$I$358,3,FALSE),0)","v":0},{"$f":"IFERROR(VLOOKUP($A398,Filtro_!$A$5:$I$358,4,FALSE),0)","v":{"v":1307,"d":"1,307"}},{"$f":"IFERROR(VLOOKUP($A398,Filtro_!$A$5:$I$358,5,FALSE),0)","v":{"v":6955,"d":"6,955"}},398]
["80309029","0309029","Proteínas de Bence-Jones prueba térmica",0,{"$f":"IFERROR(VLOOKUP($A399,Filtro_!$A$5:$I$358,3,FALSE),0)","v":0},{"$f":"IFERROR(VLOOKUP($A399,Filtro_!$A$5:$I$358,4,FALSE),0)","v":0},{"$f":"IFERROR(VLOOKUP($A399,Filtro_!$A$5:$I$358,5,FALSE),0)","v":379},399]
[null,"TOTAL",null,{"$f":"SUM(D370:D399)","v":{"v":110326,"d":"110,326"}},{"$f":"SUM(E370:E399)","v":{"v":1681,"d":"1,681"}},{"$f":"SUM(F370:F399)","v":{"v":108645,"d":"108,645"}},{"$f":"SUM(G370:G399)","v":{"v":189340,"d":"189,340"}},400]
[null,"TOTAL EXÁMENES",null,{"$f":"+D98+D170+D179+D239+D320+D367+D400","v":{"v":580585,"d":"580,585"}},{"$f":"+E98+E170+E179+E239+E320+E367+E400","v":{"v":1681,"d":"1,681"}},{"$f":"+F98+F170+F179+F239+F320+F367+F400","v":{"v":578904,"d":"578,904"}},{"$f":"+G98+G170+G179+G239+G320+G367+G400","v":{"v":1366200,"d":"1,366,200"}},401]
[{"$nulls":7},402]
[null,"EXÁMENES RADIOLÓGICOS",{"$nulls":5},403]
["80401001","0401001","Radiografía de las glándulas salivales \"sialografía\"",{"$f":"SUM(E404:F404)","v":16},{"$f":"IFERROR(VLOOKUP($A404,Filtro_!$A$5:$I$358,3,FALSE),0)","v":16},{"$f":"IFERROR(VLOOKUP($A404,Filtro_!$A$5:$I$358,4,FALSE),0)","v":0},{"$f":"IFERROR(VLOOKUP($A404,Filtro_!$A$5:$I$358,5,FALSE),0)","v":0},404]
["80401002","0401002","Radiografía de partes blandas, laringe lateral, cavum rinofaríngeo (rinofarinx). ",100,{"$f":"IFERROR(VLOOKUP($A405,Filtro_!$A$5:$I$358,3,FALSE),0)","v":100},{"$f":"IFERROR(VLOOKUP($A405,Filtro_!$A$5:$I$358,4,FALSE),0)","v":0},{"$f":"IFERROR(VLOOKUP($A405,Filtro_!$A$5:$I$358,5,FALSE),0)","v":74},405]
["80401003","0401003","Planigrafías laringe  (4 EXP.)                     ",0,{"$f":"IFERROR(VLOOKUP($A406,Filtro_!$A$5:$I$358,3,FALSE),0)","v":0},{"$f":"IFERROR(VLOOKUP($A406,Filtro_!$A$5:$I$358,4,FALSE),0)","v":0},{"$f":"IFERROR(VLOOKUP($A406,Filtro_!$A$5:$I$358,5,FALSE),0)","v":0},406]
["80401004","0401004","Radiografía de tórax, proyección complementaria (oblicuas, selectivas u otras)",14,{"$f":"IFERROR(VLOOKUP($A407,Filtro_!$A$5:$I$358,3,FALSE),0)","v":0},{"$f":"IFERROR(VLOOKUP($A407,Filtro_!$A$5:$I$358,4,FALSE),0)","v":14},{"$f":"IFERROR(VLOOKUP($A407,Filtro_!$A$5:$I$358,5,FALSE),0)","v":33},407]
["80401005","0401005","Tórax, proyección complementaria de corazón (oblicuas u otras) (1 exp.) c/u       ",0,{"$f":"IFERROR(VLOOKUP($A408,Filtro_!$A$5:$I$358,3,FALSE),0)","v":0},{"$f":"IFERROR(VLOOKUP($A408,Filtro_!$A$5:$I$358,4,FALSE),0)","v":0},{"$f":"IFERROR(VLOOKUP($A408,Filtro_!$A$5:$I$358,5,FALSE),0)","v":0},408]
["80401006","0401006","Estudio radiológico de corazón (incluye fluoroscopía, telerradiografías frontal y lateral con esofagograma) ",0,{"$f":"IFERROR(VLOOKUP($A409,Filtro_!$A$5:$I$358,3,FALSE),0)","v":0},{"$f":"IFERROR(VLOOKUP($A409,Filtro_!$A$5:$I$358,4,FALSE),0)","v":0},{"$f":"IFERROR(VLOOKUP($A409,Filtro_!$A$5:$I$358,5,FALSE),0)","v":0},409]
["80401007","0401007","Planigrafia localizada (incluye mínimo 6 cortes) (6 exp.)     ",0,{"$f":"IFERROR(VLOOKUP($A410,Filtro_!$A$5:$I$358,3,FALSE),0)","v":0},{"$f":"IFERROR(VLOOKUP($A410,Filtro_!$A$5:$I$358,4,FALSE),0)","v":0},{"$f":"IFERROR(VLOOKUP($A410,Filtro_!$A$5:$I$358,5,FALSE),0)","v":0},410]
["80401008","0401008","Radiografía de tórax  frontal o lateral con equipo móvil fuera del departamento de rayos.",0,{"$f":"IFERROR(VLOOKUP($A411,Filtro_!$A$5:$I$358,3,FALSE),0)","v":0},{"$f":"IFERROR(VLOOKUP($A411,Filtro_!$A$5:$I$358,4,FALSE),0)","v":0},{"$f":"IFERROR(VLOOKUP($A411,Filtro_!$A$5:$I$358,5,FALSE),0)","v":68},411]
["80401009","0401009","Radiografía de tórax simple frontal o lateral ",{"v":1152,"d":"1,152"},{"$f":"IFERROR(VLOOKUP($A412,Filtro_!$A$5:$I$358,3,FALSE),0)","v":{"v":1096,"d":"1,096"}},{"$f":"IFERROR(VLOOKUP($A412,Filtro_!$A$5:$I$358,4,FALSE),0)","v":56},{"$f":"IFERROR(VLOOKUP($A412,Filtro_!$A$5:$I$358,5,FALSE),0)","v":670},412]
["80401070","0401070","Radiografía de tórax frontal y lateral",{"v":10254,"d":"10,254"},{"$f":"IFERROR(VLOOKUP($A413,Filtro_!$A$5:$I$358,3,FALSE),0)","v":{"v":8116,"d":"8,116"}},{"$f":"IFERROR(VLOOKUP($A413,Filtro_!$A$5:$I$358,4,FALSE),0)","v":{"v":2138,"d":"2,138"}},{"$f":"IFERROR(VLOOKUP($A413,Filtro_!$A$5:$I$358,5,FALSE),0)","v":{"v":4502,"d":"4,502"}},413]
["80401010","0401010","Mamografía bilateral",{"v":1225,"d":"1,225"},{"$f":"IFERROR(VLOOKUP($A414,Filtro_!$A$5:$I$358,3,FALSE),0)","v":0},{"$f":"IFERROR(VLOOKUP($A414,Filtro_!$A$5:$I$358,4,FALSE),0)","v":{"v":1225,"d":"1,225"}},{"$f":"IFERROR(VLOOKUP($A414,Filtro_!$A$5:$I$358,5,FALSE),0)","v":{"v":4321,"d":"4,321"}},414]
["80401110","0401110","Mamografía unilateral",0,{"$f":"IFERROR(VLOOKUP($A415,Filtro_!$A$5:$I$358,3,FALSE),0)","v":0},{"$f":"IFERROR(VLOOKUP($A415,Filtro_!$A$5:$I$358,4,FALSE),0)","v":0},{"$f":"IFERROR(VLOOKUP($A415,Filtro_!$A$5:$I$358,5,FALSE),0)","v":737},415]
["80401130","0401130","Mamografía proyección complementaria  (axilar u otras)",0,{"$f":"IFERROR(VLOOKUP($A416,Filtro_!$A$5:$I$358,3,FALSE),0)","v":0},{"$f":"IFERROR(VLOOKUP($A416,Filtro_!$A$5:$I$358,4,FALSE),0)","v":0},{"$f":"IFERROR(VLOOKUP($A416,Filtro_!$A$5:$I$358,5,FALSE),0)","v":4},416]
["80401011","0401011","Marcación preoperatoria de lesiones de la mama",0,{"$f":"IFERROR(VLOOKUP($A417,Filtro_!$A$5:$I$358,3,FALSE),0)","v":0},{"$f":"IFERROR(VLOOKUP($A417,Filtro_!$A$5:$I$358,4,FALSE),0)","v":0},{"$f":"IFERROR(VLOOKUP($A417,Filtro_!$A$5:$I$358,5,FALSE),0)","v":0},417]
["80401012","0401012","Radiografía de mama, pieza operatoria",0,{"$f":"IFERROR(VLOOKUP($A418,Filtro_!$A$5:$I$358,3,FALSE),0)","v":0},{"$f":"IFERROR(VLOOKUP($A418,Filtro_!$A$5:$I$358,4,FALSE),0)","v":0},{"$f":"IFERROR(VLOOKUP($A418,Filtro_!$A$5:$I$358,5,FALSE),0)","v":0},418]
["80401013","0401013","Radiografía de Abdomen Simple",{"v":1096,"d":"1,096"},{"$f":"IFERROR(VLOOKUP($A419,Filtro_!$A$5:$I$358,3,FALSE),0)","v":{"v":1096,"d":"1,096"}},{"$f":"IFERROR(VLOOKUP($A419,Filtro_!$A$5:$I$358,4,FALSE),0)","v":0},{"$f":"IFERROR(VLOOKUP($A419,Filtro_!$A$5:$I$358,5,FALSE),0)","v":104},419]
["80401014","0401014","Radiografía de abdomen simple, proyección complementaria (lateral y/o oblicua)",101,{"$f":"IFERROR(VLOOKUP($A420,Filtro_!$A$5:$I$358,3,FALSE),0)","v":101},{"$f":"IFERROR(VLOOKUP($A420,Filtro_!$A$5:$I$358,4,FALSE),0)","v":0},{"$f":"IFERROR(VLOOKUP($A420,Filtro_!$A$5:$I$358,5,FALSE),0)","v":0},420]
["80401015","0401015","Colangiografía intra o postoperatoria (por sonda T, o similar)",0,{"$f":"IFERROR(VLOOKUP($A421,Filtro_!$A$5:$I$358,3,FALSE),0)","v":0},{"$f":"IFERROR(VLOOKUP($A421,Filtro_!$A$5:$I$358,4,FALSE),0)","v":0},{"$f":"IFERROR(VLOOKUP($A421,Filtro_!$A$5:$I$358,5,FALSE),0)","v":0},421]
["80401016","0401016","Colangiografía medica con planigrafía (6 exp.)        ",0,{"$f":"IFERROR(VLOOKUP($A422,Filtro_!$A$5:$I$358,3,FALSE),0)","v":0},{"$f":"IFERROR(VLOOKUP($A422,Filtro_!$A$5:$I$358,4,FALSE),0)","v":0},{"$f":"IFERROR(VLOOKUP($A422,Filtro_!$A$5:$I$358,5,FALSE),0)","v":0},422]
["80401017","0401017","Colecistografía c/s seriografía (34 exp.)                ",0,{"$f":"IFERROR(VLOOKUP($A423,Filtro_!$A$5:$I$358,3,FALSE),0)","v":0},{"$f":"IFERROR(VLOOKUP($A423,Filtro_!$A$5:$I$358,4,FALSE),0)","v":0},{"$f":"IFERROR(VLOOKUP($A423,Filtro_!$A$5:$I$358,5,FALSE),0)","v":0},423]
["80401018","0401018","Enema baritado del colon (incluye llene y control post-vaciamiento)",0,{"$f":"IFERROR(VLOOKUP($A424,Filtro_!$A$5:$I$358,3,FALSE),0)","v":0},{"$f":"IFERROR(VLOOKUP($A424,Filtro_!$A$5:$I$358,4,FALSE),0)","v":0},{"$f":"IFERROR(VLOOKUP($A424,Filtro_!$A$5:$I$358,5,FALSE),0)","v":0},424]
["80401019","0401019","Enema baritado del colon o intestino delgado, doble contraste",0,{"$f":"IFERROR(VLOOKUP($A425,Filtro_!$A$5:$I$358,3,FALSE),0)","v":0},{"$f":"IFERROR(VLOOKUP($A425,Filtro_!$A$5:$I$358,4,FALSE),0)","v":0},{"$f":"IFERROR(VLOOKUP($A425,Filtro_!$A$5:$I$358,5,FALSE),0)","v":0},425]
["80401020","0401020","Esofagograma  (incluye pesquisa de cuerpo extraño) (proc.aut.)",0,{"$f":"IFERROR(VLOOKUP($A426,Filtro_!$A$5:$I$358,3,FALSE),0)","v":0},{"$f":"IFERROR(VLOOKUP($A426,Filtro_!$A$5:$I$358,4,FALSE),0)","v":0},{"$f":"IFERROR(VLOOKUP($A426,Filtro_!$A$5:$I$358,5,FALSE),0)","v":0},426]
["80401021","0401021","Radiografía de esófago, estómago y duodeno, relleno y/o doble contraste ",0,{"$f":"IFERROR(VLOOKUP($A427,Filtro_!$A$5:$I$358,3,FALSE),0)","v":0},{"$f":"IFERROR(VLOOKUP($A427,Filtro_!$A$5:$I$358,4,FALSE),0)","v":0},{"$f":"IFERROR(VLOOKUP($A427,Filtro_!$A$5:$I$358,5,FALSE),0)","v":0},427]
["80401022","0401022","Estudio radiológico de deglución faríngea",0,{"$f":"IFERROR(VLOOKUP($A428,Filtro_!$A$5:$I$358,3,FALSE),0)","v":0},{"$f":"IFERROR(VLOOKUP($A428,Filtro_!$A$5:$I$358,4,FALSE),0)","v":0},{"$f":"IFERROR(VLOOKUP($A428,Filtro_!$A$5:$I$358,5,FALSE),0)","v":0},428]
["80401023","0401023","Estudio radiológico del intestino delgado",0,{"$f":"IFERROR(VLOOKUP($A429,Filtro_!$A$5:$I$358,3,FALSE),0)","v":0},{"$f":"IFERROR(VLOOKUP($A429,Filtro_!$A$5:$I$358,4,FALSE),0)","v":0},{"$f":"IFERROR(VLOOKUP($A429,Filtro_!$A$5:$I$358,5,FALSE),0)","v":0},429]
["80401024","0401024","Radiografía de esófago, estómago y duodeno, simple en niños ",0,{"$f":"IFERROR(VLOOKUP($A430,Filtro_!$A$5:$I$358,3,FALSE),0)","v":0},{"$f":"IFERROR(VLOOKUP($A430,Filtro_!$A$5:$I$358,4,FALSE),0)","v":0},{"$f":"IFERROR(VLOOKUP($A430,Filtro_!$A$5:$I$358,5,FALSE),0)","v":0},430]
["80401026","0401026","Pielografía de eliminación con control minutado (10 exp.)",0,{"$f":"IFERROR(VLOOKUP($A431,Filtro_!$A$5:$I$358,3,FALSE),0)","v":0},{"$f":"IFERROR(VLOOKUP($A431,Filtro_!$A$5:$I$358,4,FALSE),0)","v":0},{"$f":"IFERROR(VLOOKUP($A431,Filtro_!$A$5:$I$358,5,FALSE),0)","v":0},431]
["80401027","0401027","Pielografía de eliminación o descendente: incluye renal y vesical simples previas, 3 placas post inyección de medio de contraste, controles de pie y cistografía pre y post miccional. ",0,{"$f":"IFERROR(VLOOKUP($A432,Filtro_!$A$5:$I$358,3,FALSE),0)","v":0},{"$f":"IFERROR(VLOOKUP($A432,Filtro_!$A$5:$I$358,4,FALSE),0)","v":0},{"$f":"IFERROR(VLOOKUP($A432,Filtro_!$A$5:$I$358,5,FALSE),0)","v":0},432]
["80401028","0401028","Radiografía renal simple (proc. aut.)",27,{"$f":"IFERROR(VLOOKUP($A433,Filtro_!$A$5:$I$358,3,FALSE),0)","v":27},{"$f":"IFERROR(VLOOKUP($A433,Filtro_!$A$5:$I$358,4,FALSE),0)","v":0},{"$f":"IFERROR(VLOOKUP($A433,Filtro_!$A$5:$I$358,5,FALSE),0)","v":0},433]
["80401029","0401029","Radiografía vesical simple o perivesical (proc. aut.)",13,{"$f":"IFERROR(VLOOKUP($A434,Filtro_!$A$5:$I$358,3,FALSE),0)","v":13},{"$f":"IFERROR(VLOOKUP($A434,Filtro_!$A$5:$I$358,4,FALSE),0)","v":0},{"$f":"IFERROR(VLOOKUP($A434,Filtro_!$A$5:$I$358,5,FALSE),0)","v":0},434]
["80401030","0401030","Radiografía agujeros ópticos, ambos lados",3,{"$f":"IFERROR(VLOOKUP($A435,Filtro_!$A$5:$I$358,3,FALSE),0)","v":3},{"$f":"IFERROR(VLOOKUP($A435,Filtro_!$A$5:$I$358,4,FALSE),0)","v":0},{"$f":"IFERROR(VLOOKUP($A435,Filtro_!$A$5:$I$358,5,FALSE),0)","v":0},435]
["80401031","0401031","Radiografía de cavidades perinasales, órbitas, articulaciones temporomandibulares, huesos propios de la nariz, malar, maxilar, arco cigomático y cara",{"v":1493,"d":"1,493"},{"$f":"IFERROR(VLOOKUP($A436,Filtro_!$A$5:$I$358,3,FALSE),0)","v":{"v":1493,"d":"1,493"}},{"$f":"IFERROR(VLOOKUP($A436,Filtro_!$A$5:$I$358,4,FALSE),0)","v":0},{"$f":"IFERROR(VLOOKUP($A436,Filtro_!$A$5:$I$358,5,FALSE),0)","v":176},436]
["80401032","0401032","Radiografía de cráneo frontal y lateral",{"v":2480,"d":"2,480"},{"$f":"IFERROR(VLOOKUP($A437,Filtro_!$A$5:$I$358,3,FALSE),0)","v":{"v":2480,"d":"2,480"}},{"$f":"IFERROR(VLOOKUP($A437,Filtro_!$A$5:$I$358,4,FALSE),0)","v":0},{"$f":"IFERROR(VLOOKUP($A437,Filtro_!$A$5:$I$358,5,FALSE),0)","v":139},437]
["80401033","0401033","Radiografía de Cráneo  proyección especial de  base de cráneo (Towne)",247,{"$f":"IFERROR(VLOOKUP($A438,Filtro_!$A$5:$I$358,3,FALSE),0)","v":247},{"$f":"IFERROR(VLOOKUP($A438,Filtro_!$A$5:$I$358,4,FALSE),0)","v":0},{"$f":"IFERROR(VLOOKUP($A438,Filtro_!$A$5:$I$358,5,FALSE),0)","v":9},438]
["80401034","0401034","Radiografía de globo ocular, estudio de cuerpo extraño",0,{"$f":"IFERROR(VLOOKUP($A439,Filtro_!$A$5:$I$358,3,FALSE),0)","v":0},{"$f":"IFERROR(VLOOKUP($A439,Filtro_!$A$5:$I$358,4,FALSE),0)","v":0},{"$f":"IFERROR(VLOOKUP($A439,Filtro_!$A$5:$I$358,5,FALSE),0)","v":0},439]
["80401035","0401035","Radiografía de oído, uno o ambos ",0,{"$f":"IFERROR(VLOOKUP($A440,Filtro_!$A$5:$I$358,3,FALSE),0)","v":0},{"$f":"IFERROR(VLOOKUP($A440,Filtro_!$A$5:$I$358,4,FALSE),0)","v":0},{"$f":"IFERROR(VLOOKUP($A440,Filtro_!$A$5:$I$358,5,FALSE),0)","v":0},440]
["80401036","0401036","Radiografía de oído, uno o ambos (2 proy.) (2 exp.)                     ",0,{"$f":"IFERROR(VLOOKUP($A441,Filtro_!$A$5:$I$358,3,FALSE),0)","v":0},{"$f":"IFERROR(VLOOKUP($A441,Filtro_!$A$5:$I$358,4,FALSE),0)","v":0},{"$f":"IFERROR(VLOOKUP($A441,Filtro_!$A$5:$I$358,5,FALSE),0)","v":0},441]
["80401037","0401037","Radiografía de oído, uno o ambos (3 proy.) (3 exp.)                    ",0,{"$f":"IFERROR(VLOOKUP($A442,Filtro_!$A$5:$I$358,3,FALSE),0)","v":0},{"$f":"IFERROR(VLOOKUP($A442,Filtro_!$A$5:$I$358,4,FALSE),0)","v":0},{"$f":"IFERROR(VLOOKUP($A442,Filtro_!$A$5:$I$358,5,FALSE),0)","v":0},442]
["80401038","0401038","Planigrafía de oidos (68 exp.)                     ",0,{"$f":"IFERROR(VLOOKUP($A443,Filtro_!$A$5:$I$358,3,FALSE),0)","v":0},{"$f":"IFERROR(VLOOKUP($A443,Filtro_!$A$5:$I$358,4,FALSE),0)","v":0},{"$f":"IFERROR(VLOOKUP($A443,Filtro_!$A$5:$I$358,5,FALSE),0)","v":0},443]
["80401039","0401039","Planigrafía silla turca, canal optico, cavidades perinasales, c/u (68 exp.)  ",0,{"$f":"IFERROR(VLOOKUP($A444,Filtro_!$A$5:$I$358,3,FALSE),0)","v":0},{"$f":"IFERROR(VLOOKUP($A444,Filtro_!$A$5:$I$358,4,FALSE),0)","v":0},{"$f":"IFERROR(VLOOKUP($A444,Filtro_!$A$5:$I$358,5,FALSE),0)","v":0},444]
["80401040","0401040","Radiografía de silla turca frontal y lateral ",0,{"$f":"IFERROR(VLOOKUP($A445,Filtro_!$A$5:$I$358,3,FALSE),0)","v":0},{"$f":"IFERROR(VLOOKUP($A445,Filtro_!$A$5:$I$358,4,FALSE),0)","v":0},{"$f":"IFERROR(VLOOKUP($A445,Filtro_!$A$5:$I$358,5,FALSE),0)","v":0},445]
["80401041","0401041","Planigrafía localizada (cervical, dorsal o lumbosacra) (68 exp.)              ",5,{"$f":"IFERROR(VLOOKUP($A446,Filtro_!$A$5:$I$358,3,FALSE),0)","v":5},{"$f":"IFERROR(VLOOKUP($A446,Filtro_!$A$5:$I$358,4,FALSE),0)","v":0},{"$f":"IFERROR(VLOOKUP($A446,Filtro_!$A$5:$I$358,5,FALSE),0)","v":0},446]
["80401042","0401042","Radiografía de columna cervical o atlas-axis (frontal y lateral)",{"v":1093,"d":"1,093"},{"$f":"IFERROR(VLOOKUP($A447,Filtro_!$A$5:$I$358,3,FALSE),0)","v":{"v":1093,"d":"1,093"}},{"$f":"IFERROR(VLOOKUP($A447,Filtro_!$A$5:$I$358,4,FALSE),0)","v":0},{"$f":"IFERROR(VLOOKUP($A447,Filtro_!$A$5:$I$358,5,FALSE),0)","v":76},447]
["80401043","0401043","Radiografía de columna cervical (frontal, lateral y oblicuas)",83,{"$f":"IFERROR(VLOOKUP($A448,Filtro_!$A$5:$I$358,3,FALSE),0)","v":83},{"$f":"IFERROR(VLOOKUP($A448,Filtro_!$A$5:$I$358,4,FALSE),0)","v":0},{"$f":"IFERROR(VLOOKUP($A448,Filtro_!$A$5:$I$358,5,FALSE),0)","v":3},448]
["80401044","0401044","Radiografía de columna cervical  flexión y  extensión (Dinámicas)",2,{"$f":"IFERROR(VLOOKUP($A449,Filtro_!$A$5:$I$358,3,FALSE),0)","v":2},{"$f":"IFERROR(VLOOKUP($A449,Filtro_!$A$5:$I$358,4,FALSE),0)","v":0},{"$f":"IFERROR(VLOOKUP($A449,Filtro_!$A$5:$I$358,5,FALSE),0)","v":2},449]
["80401045","0401045","Radiografía de columna dorsal o dorsolumbar localizada, parrilla costal adultos (frontal y lateral).",{"v":2057,"d":"2,057"},{"$f":"IFERROR(VLOOKUP($A450,Filtro_!$A$5:$I$358,3,FALSE),0)","v":{"v":2057,"d":"2,057"}},{"$f":"IFERROR(VLOOKUP($A450,Filtro_!$A$5:$I$358,4,FALSE),0)","v":0},{"$f":"IFERROR(VLOOKUP($A450,Filtro_!$A$5:$I$358,5,FALSE),0)","v":211},450]
["80401046","0401046","Radiografía columna lumbar o lumbosacra   ",{"v":1177,"d":"1,177"},{"$f":"IFERROR(VLOOKUP($A451,Filtro_!$A$5:$I$358,3,FALSE),0)","v":{"v":1177,"d":"1,177"}},{"$f":"IFERROR(VLOOKUP($A451,Filtro_!$A$5:$I$358,4,FALSE),0)","v":0},{"$f":"IFERROR(VLOOKUP($A451,Filtro_!$A$5:$I$358,5,FALSE),0)","v":217},451]
["80401047","0401047","Radiografía columna lumbar o lumbosacra  flexión y  extensión (Dinámicas)",5,{"$f":"IFERROR(VLOOKUP($A452,Filtro_!$A$5:$I$358,3,FALSE),0)","v":5},{"$f":"IFERROR(VLOOKUP($A452,Filtro_!$A$5:$I$358,4,FALSE),0)","v":0},{"$f":"IFERROR(VLOOKUP($A452,Filtro_!$A$5:$I$358,5,FALSE),0)","v":1},452]
["80401048","0401048","Radiografía columna lumbar o lumbosacra, oblicuas adicionales ",10,{"$f":"IFERROR(VLOOKUP($A453,Filtro_!$A$5:$I$358,3,FALSE),0)","v":10},{"$f":"IFERROR(VLOOKUP($A453,Filtro_!$A$5:$I$358,4,FALSE),0)","v":0},{"$f":"IFERROR(VLOOKUP($A453,Filtro_!$A$5:$I$358,5,FALSE),0)","v":9},453]
["80401049","0401049","Radiografía de columna total, panorámica con folio graduado  frontal o lateral",0,{"$f":"IFERROR(VLOOKUP($A454,Filtro_!$A$5:$I$358,3,FALSE),0)","v":0},{"$f":"IFERROR(VLOOKUP($A454,Filtro_!$A$5:$I$358,4,FALSE),0)","v":0},{"$f":"IFERROR(VLOOKUP($A454,Filtro_!$A$5:$I$358,5,FALSE),0)","v":2},454]
["80401051","0401051","Radiografía de pelvis, cadera o coxofemoral",{"v":1875,"d":"1,875"},{"$f":"IFERROR(VLOOKUP($A455,Filtro_!$A$5:$I$358,3,FALSE),0)","v":{"v":1871,"d":"1,871"}},{"$f":"IFERROR(VLOOKUP($A455,Filtro_!$A$5:$I$358,4,FALSE),0)","v":4},{"$f":"IFERROR(VLOOKUP($A455,Filtro_!$A$5:$I$358,5,FALSE),0)","v":{"v":1226,"d":"1,226"}},455]
["80401151","0401151","Radiografía de pelvis, cadera o coxofemoral de RN, lactante o niño menor de 6 años.",{"v":1975,"d":"1,975"},{"$f":"IFERROR(VLOOKUP($A456,Filtro_!$A$5:$I$358,3,FALSE),0)","v":654},{"$f":"IFERROR(VLOOKUP($A456,Filtro_!$A$5:$I$358,4,FALSE),0)","v":{"v":1321,"d":"1,321"}},{"$f":"IFERROR(VLOOKUP($A456,Filtro_!$A$5:$I$358,5,FALSE),0)","v":{"v":2462,"d":"2,462"}},456]
["80401052","0401052","Radiografía de pelvis, cadera o coxofemoral, proyecciones especiales; (rotación interna, abducción, lateral, Lawenstein u otras)",468,{"$f":"IFERROR(VLOOKUP($A457,Filtro_!$A$5:$I$358,3,FALSE),0)","v":468},{"$f":"IFERROR(VLOOKUP($A457,Filtro_!$A$5:$I$358,4,FALSE),0)","v":0},{"$f":"IFERROR(VLOOKUP($A457,Filtro_!$A$5:$I$358,5,FALSE),0)","v":198},457]
["80401053","0401053","Radiografía de Sacrocoxis o articulaciones sacroilíacas.",284,{"$f":"IFERROR(VLOOKUP($A458,Filtro_!$A$5:$I$358,3,FALSE),0)","v":284},{"$f":"IFERROR(VLOOKUP($A458,Filtro_!$A$5:$I$358,4,FALSE),0)","v":0},{"$f":"IFERROR(VLOOKUP($A458,Filtro_!$A$5:$I$358,5,FALSE),0)","v":17},458]
["80401054","0401054","Radiografía de brazo, antebrazo, codo, muñeca, mano, dedos, pie  (frontal y lateral)",{"v":11819,"d":"11,819"},{"$f":"IFERROR(VLOOKUP($A459,Filtro_!$A$5:$I$358,3,FALSE),0)","v":{"v":11819,"d":"11,819"}},{"$f":"IFERROR(VLOOKUP($A459,Filtro_!$A$5:$I$358,4,FALSE),0)","v":0},{"$f":"IFERROR(VLOOKUP($A459,Filtro_!$A$5:$I$358,5,FALSE),0)","v":{"v":1192,"d":"1,192"}},459]
["80401055","0401055","Radiografía de clavícula.",206,{"$f":"IFERROR(VLOOKUP($A460,Filtro_!$A$5:$I$358,3,FALSE),0)","v":206},{"$f":"IFERROR(VLOOKUP($A460,Filtro_!$A$5:$I$358,4,FALSE),0)","v":0},{"$f":"IFERROR(VLOOKUP($A460,Filtro_!$A$5:$I$358,5,FALSE),0)","v":13},460]
["80401056","0401056","Radiografía Edad Ósea: carpo y mano ",21,{"$f":"IFERROR(VLOOKUP($A461,Filtro_!$A$5:$I$358,3,FALSE),0)","v":21},{"$f":"IFERROR(VLOOKUP($A461,Filtro_!$A$5:$I$358,4,FALSE),0)","v":0},{"$f":"IFERROR(VLOOKUP($A461,Filtro_!$A$5:$I$358,5,FALSE),0)","v":13},461]
["80401057","0401057","Radiografía Edad ósea : rodilla frontal",1,{"$f":"IFERROR(VLOOKUP($A462,Filtro_!$A$5:$I$358,3,FALSE),0)","v":1},{"$f":"IFERROR(VLOOKUP($A462,Filtro_!$A$5:$I$358,4,FALSE),0)","v":0},{"$f":"IFERROR(VLOOKUP($A462,Filtro_!$A$5:$I$358,5,FALSE),0)","v":0},462]
["80401058","0401058","Estudio radiológico de escafoides",16,{"$f":"IFERROR(VLOOKUP($A463,Filtro_!$A$5:$I$358,3,FALSE),0)","v":16},{"$f":"IFERROR(VLOOKUP($A463,Filtro_!$A$5:$I$358,4,FALSE),0)","v":0},{"$f":"IFERROR(VLOOKUP($A463,Filtro_!$A$5:$I$358,5,FALSE),0)","v":3},463]
["80401059","0401059","Estudio radiológico de muñeca o tobillo frontal lateral y oblicuas",{"v":1388,"d":"1,388"},{"$f":"IFERROR(VLOOKUP($A464,Filtro_!$A$5:$I$358,3,FALSE),0)","v":{"v":1388,"d":"1,388"}},{"$f":"IFERROR(VLOOKUP($A464,Filtro_!$A$5:$I$358,4,FALSE),0)","v":0},{"$f":"IFERROR(VLOOKUP($A464,Filtro_!$A$5:$I$358,5,FALSE),0)","v":113},464]
["80401060","0401060","Radiografía de hombro, fémur, rodilla, pierna, costilla o esternón Frontal y Lateral",{"v":6188,"d":"6,188"},{"$f":"IFERROR(VLOOKUP($A465,Filtro_!$A$5:$I$358,3,FALSE),0)","v":{"v":6188,"d":"6,188"}},{"$f":"IFERROR(VLOOKUP($A465,Filtro_!$A$5:$I$358,4,FALSE),0)","v":0},{"$f":"IFERROR(VLOOKUP($A465,Filtro_!$A$5:$I$358,5,FALSE),0)","v":{"v":2051,"d":"2,051"}},465]
["80401061","0401061","Planigrafía ósea frontal y/o lateral (6 exp.) ",0,{"$f":"IFERROR(VLOOKUP($A466,Filtro_!$A$5:$I$358,3,FALSE),0)","v":0},{"$f":"IFERROR(VLOOKUP($A466,Filtro_!$A$5:$I$358,4,FALSE),0)","v":0},{"$f":"IFERROR(VLOOKUP($A466,Filtro_!$A$5:$I$358,5,FALSE),0)","v":0},466]
["80401062","0401062","Radiografía de Proyecciones especiales oblicuas u otras en hombro, brazo, codo, rodilla, rótulas, sesamoideos, axial de ambas rótulas o similares",258,{"$f":"IFERROR(VLOOKUP($A467,Filtro_!$A$5:$I$358,3,FALSE),0)","v":258},{"$f":"IFERROR(VLOOKUP($A467,Filtro_!$A$5:$I$358,4,FALSE),0)","v":0},{"$f":"IFERROR(VLOOKUP($A467,Filtro_!$A$5:$I$358,5,FALSE),0)","v":111},467]
["80401063","0401063","Radiografía de túnel intercondíleo o radio-carpiano",{"$f":"SUM(E468:F468)","v":0},{"$f":"IFERROR(VLOOKUP($A468,Filtro_!$A$5:$I$358,3,FALSE),0)","v":0},{"$f":"IFERROR(VLOOKUP($A468,Filtro_!$A$5:$I$358,4,FALSE),0)","v":0},{"$f":"IFERROR(VLOOKUP($A468,Filtro_!$A$5:$I$358,5,FALSE),0)","v":0},468]
["80401064","0401064","Apoyo fluoroscópico a procedimientos intraoperatorios y/o biopsia (no incluye el proc.)",0,{"$f":"IFERROR(VLOOKUP($A469,Filtro_!$A$5:$I$358,3,FALSE),0)","v":0},{"$f":"IFERROR(VLOOKUP($A469,Filtro_!$A$5:$I$358,4,FALSE),0)","v":0},{"$f":"IFERROR(VLOOKUP($A469,Filtro_!$A$5:$I$358,5,FALSE),0)","v":0},469]
["80404002","0404002","Ecografía obstétrica",{"v":2212,"d":"2,212"},{"$f":"IFERROR(VLOOKUP($A470,Filtro_!$A$5:$I$358,3,FALSE),0)","v":56},{"$f":"IFERROR(VLOOKUP($A470,Filtro_!$A$5:$I$358,4,FALSE),0)","v":{"v":2156,"d":"2,156"}},{"$f":"IFERROR(VLOOKUP($A470,Filtro_!$A$5:$I$358,5,FALSE),0)","v":138},470]
["80404003","0404003","Ecografía abdominal (incluye hígado, vía biliar, vesícula, páncreas, riñones, bazo, retroperitoneo y grandes vasos)",597,{"$f":"IFERROR(VLOOKUP($A471,Filtro_!$A$5:$I$358,3,FALSE),0)","v":0},{"$f":"IFERROR(VLOOKUP($A471,Filtro_!$A$5:$I$358,4,FALSE),0)","v":597},{"$f":"IFERROR(VLOOKUP($A471,Filtro_!$A$5:$I$358,5,FALSE),0)","v":{"v":2175,"d":"2,175"}},471]
["80404004","0404004","Ecografía como apoyo a cirugía, o a procedimiento (de tórax, muscular, partes blandas, etc.)",0,{"$f":"IFERROR(VLOOKUP($A472,Filtro_!$A$5:$I$358,3,FALSE),0)","v":0},{"$f":"IFERROR(VLOOKUP($A472,Filtro_!$A$5:$I$358,4,FALSE),0)","v":0},{"$f":"IFERROR(VLOOKUP($A472,Filtro_!$A$5:$I$358,5,FALSE),0)","v":0},472]
["80404005","0404005","Ecografía transvaginal o transrectal",237,{"$f":"IFERROR(VLOOKUP($A473,Filtro_!$A$5:$I$358,3,FALSE),0)","v":18},{"$f":"IFERROR(VLOOKUP($A473,Filtro_!$A$5:$I$358,4,FALSE),0)","v":219},{"$f":"IFERROR(VLOOKUP($A473,Filtro_!$A$5:$I$358,5,FALSE),0)","v":6},473]
["80404006","0404006","Ecografía ginecológica, pelviana femenina u obstétrica con estudio fetal",653,{"$f":"IFERROR(VLOOKUP($A474,Filtro_!$A$5:$I$358,3,FALSE),0)","v":41},{"$f":"IFERROR(VLOOKUP($A474,Filtro_!$A$5:$I$358,4,FALSE),0)","v":612},{"$f":"IFERROR(VLOOKUP($A474,Filtro_!$A$5:$I$358,5,FALSE),0)","v":10},474]
["80404007","0404007","Ecografía transvaginal para seguimiento de ovulación, procedimiento completo (6-8 sesiones )",6,{"$f":"IFERROR(VLOOKUP($A475,Filtro_!$A$5:$I$358,3,FALSE),0)","v":0},{"$f":"IFERROR(VLOOKUP($A475,Filtro_!$A$5:$I$358,4,FALSE),0)","v":6},{"$f":"IFERROR(VLOOKUP($A475,Filtro_!$A$5:$I$358,5,FALSE),0)","v":0},475]
["80404008","0404008","Ecografía para seguimiento de ovulación, procedimiento completo (6 a 8 sesiones)",0,{"$f":"IFERROR(VLOOKUP($A476,Filtro_!$A$5:$I$358,3,FALSE),0)","v":0},{"$f":"IFERROR(VLOOKUP($A476,Filtro_!$A$5:$I$358,4,FALSE),0)","v":0},{"$f":"IFERROR(VLOOKUP($A476,Filtro_!$A$5:$I$358,5,FALSE),0)","v":0},476]
["80404009","0404009","Ecografía pélvica masculina (incluye vejiga y próstata)",0,{"$f":"IFERROR(VLOOKUP($A477,Filtro_!$A$5:$I$358,3,FALSE),0)","v":0},{"$f":"IFERROR(VLOOKUP($A477,Filtro_!$A$5:$I$358,4,FALSE),0)","v":0},{"$f":"IFERROR(VLOOKUP($A477,Filtro_!$A$5:$I$358,5,FALSE),0)","v":0},477]
["80404010","0404010","Ecografía renal (bilateral), o de bazo",0,{"$f":"IFERROR(VLOOKUP($A478,Filtro_!$A$5:$I$358,3,FALSE),0)","v":0},{"$f":"IFERROR(VLOOKUP($A478,Filtro_!$A$5:$I$358,4,FALSE),0)","v":0},{"$f":"IFERROR(VLOOKUP($A478,Filtro_!$A$5:$I$358,5,FALSE),0)","v":0},478]
["80404011","0404011","Ecografía encefálica (RN o lactante)",0,{"$f":"IFERROR(VLOOKUP($A479,Filtro_!$A$5:$I$358,3,FALSE),0)","v":0},{"$f":"IFERROR(VLOOKUP($A479,Filtro_!$A$5:$I$358,4,FALSE),0)","v":0},{"$f":"IFERROR(VLOOKUP($A479,Filtro_!$A$5:$I$358,5,FALSE),0)","v":0},479]
["80404012","0404012","Ecografía mamaria bilateral (incluye Doppler)",252,{"$f":"IFERROR(VLOOKUP($A480,Filtro_!$A$5:$I$358,3,FALSE),0)","v":0},{"$f":"IFERROR(VLOOKUP($A480,Filtro_!$A$5:$I$358,4,FALSE),0)","v":252},{"$f":"IFERROR(VLOOKUP($A480,Filtro_!$A$5:$I$358,5,FALSE),0)","v":{"v":1227,"d":"1,227"}},480]
["80404013","0404013","Ecografía ocular, uno o ambos ojos.",0,{"$f":"IFERROR(VLOOKUP($A481,Filtro_!$A$5:$I$358,3,FALSE),0)","v":0},{"$f":"IFERROR(VLOOKUP($A481,Filtro_!$A$5:$I$358,4,FALSE),0)","v":0},{"$f":"IFERROR(VLOOKUP($A481,Filtro_!$A$5:$I$358,5,FALSE),0)","v":0},481]
["80404014","0404014","Ecografía testicular (uno o ambos) (Incluye Doppler)",0,{"$f":"IFERROR(VLOOKUP($A482,Filtro_!$A$5:$I$358,3,FALSE),0)","v":0},{"$f":"IFERROR(VLOOKUP($A482,Filtro_!$A$5:$I$358,4,FALSE),0)","v":0},{"$f":"IFERROR(VLOOKUP($A482,Filtro_!$A$5:$I$358,5,FALSE),0)","v":0},482]
["80404015","0404015","Ecografía tiroidea (Incluye Doppler)",0,{"$f":"IFERROR(VLOOKUP($A483,Filtro_!$A$5:$I$358,3,FALSE),0)","v":0},{"$f":"IFERROR(VLOOKUP($A483,Filtro_!$A$5:$I$358,4,FALSE),0)","v":0},{"$f":"IFERROR(VLOOKUP($A483,Filtro_!$A$5:$I$358,5,FALSE),0)","v":0},483]
["80404016","0404016","Ecografía vascular periférica, articular o de partes blandas",0,{"$f":"IFERROR(VLOOKUP($A484,Filtro_!$A$5:$I$358,3,FALSE),0)","v":0},{"$f":"IFERROR(VLOOKUP($A484,Filtro_!$A$5:$I$358,4,FALSE),0)","v":0},{"$f":"IFERROR(VLOOKUP($A484,Filtro_!$A$5:$I$358,5,FALSE),0)","v":0},484]
["80404018","0404018","Ecotomografía vascular periférica (bilateral), cervical (bilateral), abdominal o de otros órganos con doppler duplex                 ",0,{"$f":"IFERROR(VLOOKUP($A485,Filtro_!$A$5:$I$358,3,FALSE),0)","v":0},{"$f":"IFERROR(VLOOKUP($A485,Filtro_!$A$5:$I$358,4,FALSE),0)","v":0},{"$f":"IFERROR(VLOOKUP($A485,Filtro_!$A$5:$I$358,5,FALSE),0)","v":0},485]
["80404019","0404019","Ecotomografía vascular periférica (bilateral), cervical (bilateral), abdominal o de otros órganos con doppler color                ",0,{"$f":"IFERROR(VLOOKUP($A486,Filtro_!$A$5:$I$358,3,FALSE),0)","v":0},{"$f":"IFERROR(VLOOKUP($A486,Filtro_!$A$5:$I$358,4,FALSE),0)","v":0},{"$f":"IFERROR(VLOOKUP($A486,Filtro_!$A$5:$I$358,5,FALSE),0)","v":0},486]
[{"$nulls":7},487]
[null,"SECCIÓN B: PROCEDIMIENTOS APOYO CLÍNICO Y TERAPÉUTICO",{"$nulls":7},488]
[null,"CÓDIGOS","PROCEDIMIENTOS","Total","SAPU/SAR/SUR","Resto Establecimientos APS","Funcionario",null,"Compras de Servicios",489]
[{"$nulls":6},"Médico","Otro",null,490]
[null,"NEUROLOGÍA",{"$nulls":7},491]
["81101003",1101003,"Lumbar c/s manometria c/s queckensted   ",{"$f":"SUM(E492:F492)","v":0},{"$f":"IFERROR(VLOOKUP($A492,Filtro_!$A$5:$I$358,3,FALSE),0)","v":0},{"$f":"IFERROR(VLOOKUP($A492,Filtro_!$A$5:$I$358,4,FALSE),0)","v":0},{"$f":"IFERROR(VLOOKUP($A492,Filtro_!$A$5:$I$358,5,FALSE),0)","v":0},{"$f":"IFERROR(VLOOKUP($A492,Filtro_!$A$5:$I$358,6,FALSE),0)","v":0},{"$f":"IFERROR(VLOOKUP($A492,Filtro_!$A$5:$I$358,7,FALSE),0)","v":0},492]
[{"$nulls":9},493]
[null,"OFTALMOLOGÍA",{"$nulls":7},494]
["81201003",1201003,"cuantificacion de lagrimacion (test de   schirmer),  uno o                  ",{"$f":"SUM(E495:F495)","v":0},{"$f":"IFERROR(VLOOKUP($A495,Filtro_!$A$5:$I$358,3,FALSE),0)","v":0},{"$f":"IFERROR(VLOOKUP($A495,Filtro_!$A$5:$I$358,4,FALSE),0)","v":0},{"$f":"IFERROR(VLOOKUP($A495,Filtro_!$A$5:$I$358,5,FALSE),0)","v":0},{"$f":"IFERROR(VLOOKUP($A495,Filtro_!$A$5:$I$358,6,FALSE),0)","v":0},{"$f":"IFERROR(VLOOKUP($A495,Filtro_!$A$5:$I$358,7,FALSE),0)","v":0},495]
["81201004",1201004,"curva de tension aplanatica (por cada dia), c/ojo                                ",0,{"$f":"IFERROR(VLOOKUP($A496,Filtro_!$A$5:$I$358,3,FALSE),0)","v":0},{"$f":"IFERROR(VLOOKUP($A496,Filtro_!$A$5:$I$358,4,FALSE),0)","v":0},{"$f":"IFERROR(VLOOKUP($A496,Filtro_!$A$5:$I$358,5,FALSE),0)","v":0},{"$f":"IFERROR(VLOOKUP($A496,Filtro_!$A$5:$I$358,6,FALSE),0)","v":0},{"$f":"IFERROR(VLOOKUP($A496,Filtro_!$A$5:$I$358,7,FALSE),0)","v":0},496]
["81201005",1201005,"diploscopia cuantitativa, ambos ojos                                                      ",0,{"$f":"IFERROR(VLOOKUP($A497,Filtro_!$A$5:$I$358,3,FALSE),0)","v":0},{"$f":"IFERROR(VLOOKUP($A497,Filtro_!$A$5:$I$358,4,FALSE),0)","v":0},{"$f":"IFERROR(VLOOKUP($A497,Filtro_!$A$5:$I$358,5,FALSE),0)","v":0},{"$f":"IFERROR(VLOOKUP($A497,Filtro_!$A$5:$I$358,6,FALSE),0)","v":0},{"$f":"IFERROR(VLOOKUP($A497,Filtro_!$A$5:$I$358,7,FALSE),0)","v":0},497]
["81201009",1201009,"exploracion sensoriomotora: estrabismo, estudio completo ,               ",0,{"$f":"IFERROR(VLOOKUP($A498,Filtro_!$A$5:$I$358,3,FALSE),0)","v":0},{"$f":"IFERROR(VLOOKUP($A498,Filtro_!$A$5:$I$358,4,FALSE),0)","v":0},{"$f":"IFERROR(VLOOKUP($A498,Filtro_!$A$5:$I$358,5,FALSE),0)","v":0},{"$f":"IFERROR(VLOOKUP($A498,Filtro_!$A$5:$I$358,6,FALSE),0)","v":0},{"$f":"IFERROR(VLOOKUP($A498,Filtro_!$A$5:$I$358,7,FALSE),0)","v":0},498]
["81201012",1201012,"retinografia, ambos ojos                                                                           ",0,{"$f":"IFERROR(VLOOKUP($A499,Filtro_!$A$5:$I$358,3,FALSE),0)","v":0},{"$f":"IFERROR(VLOOKUP($A499,Filtro_!$A$5:$I$358,4,FALSE),0)","v":0},{"$f":"IFERROR(VLOOKUP($A499,Filtro_!$A$5:$I$358,5,FALSE),0)","v":0},{"$f":"IFERROR(VLOOKUP($A499,Filtro_!$A$5:$I$358,6,FALSE),0)","v":0},{"$f":"IFERROR(VLOOKUP($A499,Filtro_!$A$5:$I$358,7,FALSE),0)","v":0},499]
["81201014",1201014,"tonometria ocular, cualquier tecnica, c/ojo                                            ",0,{"$f":"IFERROR(VLOOKUP($A500,Filtro_!$A$5:$I$358,3,FALSE),0)","v":0},{"$f":"IFERROR(VLOOKUP($A500,Filtro_!$A$5:$I$358,4,FALSE),0)","v":0},{"$f":"IFERROR(VLOOKUP($A500,Filtro_!$A$5:$I$358,5,FALSE),0)","v":0},{"$f":"IFERROR(VLOOKUP($A500,Filtro_!$A$5:$I$358,6,FALSE),0)","v":0},{"$f":"IFERROR(VLOOKUP($A500,Filtro_!$A$5:$I$358,7,FALSE),0)","v":0},500]
["81201015",1201015,"tratamiento ortoptico y/ o pleoptico (por sesion) ,                               ",0,{"$f":"IFERROR(VLOOKUP($A501,Filtro_!$A$5:$I$358,3,FALSE),0)","v":0},{"$f":"IFERROR(VLOOKUP($A501,Filtro_!$A$5:$I$358,4,FALSE),0)","v":0},{"$f":"IFERROR(VLOOKUP($A501,Filtro_!$A$5:$I$358,5,FALSE),0)","v":0},{"$f":"IFERROR(VLOOKUP($A501,Filtro_!$A$5:$I$358,6,FALSE),0)","v":0},{"$f":"IFERROR(VLOOKUP($A501,Filtro_!$A$5:$I$358,7,FALSE),0)","v":0},501]
["81201019",1201019,"Exploracion vitreorretinal, ambos ojos                                                       ",0,{"$f":"IFERROR(VLOOKUP($A502,Filtro_!$A$5:$I$358,3,FALSE),0)","v":0},{"$f":"IFERROR(VLOOKUP($A502,Filtro_!$A$5:$I$358,4,FALSE),0)","v":0},{"$f":"IFERROR(VLOOKUP($A502,Filtro_!$A$5:$I$358,5,FALSE),0)","v":0},{"$f":"IFERROR(VLOOKUP($A502,Filtro_!$A$5:$I$358,6,FALSE),0)","v":0},{"$f":"IFERROR(VLOOKUP($A502,Filtro_!$A$5:$I$358,7,FALSE),0)","v":0},502]
["81201029",1201029,"Cuerpo extrano conjuntival y/o corneal en adultos                                 ",265,{"$f":"IFERROR(VLOOKUP($A503,Filtro_!$A$5:$I$358,3,FALSE),0)","v":187},{"$f":"IFERROR(VLOOKUP($A503,Filtro_!$A$5:$I$358,4,FALSE),0)","v":78},{"$f":"IFERROR(VLOOKUP($A503,Filtro_!$A$5:$I$358,5,FALSE),0)","v":7},{"$f":"IFERROR(VLOOKUP($A503,Filtro_!$A$5:$I$358,6,FALSE),0)","v":208},{"$f":"IFERROR(VLOOKUP($A503,Filtro_!$A$5:$I$358,7,FALSE),0)","v":0},503]
["81201042",1201042,"Campimetría computarizada, c/ojo (excluye UAPO)                            ",0,{"$f":"IFERROR(VLOOKUP($A504,Filtro_!$A$5:$I$358,3,FALSE),0)","v":0},{"$f":"IFERROR(VLOOKUP($A504,Filtro_!$A$5:$I$358,4,FALSE),0)","v":0},{"$f":"IFERROR(VLOOKUP($A504,Filtro_!$A$5:$I$358,5,FALSE),0)","v":0},{"$f":"IFERROR(VLOOKUP($A504,Filtro_!$A$5:$I$358,6,FALSE),0)","v":0},{"$f":"IFERROR(VLOOKUP($A504,Filtro_!$A$5:$I$358,7,FALSE),0)","v":0},504]
["81201042A",1201042,"Campimetría computarizada, c/ojo (en UAPO)                                  ",0,{"$f":"IFERROR(VLOOKUP($A505,Filtro_!$A$5:$I$358,3,FALSE),0)","v":0},{"$f":"IFERROR(VLOOKUP($A505,Filtro_!$A$5:$I$358,4,FALSE),0)","v":0},{"$f":"IFERROR(VLOOKUP($A505,Filtro_!$A$5:$I$358,5,FALSE),0)","v":0},{"$f":"IFERROR(VLOOKUP($A505,Filtro_!$A$5:$I$358,6,FALSE),0)","v":0},{"$f":"IFERROR(VLOOKUP($A505,Filtro_!$A$5:$I$358,7,FALSE),0)","v":0},505]
[null,"TOTAL",null,{"$f":"SUM(D495:D505)","v":265},187,78,7,208,0,506]
[{"$nulls":9},507]
[null,"OTORRINOLARINGOLOGÍA",{"$nulls":7},508]
["81301025",1301025,"Taponamiento nasal anterior (proc. aut.)",{"$f":"SUM(E509:F509)","v":175},{"$f":"IFERROR(VLOOKUP($A509,Filtro_!$A$5:$I$358,3,FALSE),0)","v":128},{"$f":"IFERROR(VLOOKUP($A509,Filtro_!$A$5:$I$358,4,FALSE),0)","v":47},{"$f":"IFERROR(VLOOKUP($A509,Filtro_!$A$5:$I$358,5,FALSE),0)","v":59},{"$f":"IFERROR(VLOOKUP($A509,Filtro_!$A$5:$I$358,6,FALSE),0)","v":104},{"$f":"IFERROR(VLOOKUP($A509,Filtro_!$A$5:$I$358,7,FALSE),0)","v":1},509]
["81301026",1301026,"Taponamiento nasal posterior",9,{"$f":"IFERROR(VLOOKUP($A510,Filtro_!$A$5:$I$358,3,FALSE),0)","v":8},{"$f":"IFERROR(VLOOKUP($A510,Filtro_!$A$5:$I$358,4,FALSE),0)","v":1},{"$f":"IFERROR(VLOOKUP($A510,Filtro_!$A$5:$I$358,5,FALSE),0)","v":0},{"$f":"IFERROR(VLOOKUP($A510,Filtro_!$A$5:$I$358,6,FALSE),0)","v":4},{"$f":"IFERROR(VLOOKUP($A510,Filtro_!$A$5:$I$358,7,FALSE),0)","v":0},510]
["81301029",1301029,"Cuerpo extraño en fosas nasales, extraccion en adultos        ",1,{"$f":"IFERROR(VLOOKUP($A511,Filtro_!$A$5:$I$358,3,FALSE),0)","v":1},{"$f":"IFERROR(VLOOKUP($A511,Filtro_!$A$5:$I$358,4,FALSE),0)","v":0},{"$f":"IFERROR(VLOOKUP($A511,Filtro_!$A$5:$I$358,5,FALSE),0)","v":1},{"$f":"IFERROR(VLOOKUP($A511,Filtro_!$A$5:$I$358,6,FALSE),0)","v":0},{"$f":"IFERROR(VLOOKUP($A511,Filtro_!$A$5:$I$358,7,FALSE),0)","v":0},511]
["81301030",1301030,"Cuerpo extraño en fosas nasales, extraccion en niños        ",6,{"$f":"IFERROR(VLOOKUP($A512,Filtro_!$A$5:$I$358,3,FALSE),0)","v":6},{"$f":"IFERROR(VLOOKUP($A512,Filtro_!$A$5:$I$358,4,FALSE),0)","v":0},{"$f":"IFERROR(VLOOKUP($A512,Filtro_!$A$5:$I$358,5,FALSE),0)","v":6},{"$f":"IFERROR(VLOOKUP($A512,Filtro_!$A$5:$I$358,6,FALSE),0)","v":0},{"$f":"IFERROR(VLOOKUP($A512,Filtro_!$A$5:$I$358,7,FALSE),0)","v":0},512]
["81301042",1301042,"Trompa de eustaquio, insuflacion instrumental (proc. Aut.) en adultos                                                                             ",0,{"$f":"IFERROR(VLOOKUP($A513,Filtro_!$A$5:$I$358,3,FALSE),0)","v":0},{"$f":"IFERROR(VLOOKUP($A513,Filtro_!$A$5:$I$358,4,FALSE),0)","v":0},{"$f":"IFERROR(VLOOKUP($A513,Filtro_!$A$5:$I$358,5,FALSE),0)","v":0},{"$f":"IFERROR(VLOOKUP($A513,Filtro_!$A$5:$I$358,6,FALSE),0)","v":0},{"$f":"IFERROR(VLOOKUP($A513,Filtro_!$A$5:$I$358,7,FALSE),0)","v":0},513]
["81301043",1301043,"Trompa de eustaquio, insuflacion instrumental (proc. Aut.) en ninos                                                                                     ",17,{"$f":"IFERROR(VLOOKUP($A514,Filtro_!$A$5:$I$358,3,FALSE),0)","v":0},{"$f":"IFERROR(VLOOKUP($A514,Filtro_!$A$5:$I$358,4,FALSE),0)","v":17},{"$f":"IFERROR(VLOOKUP($A514,Filtro_!$A$5:$I$358,5,FALSE),0)","v":0},{"$f":"IFERROR(VLOOKUP($A514,Filtro_!$A$5:$I$358,6,FALSE),0)","v":17},{"$f":"IFERROR(VLOOKUP($A514,Filtro_!$A$5:$I$358,7,FALSE),0)","v":0},514]
[null,"TOTAL",null,{"$f":"SUM(D509:D514)","v":208},143,65,66,125,1,515]
[{"$nulls":9},516]
[null,"DERMATOLOGÍA Y TEGUMENTOS",{"$nulls":7},517]
["81601110",1601110,"Curetaje de lesiones virales o similares hasta 10 lesiones                          ",{"$f":"SUM(E518:F518)","v":0},{"$f":"IFERROR(VLOOKUP($A518,Filtro_!$A$5:$I$358,3,FALSE),0)","v":0},{"$f":"IFERROR(VLOOKUP($A518,Filtro_!$A$5:$I$358,4,FALSE),0)","v":0},{"$f":"IFERROR(VLOOKUP($A518,Filtro_!$A$5:$I$358,5,FALSE),0)","v":0},{"$f":"IFERROR(VLOOKUP($A518,Filtro_!$A$5:$I$358,6,FALSE),0)","v":0},{"$f":"IFERROR(VLOOKUP($A518,Filtro_!$A$5:$I$358,7,FALSE),0)","v":0},518]
["81601115",1601115,"Implantes Subcutáneos, instalación o retiro",917,{"$f":"IFERROR(VLOOKUP($A519,Filtro_!$A$5:$I$358,3,FALSE),0)","v":0},{"$f":"IFERROR(VLOOKUP($A519,Filtro_!$A$5:$I$358,4,FALSE),0)","v":917},{"$f":"IFERROR(VLOOKUP($A519,Filtro_!$A$5:$I$358,5,FALSE),0)","v":0},{"$f":"IFERROR(VLOOKUP($A519,Filtro_!$A$5:$I$358,6,FALSE),0)","v":858},{"$f":"IFERROR(VLOOKUP($A519,Filtro_!$A$5:$I$358,7,FALSE),0)","v":0},519]
[null,"TOTAL",null,{"$f":"SUM(D518:D519)","v":917},0,917,0,858,0,520]
[{"$nulls":9},521]
[null,"CARDIOLOGÍA",{"$nulls":7},522]
["81701001","1701001","Electrocardiograma",{"$f":"SUM(E523:F523)","v":{"v":80022,"d":"80,022"}},{"$f":"IFERROR(VLOOKUP($A523,Filtro_!$A$5:$I$358,3,FALSE),0)","v":{"v":21538,"d":"21,538"}},{"$f":"IFERROR(VLOOKUP($A523,Filtro_!$A$5:$I$358,4,FALSE),0)","v":{"v":58484,"d":"58,484"}},{"$f":"IFERROR(VLOOKUP($A523,Filtro_!$A$5:$I$358,5,FALSE),0)","v":243},{"$f":"IFERROR(VLOOKUP($A523,Filtro_!$A$5:$I$358,6,FALSE),0)","v":{"v":74957,"d":"74,957"}},{"$f":"IFERROR(VLOOKUP($A523,Filtro_!$A$5:$I$358,7,FALSE),0)","v":{"v":19937,"d":"19,937"}},523]
["81701006","1701006","E.C.G. Continuo (test holter o similares, por ej. variabilidad de la frecuencia cardiaca y/o alta resolución  del st y/o despolarización tardía);20 a 24 horas de registro                                                                         ",89,{"$f":"IFERROR(VLOOKUP($A524,Filtro_!$A$5:$I$358,3,FALSE),0)","v":0},{"$f":"IFERROR(VLOOKUP($A524,Filtro_!$A$5:$I$358,4,FALSE),0)","v":89},{"$f":"IFERROR(VLOOKUP($A524,Filtro_!$A$5:$I$358,5,FALSE),0)","v":0},{"$f":"IFERROR(VLOOKUP($A524,Filtro_!$A$5:$I$358,6,FALSE),0)","v":89},{"$f":"IFERROR(VLOOKUP($A524,Filtro_!$A$5:$I$358,7,FALSE),0)","v":75},524]
["81701009","1701009","Monitoreo continuo de presión arterial",{"v":34476,"d":"34,476"},{"$f":"IFERROR(VLOOKUP($A525,Filtro_!$A$5:$I$358,3,FALSE),0)","v":{"v":4150,"d":"4,150"}},{"$f":"IFERROR(VLOOKUP($A525,Filtro_!$A$5:$I$358,4,FALSE),0)","v":{"v":30326,"d":"30,326"}},{"$f":"IFERROR(VLOOKUP($A525,Filtro_!$A$5:$I$358,5,FALSE),0)","v":3},{"$f":"IFERROR(VLOOKUP($A525,Filtro_!$A$5:$I$358,6,FALSE),0)","v":{"v":33592,"d":"33,592"}},{"$f":"IFERROR(VLOOKUP($A525,Filtro_!$A$5:$I$358,7,FALSE),0)","v":259},525]
["81707038",null,"Monitoreo Ambulatorio de Presión Arterial (procedimiento finalizado)",{"v":24669,"d":"24,669"},{"$f":"IFERROR(VLOOKUP($A526,Filtro_!$A$5:$I$358,3,FALSE),0)","v":{"v":4825,"d":"4,825"}},{"$f":"IFERROR(VLOOKUP($A526,Filtro_!$A$5:$I$358,4,FALSE),0)","v":{"v":19844,"d":"19,844"}},{"$f":"IFERROR(VLOOKUP($A526,Filtro_!$A$5:$I$358,5,FALSE),0)","v":15},{"$f":"IFERROR(VLOOKUP($A526,Filtro_!$A$5:$I$358,6,FALSE),0)","v":{"v":23509,"d":"23,509"}},{"$f":"IFERROR(VLOOKUP($A526,Filtro_!$A$5:$I$358,7,FALSE),0)","v":15},526]
[null,"TOTAL",null,{"$f":"SUM(D523:D526)","v":{"v":139256,"d":"139,256"}},{"v":30513,"d":"30,513"},{"v":108743,"d":"108,743"},261,{"v":132147,"d":"132,147"},{"v":20286,"d":"20,286"},527]
[{"$nulls":9},528]
[null,"NEUMOLOGÍA",{"$nulls":7},529]
["81707001",1707001,"Espirometría Basal                                                                                       ",{"$f":"SUM(E530:F530)","v":{"v":1026,"d":"1,026"}},{"$f":"IFERROR(VLOOKUP($A530,Filtro_!$A$5:$I$358,3,FALSE),0)","v":0},{"$f":"IFERROR(VLOOKUP($A530,Filtro_!$A$5:$I$358,4,FALSE),0)","v":{"v":1026,"d":"1,026"}},{"$f":"IFERROR(VLOOKUP($A530,Filtro_!$A$5:$I$358,5,FALSE),0)","v":0},{"$f":"IFERROR(VLOOKUP($A530,Filtro_!$A$5:$I$358,6,FALSE),0)","v":{"v":1023,"d":"1,023"}},{"$f":"IFERROR(VLOOKUP($A530,Filtro_!$A$5:$I$358,7,FALSE),0)","v":0},530]
["81707002",1707002,"Espirometria basal y con broncodilatador                                                         ",{"v":1212,"d":"1,212"},{"$f":"IFERROR(VLOOKUP($A531,Filtro_!$A$5:$I$358,3,FALSE),0)","v":15},{"$f":"IFERROR(VLOOKUP($A531,Filtro_!$A$5:$I$358,4,FALSE),0)","v":{"v":1197,"d":"1,197"}},{"$f":"IFERROR(VLOOKUP($A531,Filtro_!$A$5:$I$358,5,FALSE),0)","v":0},{"$f":"IFERROR(VLOOKUP($A531,Filtro_!$A$5:$I$358,6,FALSE),0)","v":{"v":1148,"d":"1,148"}},{"$f":"IFERROR(VLOOKUP($A531,Filtro_!$A$5:$I$358,7,FALSE),0)","v":0},531]
["81707004",1707004,"Test de provocacion con ejercicio                                                                      ",202,{"$f":"IFERROR(VLOOKUP($A532,Filtro_!$A$5:$I$358,3,FALSE),0)","v":1},{"$f":"IFERROR(VLOOKUP($A532,Filtro_!$A$5:$I$358,4,FALSE),0)","v":201},{"$f":"IFERROR(VLOOKUP($A532,Filtro_!$A$5:$I$358,5,FALSE),0)","v":0},{"$f":"IFERROR(VLOOKUP($A532,Filtro_!$A$5:$I$358,6,FALSE),0)","v":202},{"$f":"IFERROR(VLOOKUP($A532,Filtro_!$A$5:$I$358,7,FALSE),0)","v":0},532]
["81707030",1707030,"Aerosolterapia (Nebulización)    ",{"v":17469,"d":"17,469"},{"$f":"IFERROR(VLOOKUP($A533,Filtro_!$A$5:$I$358,3,FALSE),0)","v":{"v":16072,"d":"16,072"}},{"$f":"IFERROR(VLOOKUP($A533,Filtro_!$A$5:$I$358,4,FALSE),0)","v":{"v":1397,"d":"1,397"}},{"$f":"IFERROR(VLOOKUP($A533,Filtro_!$A$5:$I$358,5,FALSE),0)","v":275},{"$f":"IFERROR(VLOOKUP($A533,Filtro_!$A$5:$I$358,6,FALSE),0)","v":{"v":16955,"d":"16,955"}},{"$f":"IFERROR(VLOOKUP($A533,Filtro_!$A$5:$I$358,7,FALSE),0)","v":44},533]
[null,null,"Flujometría Basal ",{"$nulls":6},534]
[null,null,"Flujometría Post BD ",{"$nulls":6},535]
[null,null,"Pimometría ",{"$nulls":6},536]
[null,null,"Test de provocación con ejercicio ",{"$nulls":6},537]
[null,null,"Test de Marcha 6 minutos ",{"$nulls":6},538]
[null,null,"Sesiones de Kinesioterapia Respiratoria ",{"$nulls":6},539]
[null,null,"Toma de muestra Secreción Mucosa/Bronquial ",{"$nulls":6},540]
[null,"TOTAL",null,{"$f":"SUM(D530:D540)","v":{"v":19909,"d":"19,909"}},{"$f":"SUM(E530:E540)","v":{"v":16088,"d":"16,088"}},{"$f":"SUM(F530:F540)","v":{"v":3821,"d":"3,821"}},{"$f":"SUM(G530:G533)","v":275},{"$f":"SUM(H530:H540)","v":{"v":19328,"d":"19,328"}},{"$f":"SUM(I530:I540)","v":44},541]
[{"$nulls":9},542]
[null,"GASTROENTEROLOGÍA",{"$nulls":7},543]
["81801023",1801023,"Intubacion con sonda gastrica                                                                ",{"$f":"SUM(E544:F544)","v":141},{"$f":"IFERROR(VLOOKUP($A544,Filtro_!$A$5:$I$358,3,FALSE),0)","v":109},{"$f":"IFERROR(VLOOKUP($A544,Filtro_!$A$5:$I$358,4,FALSE),0)","v":32},{"$f":"IFERROR(VLOOKUP($A544,Filtro_!$A$5:$I$358,5,FALSE),0)","v":3},{"$f":"IFERROR(VLOOKUP($A544,Filtro_!$A$5:$I$358,6,FALSE),0)","v":129},{"$f":"IFERROR(VLOOKUP($A544,Filtro_!$A$5:$I$358,7,FALSE),0)","v":0},544]
["81801042",1801042,"Vaciamiento manual de fecaloma                                                                   ",3,{"$f":"IFERROR(VLOOKUP($A545,Filtro_!$A$5:$I$358,3,FALSE),0)","v":3},{"$f":"IFERROR(VLOOKUP($A545,Filtro_!$A$5:$I$358,4,FALSE),0)","v":0},{"$f":"IFERROR(VLOOKUP($A545,Filtro_!$A$5:$I$358,5,FALSE),0)","v":1},{"$f":"IFERROR(VLOOKUP($A545,Filtro_!$A$5:$I$358,6,FALSE),0)","v":2},{"$f":"IFERROR(VLOOKUP($A545,Filtro_!$A$5:$I$358,7,FALSE),0)","v":0},545]
["81801001",1801001,"Gastroduodenoscopía (incluye esofagoscopía)                                                      ",35,{"$f":"IFERROR(VLOOKUP($A546,Filtro_!$A$5:$I$358,3,FALSE),0)","v":35},{"$f":"IFERROR(VLOOKUP($A546,Filtro_!$A$5:$I$358,4,FALSE),0)","v":0},{"$f":"IFERROR(VLOOKUP($A546,Filtro_!$A$5:$I$358,5,FALSE),0)","v":0},{"$f":"IFERROR(VLOOKUP($A546,Filtro_!$A$5:$I$358,6,FALSE),0)","v":35},{"$f":"IFERROR(VLOOKUP($A546,Filtro_!$A$5:$I$358,7,FALSE),0)","v":0},546]
[null,"TOTAL",null,{"$f":"SUM(D544:D546)","v":179},147,32,4,166,0,547]
[{"$nulls":9},548]
[null,"UROLOGÍA",{"$nulls":7},549]
["81901019",1901019,"Instilacion vesical (incluye colocacion de sonda) proc. Aut.                                      ",{"$f":"SUM(E550:F550)","v":{"v":1155,"d":"1,155"}},{"$f":"IFERROR(VLOOKUP($A550,Filtro_!$A$5:$I$358,3,FALSE),0)","v":871},{"$f":"IFERROR(VLOOKUP($A550,Filtro_!$A$5:$I$358,4,FALSE),0)","v":284},{"$f":"IFERROR(VLOOKUP($A550,Filtro_!$A$5:$I$358,5,FALSE),0)","v":10},{"$f":"IFERROR(VLOOKUP($A550,Filtro_!$A$5:$I$358,6,FALSE),0)","v":{"v":1084,"d":"1,084"}},{"$f":"IFERROR(VLOOKUP($A550,Filtro_!$A$5:$I$358,7,FALSE),0)","v":0},550]
["81901022",1901022,"Vac. Vesical por sonda uretral, (proc. Aut.)                                                    ",399,{"$f":"IFERROR(VLOOKUP($A551,Filtro_!$A$5:$I$358,3,FALSE),0)","v":260},{"$f":"IFERROR(VLOOKUP($A551,Filtro_!$A$5:$I$358,4,FALSE),0)","v":139},{"$f":"IFERROR(VLOOKUP($A551,Filtro_!$A$5:$I$358,5,FALSE),0)","v":4},{"$f":"IFERROR(VLOOKUP($A551,Filtro_!$A$5:$I$358,6,FALSE),0)","v":379},{"$f":"IFERROR(VLOOKUP($A551,Filtro_!$A$5:$I$358,7,FALSE),0)","v":0},551]
[null,"TOTAL",null,{"$f":"SUM(D550:D551)","v":{"v":1554,"d":"1,554"}},{"v":1131,"d":"1,131"},423,14,{"v":1463,"d":"1,463"},0,552]
[{"$nulls":9},553]
[null,"GINECOLOGÍA",{"$nulls":7},554]
["82001015",2001015,"Colocación o extracción de dispositivo intrauterino (no incluye el valor del dispositivo)                    ",{"$f":"SUM(E555:F555)","v":{"v":1122,"d":"1,122"}},{"$f":"IFERROR(VLOOKUP($A555,Filtro_!$A$5:$I$358,3,FALSE),0)","v":0},{"$f":"IFERROR(VLOOKUP($A555,Filtro_!$A$5:$I$358,4,FALSE),0)","v":{"v":1122,"d":"1,122"}},{"$f":"IFERROR(VLOOKUP($A555,Filtro_!$A$5:$I$358,5,FALSE),0)","v":1},{"$f":"IFERROR(VLOOKUP($A555,Filtro_!$A$5:$I$358,6,FALSE),0)","v":{"v":1051,"d":"1,051"}},{"$f":"IFERROR(VLOOKUP($A555,Filtro_!$A$5:$I$358,7,FALSE),0)","v":0},555]
[{"$nulls":9},556]
[null,"ORTOPEDIA Y TRAUMATOLOGÍA",{"$nulls":7},557]
["82101001",2101001,"Infiltracion local medicamentos (bursas, tendones, yuxtaarticulares y/o intraarticulares",{"$f":"SUM(E558:F558)","v":0},{"$f":"IFERROR(VLOOKUP($A558,Filtro_!$A$5:$I$358,3,FALSE),0)","v":0},{"$f":"IFERROR(VLOOKUP($A558,Filtro_!$A$5:$I$358,4,FALSE),0)","v":0},{"$f":"IFERROR(VLOOKUP($A558,Filtro_!$A$5:$I$358,5,FALSE),0)","v":0},{"$f":"IFERROR(VLOOKUP($A558,Filtro_!$A$5:$I$358,6,FALSE),0)","v":0},{"$f":"IFERROR(VLOOKUP($A558,Filtro_!$A$5:$I$358,7,FALSE),0)","v":0},558]
["82101002",2101002,"Procedimiento para exploraciones radiologicas (incluye maniobra e inyeccion del medio de contraste)  BM18A  Revisar en BM Colocación valva",0,{"$f":"IFERROR(VLOOKUP($A559,Filtro_!$A$5:$I$358,3,FALSE),0)","v":0},{"$f":"IFERROR(VLOOKUP($A559,Filtro_!$A$5:$I$358,4,FALSE),0)","v":0},{"$f":"IFERROR(VLOOKUP($A559,Filtro_!$A$5:$I$358,5,FALSE),0)","v":0},{"$f":"IFERROR(VLOOKUP($A559,Filtro_!$A$5:$I$358,6,FALSE),0)","v":0},{"$f":"IFERROR(VLOOKUP($A559,Filtro_!$A$5:$I$358,7,FALSE),0)","v":0},559]
["82101005",2106005,"Rodillera, bota larga o corta de yeso",0,{"$f":"IFERROR(VLOOKUP($A560,Filtro_!$A$5:$I$358,3,FALSE),0)","v":0},{"$f":"IFERROR(VLOOKUP($A560,Filtro_!$A$5:$I$358,4,FALSE),0)","v":0},{"$f":"IFERROR(VLOOKUP($A560,Filtro_!$A$5:$I$358,5,FALSE),0)","v":0},{"$f":"IFERROR(VLOOKUP($A560,Filtro_!$A$5:$I$358,6,FALSE),0)","v":0},{"$f":"IFERROR(VLOOKUP($A560,Filtro_!$A$5:$I$358,7,FALSE),0)","v":0},560]
["82101007",2106007,"Velpeau",0,{"$f":"IFERROR(VLOOKUP($A561,Filtro_!$A$5:$I$358,3,FALSE),0)","v":0},{"$f":"IFERROR(VLOOKUP($A561,Filtro_!$A$5:$I$358,4,FALSE),0)","v":0},{"$f":"IFERROR(VLOOKUP($A561,Filtro_!$A$5:$I$358,5,FALSE),0)","v":0},{"$f":"IFERROR(VLOOKUP($A561,Filtro_!$A$5:$I$358,6,FALSE),0)","v":0},{"$f":"IFERROR(VLOOKUP($A561,Filtro_!$A$5:$I$358,7,FALSE),0)","v":0},561]
["82101006",2106006,"Yeso antebraquial c/s ferula digital",0,{"$f":"IFERROR(VLOOKUP($A562,Filtro_!$A$5:$I$358,3,FALSE),0)","v":0},{"$f":"IFERROR(VLOOKUP($A562,Filtro_!$A$5:$I$358,4,FALSE),0)","v":0},{"$f":"IFERROR(VLOOKUP($A562,Filtro_!$A$5:$I$358,5,FALSE),0)","v":0},{"$f":"IFERROR(VLOOKUP($A562,Filtro_!$A$5:$I$358,6,FALSE),0)","v":0},{"$f":"IFERROR(VLOOKUP($A562,Filtro_!$A$5:$I$358,7,FALSE),0)","v":0},562]
["82101004",2106004,"Yeso braquicarpiano",0,{"$f":"IFERROR(VLOOKUP($A563,Filtro_!$A$5:$I$358,3,FALSE),0)","v":0},{"$f":"IFERROR(VLOOKUP($A563,Filtro_!$A$5:$I$358,4,FALSE),0)","v":0},{"$f":"IFERROR(VLOOKUP($A563,Filtro_!$A$5:$I$358,5,FALSE),0)","v":0},{"$f":"IFERROR(VLOOKUP($A563,Filtro_!$A$5:$I$358,6,FALSE),0)","v":0},{"$f":"IFERROR(VLOOKUP($A563,Filtro_!$A$5:$I$358,7,FALSE),0)","v":0},563]
["82107003",2107003,"Luxaciones de articulaciones menores (el resto)      ",{"v":1501,"d":"1,501"},{"$f":"IFERROR(VLOOKUP($A564,Filtro_!$A$5:$I$358,3,FALSE),0)","v":{"v":1498,"d":"1,498"}},{"$f":"IFERROR(VLOOKUP($A564,Filtro_!$A$5:$I$358,4,FALSE),0)","v":3},{"$f":"IFERROR(VLOOKUP($A564,Filtro_!$A$5:$I$358,5,FALSE),0)","v":14},{"$f":"IFERROR(VLOOKUP($A564,Filtro_!$A$5:$I$358,6,FALSE),0)","v":{"v":1487,"d":"1,487"}},{"$f":"IFERROR(VLOOKUP($A564,Filtro_!$A$5:$I$358,7,FALSE),0)","v":0},564]
[null,"TOTAL",null,{"$f":"SUM(D558:D564)","v":{"v":1501,"d":"1,501"}},{"v":1498,"d":"1,498"},3,14,{"v":1487,"d":"1,487"},0,565]
[{"$nulls":9},566]
[null," SECCIÓN C: INTERVENCIONES QUIRÚRGICAS MENORES",{"$nulls":7},567]
["81602201",1602201,"Biopsia de piel y/o mucosa por curetaje o sección tangencial c/s electro x 1 sesion        ",{"$f":"SUM(E568:F568)","v":113},{"$f":"IFERROR(VLOOKUP($A568,Filtro_!$A$5:$I$358,3,FALSE),0)","v":0},{"$f":"IFERROR(VLOOKUP($A568,Filtro_!$A$5:$I$358,4,FALSE),0)","v":113},{"$f":"IFERROR(VLOOKUP($A568,Filtro_!$A$5:$I$358,5,FALSE),0)","v":99},{"$f":"IFERROR(VLOOKUP($A568,Filtro_!$A$5:$I$358,6,FALSE),0)","v":8},{"$f":"IFERROR(VLOOKUP($A568,Filtro_!$A$5:$I$358,7,FALSE),0)","v":93},568]
["81602202",1602202,"Extirpacion de, reparacion o biopsia total o parcial, de lesiones benignas cutáneas por excision cabeza, cuello, genitales, hasta 3 lesiones                                                                  ",224,{"$f":"IFERROR(VLOOKUP($A569,Filtro_!$A$5:$I$358,3,FALSE),0)","v":0},{"$f":"IFERROR(VLOOKUP($A569,Filtro_!$A$5:$I$358,4,FALSE),0)","v":224},{"$f":"IFERROR(VLOOKUP($A569,Filtro_!$A$5:$I$358,5,FALSE),0)","v":65},{"$f":"IFERROR(VLOOKUP($A569,Filtro_!$A$5:$I$358,6,FALSE),0)","v":94},{"$f":"IFERROR(VLOOKUP($A569,Filtro_!$A$5:$I$358,7,FALSE),0)","v":151},569]
["81602203",1602203,"Extirpacion de, reparacion o biopsia total o parcial, de lesiones benignas cutáneas por excision resto de cuerpo hasta 3 lesiones                                                                              ",178,{"$f":"IFERROR(VLOOKUP($A570,Filtro_!$A$5:$I$358,3,FALSE),0)","v":0},{"$f":"IFERROR(VLOOKUP($A570,Filtro_!$A$5:$I$358,4,FALSE),0)","v":178},{"$f":"IFERROR(VLOOKUP($A570,Filtro_!$A$5:$I$358,5,FALSE),0)","v":153},{"$f":"IFERROR(VLOOKUP($A570,Filtro_!$A$5:$I$358,6,FALSE),0)","v":9},{"$f":"IFERROR(VLOOKUP($A570,Filtro_!$A$5:$I$358,7,FALSE),0)","v":102},570]
["81602204",1602204,"Extirpacion de, reparacion o biopsia total o parcial, de lesiones benignas cutáneas por excision cabeza, cuello, genitales, desde 4 hasta 6 lesiones                                              ",131,{"$f":"IFERROR(VLOOKUP($A571,Filtro_!$A$5:$I$358,3,FALSE),0)","v":0},{"$f":"IFERROR(VLOOKUP($A571,Filtro_!$A$5:$I$358,4,FALSE),0)","v":131},{"$f":"IFERROR(VLOOKUP($A571,Filtro_!$A$5:$I$358,5,FALSE),0)","v":113},{"$f":"IFERROR(VLOOKUP($A571,Filtro_!$A$5:$I$358,6,FALSE),0)","v":4},{"$f":"IFERROR(VLOOKUP($A571,Filtro_!$A$5:$I$358,7,FALSE),0)","v":102},571]
["81602205",1602205,"Extirpacion de, reparacion o biopsia total o parcial, de lesiones benignas cutáneas por excision resto de cuerpo desde 4 hasta 6 lesiones                                                             ",82,{"$f":"IFERROR(VLOOKUP($A572,Filtro_!$A$5:$I$358,3,FALSE),0)","v":0},{"$f":"IFERROR(VLOOKUP($A572,Filtro_!$A$5:$I$358,4,FALSE),0)","v":82},{"$f":"IFERROR(VLOOKUP($A572,Filtro_!$A$5:$I$358,5,FALSE),0)","v":79},{"$f":"IFERROR(VLOOKUP($A572,Filtro_!$A$5:$I$358,6,FALSE),0)","v":25},{"$f":"IFERROR(VLOOKUP($A572,Filtro_!$A$5:$I$358,7,FALSE),0)","v":74},572]
["81602206",1602206,"Extirpacion de lesiones benignas por sec tangencial ,curetaje,y/o fulguracion hasta 15 lesiones   ",192,{"$f":"IFERROR(VLOOKUP($A573,Filtro_!$A$5:$I$358,3,FALSE),0)","v":0},{"$f":"IFERROR(VLOOKUP($A573,Filtro_!$A$5:$I$358,4,FALSE),0)","v":192},{"$f":"IFERROR(VLOOKUP($A573,Filtro_!$A$5:$I$358,5,FALSE),0)","v":150},{"$f":"IFERROR(VLOOKUP($A573,Filtro_!$A$5:$I$358,6,FALSE),0)","v":35},{"$f":"IFERROR(VLOOKUP($A573,Filtro_!$A$5:$I$358,7,FALSE),0)","v":33},573]
["81602207",1602207,"Tratamiento por electro de hemangiomas o telangectasias hasta 15 lesiones",5,{"$f":"IFERROR(VLOOKUP($A574,Filtro_!$A$5:$I$358,3,FALSE),0)","v":0},{"$f":"IFERROR(VLOOKUP($A574,Filtro_!$A$5:$I$358,4,FALSE),0)","v":5},{"$f":"IFERROR(VLOOKUP($A574,Filtro_!$A$5:$I$358,5,FALSE),0)","v":5},{"$f":"IFERROR(VLOOKUP($A574,Filtro_!$A$5:$I$358,6,FALSE),0)","v":0},{"$f":"IFERROR(VLOOKUP($A574,Filtro_!$A$5:$I$358,7,FALSE),0)","v":5},574]
["81602211",1602211,"Cabeza, cuello, genitales: tratamiento quirúrgico de tumor maligno por escisión total o parcial, con o sin sutura, por cada lesión o melanoma cualquier localización",6,{"$f":"IFERROR(VLOOKUP($A575,Filtro_!$A$5:$I$358,3,FALSE),0)","v":3},{"$f":"IFERROR(VLOOKUP($A575,Filtro_!$A$5:$I$358,4,FALSE),0)","v":3},{"$f":"IFERROR(VLOOKUP($A575,Filtro_!$A$5:$I$358,5,FALSE),0)","v":6},{"$f":"IFERROR(VLOOKUP($A575,Filtro_!$A$5:$I$358,6,FALSE),0)","v":0},{"$f":"IFERROR(VLOOKUP($A575,Filtro_!$A$5:$I$358,7,FALSE),0)","v":0},575]
["81602212",1602212,"Resto del cuerpo: tratamiento quirúrgico de tumor maligno por escisión total o parcial, con o sin sutura, por cada lesión",10,{"$f":"IFERROR(VLOOKUP($A576,Filtro_!$A$5:$I$358,3,FALSE),0)","v":0},{"$f":"IFERROR(VLOOKUP($A576,Filtro_!$A$5:$I$358,4,FALSE),0)","v":10},{"$f":"IFERROR(VLOOKUP($A576,Filtro_!$A$5:$I$358,5,FALSE),0)","v":10},{"$f":"IFERROR(VLOOKUP($A576,Filtro_!$A$5:$I$358,6,FALSE),0)","v":0},{"$f":"IFERROR(VLOOKUP($A576,Filtro_!$A$5:$I$358,7,FALSE),0)","v":0},576]
["81602213",1602213,"Cabeza, cuello, genitales o melanoma cualquier ubicación: ampliación de márgenes quirúrgicos de tumor maligno extirpado previamente ",56,{"$f":"IFERROR(VLOOKUP($A577,Filtro_!$A$5:$I$358,3,FALSE),0)","v":0},{"$f":"IFERROR(VLOOKUP($A577,Filtro_!$A$5:$I$358,4,FALSE),0)","v":56},{"$f":"IFERROR(VLOOKUP($A577,Filtro_!$A$5:$I$358,5,FALSE),0)","v":56},{"$f":"IFERROR(VLOOKUP($A577,Filtro_!$A$5:$I$358,6,FALSE),0)","v":0},{"$f":"IFERROR(VLOOKUP($A577,Filtro_!$A$5:$I$358,7,FALSE),0)","v":27},577]
["81602214",1602214,"Resto del cuerpo: ampliación de márgenes quirúrgicos de tumor maligno extirpado prevíamente",0,{"$f":"IFERROR(VLOOKUP($A578,Filtro_!$A$5:$I$358,3,FALSE),0)","v":0},{"$f":"IFERROR(VLOOKUP($A578,Filtro_!$A$5:$I$358,4,FALSE),0)","v":0},{"$f":"IFERROR(VLOOKUP($A578,Filtro_!$A$5:$I$358,5,FALSE),0)","v":0},{"$f":"IFERROR(VLOOKUP($A578,Filtro_!$A$5:$I$358,6,FALSE),0)","v":0},{"$f":"IFERROR(VLOOKUP($A578,Filtro_!$A$5:$I$358,7,FALSE),0)","v":0},578]
["81602215",1602215,"Tumores vasculares profundos cara, cuero cabelludo, cuello, genitales",0,{"$f":"IFERROR(VLOOKUP($A579,Filtro_!$A$5:$I$358,3,FALSE),0)","v":0},{"$f":"IFERROR(VLOOKUP($A579,Filtro_!$A$5:$I$358,4,FALSE),0)","v":0},{"$f":"IFERROR(VLOOKUP($A579,Filtro_!$A$5:$I$358,5,FALSE),0)","v":0},{"$f":"IFERROR(VLOOKUP($A579,Filtro_!$A$5:$I$358,6,FALSE),0)","v":0},{"$f":"IFERROR(VLOOKUP($A579,Filtro_!$A$5:$I$358,7,FALSE),0)","v":0},579]
["81602216",1602216,"Tumores vasculares profundos resto del cuerpo",2,{"$f":"IFERROR(VLOOKUP($A580,Filtro_!$A$5:$I$358,3,FALSE),0)","v":2},{"$f":"IFERROR(VLOOKUP($A580,Filtro_!$A$5:$I$358,4,FALSE),0)","v":0},{"$f":"IFERROR(VLOOKUP($A580,Filtro_!$A$5:$I$358,5,FALSE),0)","v":2},{"$f":"IFERROR(VLOOKUP($A580,Filtro_!$A$5:$I$358,6,FALSE),0)","v":0},{"$f":"IFERROR(VLOOKUP($A580,Filtro_!$A$5:$I$358,7,FALSE),0)","v":0},580]
["81602221",1602221,"Herida cortante o contusa complicada, reparación y sutura (más de 5 cm)",922,{"$f":"IFERROR(VLOOKUP($A581,Filtro_!$A$5:$I$358,3,FALSE),0)","v":760},{"$f":"IFERROR(VLOOKUP($A581,Filtro_!$A$5:$I$358,4,FALSE),0)","v":162},{"$f":"IFERROR(VLOOKUP($A581,Filtro_!$A$5:$I$358,5,FALSE),0)","v":332},{"$f":"IFERROR(VLOOKUP($A581,Filtro_!$A$5:$I$358,6,FALSE),0)","v":456},{"$f":"IFERROR(VLOOKUP($A581,Filtro_!$A$5:$I$358,7,FALSE),0)","v":0},581]
["81602222",1602222,"Herida cortante o contusa NO complicada, reparacion y sutura (una o multiples de mas de 5 cms de largo total y/o que comprometa solo piel)                                                                             ",{"v":3292,"d":"3,292"},{"$f":"IFERROR(VLOOKUP($A582,Filtro_!$A$5:$I$358,3,FALSE),0)","v":{"v":2862,"d":"2,862"}},{"$f":"IFERROR(VLOOKUP($A582,Filtro_!$A$5:$I$358,4,FALSE),0)","v":430},{"$f":"IFERROR(VLOOKUP($A582,Filtro_!$A$5:$I$358,5,FALSE),0)","v":{"v":1874,"d":"1,874"}},{"$f":"IFERROR(VLOOKUP($A582,Filtro_!$A$5:$I$358,6,FALSE),0)","v":863},{"$f":"IFERROR(VLOOKUP($A582,Filtro_!$A$5:$I$358,7,FALSE),0)","v":4},582]
["81602217",1602223,"Cabeza, cuello, genitales: extirpación de lesión benigna subepidérmica, incluye tumor sólido, quiste epidérmico y lipoma por lesión ",259,{"$f":"IFERROR(VLOOKUP($A583,Filtro_!$A$5:$I$358,3,FALSE),0)","v":28},{"$f":"IFERROR(VLOOKUP($A583,Filtro_!$A$5:$I$358,4,FALSE),0)","v":231},{"$f":"IFERROR(VLOOKUP($A583,Filtro_!$A$5:$I$358,5,FALSE),0)","v":218},{"$f":"IFERROR(VLOOKUP($A583,Filtro_!$A$5:$I$358,6,FALSE),0)","v":41},{"$f":"IFERROR(VLOOKUP($A583,Filtro_!$A$5:$I$358,7,FALSE),0)","v":79},583]
["81602224",1602224,"Resto del cuerpo: extirpación de lesión benigna subepidérmica, incluye tumor sólido, quiste epidérmico y lipoma por lesión ",313,{"$f":"IFERROR(VLOOKUP($A584,Filtro_!$A$5:$I$358,3,FALSE),0)","v":1},{"$f":"IFERROR(VLOOKUP($A584,Filtro_!$A$5:$I$358,4,FALSE),0)","v":312},{"$f":"IFERROR(VLOOKUP($A584,Filtro_!$A$5:$I$358,5,FALSE),0)","v":277},{"$f":"IFERROR(VLOOKUP($A584,Filtro_!$A$5:$I$358,6,FALSE),0)","v":25},{"$f":"IFERROR(VLOOKUP($A584,Filtro_!$A$5:$I$358,7,FALSE),0)","v":121},584]
["81602225",1602225,"Vaciamiento y curetaje quirurgico de lesiones quistica o abscesos                              ",311,{"$f":"IFERROR(VLOOKUP($A585,Filtro_!$A$5:$I$358,3,FALSE),0)","v":136},{"$f":"IFERROR(VLOOKUP($A585,Filtro_!$A$5:$I$358,4,FALSE),0)","v":175},{"$f":"IFERROR(VLOOKUP($A585,Filtro_!$A$5:$I$358,5,FALSE),0)","v":256},{"$f":"IFERROR(VLOOKUP($A585,Filtro_!$A$5:$I$358,6,FALSE),0)","v":25},{"$f":"IFERROR(VLOOKUP($A585,Filtro_!$A$5:$I$358,7,FALSE),0)","v":43},585]
["81602231",1602231,"Onisectomia total o parcial simple                                                                                      ",282,{"$f":"IFERROR(VLOOKUP($A586,Filtro_!$A$5:$I$358,3,FALSE),0)","v":2},{"$f":"IFERROR(VLOOKUP($A586,Filtro_!$A$5:$I$358,4,FALSE),0)","v":280},{"$f":"IFERROR(VLOOKUP($A586,Filtro_!$A$5:$I$358,5,FALSE),0)","v":175},{"$f":"IFERROR(VLOOKUP($A586,Filtro_!$A$5:$I$358,6,FALSE),0)","v":72},{"$f":"IFERROR(VLOOKUP($A586,Filtro_!$A$5:$I$358,7,FALSE),0)","v":120},586]
["81602232",1602232,"Cirugia reparadora ungueal por proceso inflamatorio                                                                 ",9,{"$f":"IFERROR(VLOOKUP($A587,Filtro_!$A$5:$I$358,3,FALSE),0)","v":0},{"$f":"IFERROR(VLOOKUP($A587,Filtro_!$A$5:$I$358,4,FALSE),0)","v":9},{"$f":"IFERROR(VLOOKUP($A587,Filtro_!$A$5:$I$358,5,FALSE),0)","v":9},{"$f":"IFERROR(VLOOKUP($A587,Filtro_!$A$5:$I$358,6,FALSE),0)","v":0},{"$f":"IFERROR(VLOOKUP($A587,Filtro_!$A$5:$I$358,7,FALSE),0)","v":1},587]
["81602223",1602233,"Correccion quirurgica de defecto congenito o por tumor ungueal",2,{"$f":"IFERROR(VLOOKUP($A588,Filtro_!$A$5:$I$358,3,FALSE),0)","v":0},{"$f":"IFERROR(VLOOKUP($A588,Filtro_!$A$5:$I$358,4,FALSE),0)","v":2},{"$f":"IFERROR(VLOOKUP($A588,Filtro_!$A$5:$I$358,5,FALSE),0)","v":2},{"$f":"IFERROR(VLOOKUP($A588,Filtro_!$A$5:$I$358,6,FALSE),0)","v":0},{"$f":"IFERROR(VLOOKUP($A588,Filtro_!$A$5:$I$358,7,FALSE),0)","v":0},588]
["81602240",1602240,"Curacion por medico, quemadura o similar menor al 5% superficie corporal en pabellon       ",51,{"$f":"IFERROR(VLOOKUP($A589,Filtro_!$A$5:$I$358,3,FALSE),0)","v":29},{"$f":"IFERROR(VLOOKUP($A589,Filtro_!$A$5:$I$358,4,FALSE),0)","v":22},{"$f":"IFERROR(VLOOKUP($A589,Filtro_!$A$5:$I$358,5,FALSE),0)","v":10},{"$f":"IFERROR(VLOOKUP($A589,Filtro_!$A$5:$I$358,6,FALSE),0)","v":33},{"$f":"IFERROR(VLOOKUP($A589,Filtro_!$A$5:$I$358,7,FALSE),0)","v":0},589]
["81602241",1602241,"Curacion por medico, quemadura o similar  5 a 10% superficie corporal en pabellon        ",7,{"$f":"IFERROR(VLOOKUP($A590,Filtro_!$A$5:$I$358,3,FALSE),0)","v":7},{"$f":"IFERROR(VLOOKUP($A590,Filtro_!$A$5:$I$358,4,FALSE),0)","v":0},{"$f":"IFERROR(VLOOKUP($A590,Filtro_!$A$5:$I$358,5,FALSE),0)","v":4},{"$f":"IFERROR(VLOOKUP($A590,Filtro_!$A$5:$I$358,6,FALSE),0)","v":0},{"$f":"IFERROR(VLOOKUP($A590,Filtro_!$A$5:$I$358,7,FALSE),0)","v":0},590]
["81602242",1602242,"Curacion por medico, quemadura o similar  mayor  al 10% superficie corporal en pabellon",27,{"$f":"IFERROR(VLOOKUP($A591,Filtro_!$A$5:$I$358,3,FALSE),0)","v":4},{"$f":"IFERROR(VLOOKUP($A591,Filtro_!$A$5:$I$358,4,FALSE),0)","v":23},{"$f":"IFERROR(VLOOKUP($A591,Filtro_!$A$5:$I$358,5,FALSE),0)","v":2},{"$f":"IFERROR(VLOOKUP($A591,Filtro_!$A$5:$I$358,6,FALSE),0)","v":0},{"$f":"IFERROR(VLOOKUP($A591,Filtro_!$A$5:$I$358,7,FALSE),0)","v":0},591]
[null,"TOTAL",null,{"$f":"SUM(D568:D591)","v":{"v":6474,"d":"6,474"}},{"v":3834,"d":"3,834"},{"v":2640,"d":"2,640"},{"v":3897,"d":"3,897"},{"v":1690,"d":"1,690"},955,592]
[{"$nulls":9},593]
[null,"SECCIÓN D: MISCELÁNEOS",{"$nulls":7},594]
["80106002","0106002","Curación simple ambulatoria",{"$f":"SUM(E595:F595)","v":{"v":96017,"d":"96,017"}},{"$f":"IFERROR(VLOOKUP($A595,Filtro_!$A$5:$I$358,3,FALSE),0)","v":{"v":14169,"d":"14,169"}},{"$f":"IFERROR(VLOOKUP($A595,Filtro_!$A$5:$I$358,4,FALSE),0)","v":{"v":81848,"d":"81,848"}},{"$f":"IFERROR(VLOOKUP($A595,Filtro_!$A$5:$I$358,5,FALSE),0)","v":439},{"$f":"IFERROR(VLOOKUP($A595,Filtro_!$A$5:$I$358,6,FALSE),0)","v":{"v":88425,"d":"88,425"}},{"$f":"IFERROR(VLOOKUP($A595,Filtro_!$A$5:$I$358,7,FALSE),0)","v":2},595]
["80106005","0106005","Autocontrol pacientes Diabetico insulino dependiente (D.I.D. mensual)",{"v":3590,"d":"3,590"},{"$f":"IFERROR(VLOOKUP($A596,Filtro_!$A$5:$I$358,3,FALSE),0)","v":{"v":1460,"d":"1,460"}},{"$f":"IFERROR(VLOOKUP($A596,Filtro_!$A$5:$I$358,4,FALSE),0)","v":{"v":2130,"d":"2,130"}},{"$f":"IFERROR(VLOOKUP($A596,Filtro_!$A$5:$I$358,5,FALSE),0)","v":58},{"$f":"IFERROR(VLOOKUP($A596,Filtro_!$A$5:$I$358,6,FALSE),0)","v":{"v":3510,"d":"3,510"}},{"$f":"IFERROR(VLOOKUP($A596,Filtro_!$A$5:$I$358,7,FALSE),0)","v":0},596]
["80106024",null,"Curación avanzada por UV",{"v":7679,"d":"7,679"},{"$f":"IFERROR(VLOOKUP($A597,Filtro_!$A$5:$I$358,3,FALSE),0)","v":475},{"$f":"IFERROR(VLOOKUP($A597,Filtro_!$A$5:$I$358,4,FALSE),0)","v":{"v":7204,"d":"7,204"}},{"$f":"IFERROR(VLOOKUP($A597,Filtro_!$A$5:$I$358,5,FALSE),0)","v":0},{"$f":"IFERROR(VLOOKUP($A597,Filtro_!$A$5:$I$358,6,FALSE),0)","v":{"v":7554,"d":"7,554"}},{"$f":"IFERROR(VLOOKUP($A597,Filtro_!$A$5:$I$358,7,FALSE),0)","v":0},597]
["80106006","0106006","Oxigenoterapia domiciliaria (pacientes oxígeno dependientes)",{"v":1225,"d":"1,225"},{"$f":"IFERROR(VLOOKUP($A598,Filtro_!$A$5:$I$358,3,FALSE),0)","v":197},{"$f":"IFERROR(VLOOKUP($A598,Filtro_!$A$5:$I$358,4,FALSE),0)","v":{"v":1028,"d":"1,028"}},{"$f":"IFERROR(VLOOKUP($A598,Filtro_!$A$5:$I$358,5,FALSE),0)","v":2},{"$f":"IFERROR(VLOOKUP($A598,Filtro_!$A$5:$I$358,6,FALSE),0)","v":{"v":1070,"d":"1,070"}},{"$f":"IFERROR(VLOOKUP($A598,Filtro_!$A$5:$I$358,7,FALSE),0)","v":0},598]
["80106017","0106017","Curación compleja",{"v":52258,"d":"52,258"},{"$f":"IFERROR(VLOOKUP($A599,Filtro_!$A$5:$I$358,3,FALSE),0)","v":{"v":1834,"d":"1,834"}},{"$f":"IFERROR(VLOOKUP($A599,Filtro_!$A$5:$I$358,4,FALSE),0)","v":{"v":50424,"d":"50,424"}},{"$f":"IFERROR(VLOOKUP($A599,Filtro_!$A$5:$I$358,5,FALSE),0)","v":593},{"$f":"IFERROR(VLOOKUP($A599,Filtro_!$A$5:$I$358,6,FALSE),0)","v":{"v":49541,"d":"49,541"}},{"$f":"IFERROR(VLOOKUP($A599,Filtro_!$A$5:$I$358,7,FALSE),0)","v":3},599]
["80106007","0106007","Extracción cuerpo extraño ojo",869,{"$f":"IFERROR(VLOOKUP($A600,Filtro_!$A$5:$I$358,3,FALSE),0)","v":482},{"$f":"IFERROR(VLOOKUP($A600,Filtro_!$A$5:$I$358,4,FALSE),0)","v":387},{"$f":"IFERROR(VLOOKUP($A600,Filtro_!$A$5:$I$358,5,FALSE),0)","v":124},{"$f":"IFERROR(VLOOKUP($A600,Filtro_!$A$5:$I$358,6,FALSE),0)","v":657},{"$f":"IFERROR(VLOOKUP($A600,Filtro_!$A$5:$I$358,7,FALSE),0)","v":0},600]
["80106008","0106008","Extracción cuerpo extraño otro lugar",506,{"$f":"IFERROR(VLOOKUP($A601,Filtro_!$A$5:$I$358,3,FALSE),0)","v":162},{"$f":"IFERROR(VLOOKUP($A601,Filtro_!$A$5:$I$358,4,FALSE),0)","v":344},{"$f":"IFERROR(VLOOKUP($A601,Filtro_!$A$5:$I$358,5,FALSE),0)","v":55},{"$f":"IFERROR(VLOOKUP($A601,Filtro_!$A$5:$I$358,6,FALSE),0)","v":322},{"$f":"IFERROR(VLOOKUP($A601,Filtro_!$A$5:$I$358,7,FALSE),0)","v":0},601]
["80106009","0106009","Lavado gástrico",33,{"$f":"IFERROR(VLOOKUP($A602,Filtro_!$A$5:$I$358,3,FALSE),0)","v":19},{"$f":"IFERROR(VLOOKUP($A602,Filtro_!$A$5:$I$358,4,FALSE),0)","v":14},{"$f":"IFERROR(VLOOKUP($A602,Filtro_!$A$5:$I$358,5,FALSE),0)","v":2},{"$f":"IFERROR(VLOOKUP($A602,Filtro_!$A$5:$I$358,6,FALSE),0)","v":31},{"$f":"IFERROR(VLOOKUP($A602,Filtro_!$A$5:$I$358,7,FALSE),0)","v":0},602]
["80106010","0106010","Lavado oído",{"v":1029,"d":"1,029"},{"$f":"IFERROR(VLOOKUP($A603,Filtro_!$A$5:$I$358,3,FALSE),0)","v":55},{"$f":"IFERROR(VLOOKUP($A603,Filtro_!$A$5:$I$358,4,FALSE),0)","v":974},{"$f":"IFERROR(VLOOKUP($A603,Filtro_!$A$5:$I$358,5,FALSE),0)","v":384},{"$f":"IFERROR(VLOOKUP($A603,Filtro_!$A$5:$I$358,6,FALSE),0)","v":421},{"$f":"IFERROR(VLOOKUP($A603,Filtro_!$A$5:$I$358,7,FALSE),0)","v":0},603]
["80106011","0106011","Técnicas reanimación cardiopulmonar básico",52,{"$f":"IFERROR(VLOOKUP($A604,Filtro_!$A$5:$I$358,3,FALSE),0)","v":42},{"$f":"IFERROR(VLOOKUP($A604,Filtro_!$A$5:$I$358,4,FALSE),0)","v":10},{"$f":"IFERROR(VLOOKUP($A604,Filtro_!$A$5:$I$358,5,FALSE),0)","v":6},{"$f":"IFERROR(VLOOKUP($A604,Filtro_!$A$5:$I$358,6,FALSE),0)","v":47},{"$f":"IFERROR(VLOOKUP($A604,Filtro_!$A$5:$I$358,7,FALSE),0)","v":0},604]
["80106012","0106012","Técnicas reanimación cardiopulmonar avanzado",819,{"$f":"IFERROR(VLOOKUP($A605,Filtro_!$A$5:$I$358,3,FALSE),0)","v":610},{"$f":"IFERROR(VLOOKUP($A605,Filtro_!$A$5:$I$358,4,FALSE),0)","v":209},{"$f":"IFERROR(VLOOKUP($A605,Filtro_!$A$5:$I$358,5,FALSE),0)","v":578},{"$f":"IFERROR(VLOOKUP($A605,Filtro_!$A$5:$I$358,6,FALSE),0)","v":252},{"$f":"IFERROR(VLOOKUP($A605,Filtro_!$A$5:$I$358,7,FALSE),0)","v":0},605]
["80106013","0106013","Aseo ocular",{"v":6369,"d":"6,369"},{"$f":"IFERROR(VLOOKUP($A606,Filtro_!$A$5:$I$358,3,FALSE),0)","v":{"v":3290,"d":"3,290"}},{"$f":"IFERROR(VLOOKUP($A606,Filtro_!$A$5:$I$358,4,FALSE),0)","v":{"v":3079,"d":"3,079"}},{"$f":"IFERROR(VLOOKUP($A606,Filtro_!$A$5:$I$358,5,FALSE),0)","v":222},{"$f":"IFERROR(VLOOKUP($A606,Filtro_!$A$5:$I$358,6,FALSE),0)","v":{"v":4914,"d":"4,914"}},{"$f":"IFERROR(VLOOKUP($A606,Filtro_!$A$5:$I$358,7,FALSE),0)","v":0},606]
["80106014","0106014","Administración inyecciones",{"v":351335,"d":"351,335"},{"$f":"IFERROR(VLOOKUP($A607,Filtro_!$A$5:$I$358,3,FALSE),0)","v":{"v":197890,"d":"197,890"}},{"$f":"IFERROR(VLOOKUP($A607,Filtro_!$A$5:$I$358,4,FALSE),0)","v":{"v":153445,"d":"153,445"}},{"$f":"IFERROR(VLOOKUP($A607,Filtro_!$A$5:$I$358,5,FALSE),0)","v":{"v":5163,"d":"5,163"}},{"$f":"IFERROR(VLOOKUP($A607,Filtro_!$A$5:$I$358,6,FALSE),0)","v":{"v":330446,"d":"330,446"}},{"$f":"IFERROR(VLOOKUP($A607,Filtro_!$A$5:$I$358,7,FALSE),0)","v":36},607]
["80106015","0106015","Administración fleboclisis",{"v":66647,"d":"66,647"},{"$f":"IFERROR(VLOOKUP($A608,Filtro_!$A$5:$I$358,3,FALSE),0)","v":{"v":56672,"d":"56,672"}},{"$f":"IFERROR(VLOOKUP($A608,Filtro_!$A$5:$I$358,4,FALSE),0)","v":{"v":9975,"d":"9,975"}},{"$f":"IFERROR(VLOOKUP($A608,Filtro_!$A$5:$I$358,5,FALSE),0)","v":{"v":1312,"d":"1,312"}},{"$f":"IFERROR(VLOOKUP($A608,Filtro_!$A$5:$I$358,6,FALSE),0)","v":{"v":61785,"d":"61,785"}},{"$f":"IFERROR(VLOOKUP($A608,Filtro_!$A$5:$I$358,7,FALSE),0)","v":2},608]
["80106020","0106020","Administración oxigeno",{"v":4589,"d":"4,589"},{"$f":"IFERROR(VLOOKUP($A609,Filtro_!$A$5:$I$358,3,FALSE),0)","v":{"v":3700,"d":"3,700"}},{"$f":"IFERROR(VLOOKUP($A609,Filtro_!$A$5:$I$358,4,FALSE),0)","v":889},{"$f":"IFERROR(VLOOKUP($A609,Filtro_!$A$5:$I$358,5,FALSE),0)","v":108},{"$f":"IFERROR(VLOOKUP($A609,Filtro_!$A$5:$I$358,6,FALSE),0)","v":{"v":4259,"d":"4,259"}},{"$f":"IFERROR(VLOOKUP($A609,Filtro_!$A$5:$I$358,7,FALSE),0)","v":0},609]
["80106021","0106021","Aspiración secreciones",331,{"$f":"IFERROR(VLOOKUP($A610,Filtro_!$A$5:$I$358,3,FALSE),0)","v":105},{"$f":"IFERROR(VLOOKUP($A610,Filtro_!$A$5:$I$358,4,FALSE),0)","v":226},{"$f":"IFERROR(VLOOKUP($A610,Filtro_!$A$5:$I$358,5,FALSE),0)","v":17},{"$f":"IFERROR(VLOOKUP($A610,Filtro_!$A$5:$I$358,6,FALSE),0)","v":305},{"$f":"IFERROR(VLOOKUP($A610,Filtro_!$A$5:$I$358,7,FALSE),0)","v":0},610]
["80106022","0106022","Instalación sonda",{"v":3121,"d":"3,121"},{"$f":"IFERROR(VLOOKUP($A611,Filtro_!$A$5:$I$358,3,FALSE),0)","v":{"v":1197,"d":"1,197"}},{"$f":"IFERROR(VLOOKUP($A611,Filtro_!$A$5:$I$358,4,FALSE),0)","v":{"v":1924,"d":"1,924"}},{"$f":"IFERROR(VLOOKUP($A611,Filtro_!$A$5:$I$358,5,FALSE),0)","v":62},{"$f":"IFERROR(VLOOKUP($A611,Filtro_!$A$5:$I$358,6,FALSE),0)","v":{"v":2794,"d":"2,794"}},{"$f":"IFERROR(VLOOKUP($A611,Filtro_!$A$5:$I$358,7,FALSE),0)","v":0},611]
["80106023",null,"Procedimientos de podología",{"v":31672,"d":"31,672"},{"$f":"IFERROR(VLOOKUP($A612,Filtro_!$A$5:$I$358,3,FALSE),0)","v":865},{"$f":"IFERROR(VLOOKUP($A612,Filtro_!$A$5:$I$358,4,FALSE),0)","v":{"v":30807,"d":"30,807"}},{"$f":"IFERROR(VLOOKUP($A612,Filtro_!$A$5:$I$358,5,FALSE),0)","v":48},{"$f":"IFERROR(VLOOKUP($A612,Filtro_!$A$5:$I$358,6,FALSE),0)","v":{"v":29504,"d":"29,504"}},{"$f":"IFERROR(VLOOKUP($A612,Filtro_!$A$5:$I$358,7,FALSE),0)","v":{"v":1795,"d":"1,795"}},612]
[null,"TOTAL",null,{"$f":"SUM(D595:D612)","v":{"v":628141,"d":"628,141"}},{"v":283224,"d":"283,224"},{"v":344917,"d":"344,917"},{"v":9173,"d":"9,173"},{"v":585837,"d":"585,837"},{"v":1838,"d":"1,838"},613]
[{"$nulls":9},614]
[null,"CÓDIGOS","OTROS PROCEDIMIENTOS","Total","SAPU/SAR/SUR","Resto Establecimientos APS","Compras de Servicios",615]
[{"$nulls":7},616]
["80307011","0307011","Toma de muestra de sangre venosa en adultos",{"$f":"SUM(E617:F617)","v":{"v":300622,"d":"300,622"}},{"$f":"IFERROR(VLOOKUP($A617,Filtro_!$A$5:$I$358,3,FALSE),0)","v":{"v":4341,"d":"4,341"}},{"$f":"IFERROR(VLOOKUP($A617,Filtro_!$A$5:$I$358,4,FALSE),0)","v":{"v":296281,"d":"296,281"}},{"$f":"IFERROR(VLOOKUP($A617,Filtro_!$A$5:$I$358,5,FALSE),0)","v":{"v":85234,"d":"85,234"}},617]
["80307012","0307012","Toma de muestra de sangre venosa en niños y lactantes",{"v":9397,"d":"9,397"},{"$f":"IFERROR(VLOOKUP($A618,Filtro_!$A$5:$I$358,3,FALSE),0)","v":76},{"$f":"IFERROR(VLOOKUP($A618,Filtro_!$A$5:$I$358,4,FALSE),0)","v":{"v":9321,"d":"9,321"}},{"$f":"IFERROR(VLOOKUP($A618,Filtro_!$A$5:$I$358,5,FALSE),0)","v":{"v":2711,"d":"2,711"}},618]
[null,"TOTAL",null,{"$f":"SUM(D617:D618)","v":{"v":310019,"d":"310,019"}},{"$f":"SUM(E617:E618)","v":{"v":4417,"d":"4,417"}},{"$f":"SUM(F617:F618)","v":{"v":305602,"d":"305,602"}},{"$f":"SUM(G617:G618)","v":{"v":87945,"d":"87,945"}},619]
[{"$nulls":9},620]
[null,"SECCIÓN E: OTROS EXÁMENES Y PROCEDIMIENTOS  DE APOYO CLÍNICO Y TERAPEUTICO (SIN CÓDIGO EN ARANCEL)",{"$nulls":7},621]
[null,"EXÁMENES Y/O PROCEDIMIENTO",null,"Total","SAPU/SAR/SUR","Resto Establecimientos APS","Funcionario",null,"Compras de Servicios",622]
[{"$nulls":6},"Médico","Otro",null,623]
["80500001","Toma agudeza visual (ambos ojos)",null,{"$f":"SUM(E624:F624)","v":{"v":1976,"d":"1,976"}},{"$f":"IFERROR(VLOOKUP($A624,Filtro_!$A$5:$I$358,3,FALSE),0)","v":0},{"$f":"IFERROR(VLOOKUP($A624,Filtro_!$A$5:$I$358,4,FALSE),0)","v":{"v":1976,"d":"1,976"}},{"$f":"IFERROR(VLOOKUP($A624,Filtro_!$A$5:$I$358,5,FALSE),0)","v":25},{"$f":"IFERROR(VLOOKUP($A624,Filtro_!$A$5:$I$358,6,FALSE),0)","v":{"v":1813,"d":"1,813"}},{"$f":"IFERROR(VLOOKUP($A624,Filtro_!$A$5:$I$358,7,FALSE),0)","v":0},624]
["80500002","Autorrefractomia",null,0,{"$f":"IFERROR(VLOOKUP($A625,Filtro_!$A$5:$I$358,3,FALSE),0)","v":0},{"$f":"IFERROR(VLOOKUP($A625,Filtro_!$A$5:$I$358,4,FALSE),0)","v":0},{"$f":"IFERROR(VLOOKUP($A625,Filtro_!$A$5:$I$358,5,FALSE),0)","v":0},{"$f":"IFERROR(VLOOKUP($A625,Filtro_!$A$5:$I$358,6,FALSE),0)","v":0},{"$f":"IFERROR(VLOOKUP($A625,Filtro_!$A$5:$I$358,7,FALSE),0)","v":0},625]
["80500003","Lensometria",null,0,{"$f":"IFERROR(VLOOKUP($A626,Filtro_!$A$5:$I$358,3,FALSE),0)","v":0},{"$f":"IFERROR(VLOOKUP($A626,Filtro_!$A$5:$I$358,4,FALSE),0)","v":0},{"$f":"IFERROR(VLOOKUP($A626,Filtro_!$A$5:$I$358,5,FALSE),0)","v":0},{"$f":"IFERROR(VLOOKUP($A626,Filtro_!$A$5:$I$358,6,FALSE),0)","v":0},{"$f":"IFERROR(VLOOKUP($A626,Filtro_!$A$5:$I$358,7,FALSE),0)","v":0},626]
["80500004","Paquimetria Ultrasónica",null,0,{"$f":"IFERROR(VLOOKUP($A627,Filtro_!$A$5:$I$358,3,FALSE),0)","v":0},{"$f":"IFERROR(VLOOKUP($A627,Filtro_!$A$5:$I$358,4,FALSE),0)","v":0},{"$f":"IFERROR(VLOOKUP($A627,Filtro_!$A$5:$I$358,5,FALSE),0)","v":0},{"$f":"IFERROR(VLOOKUP($A627,Filtro_!$A$5:$I$358,6,FALSE),0)","v":0},{"$f":"IFERROR(VLOOKUP($A627,Filtro_!$A$5:$I$358,7,FALSE),0)","v":0},627]
["80500005","Paquimetria óptica",null,0,{"$f":"IFERROR(VLOOKUP($A628,Filtro_!$A$5:$I$358,3,FALSE),0)","v":0},{"$f":"IFERROR(VLOOKUP($A628,Filtro_!$A$5:$I$358,4,FALSE),0)","v":0},{"$f":"IFERROR(VLOOKUP($A628,Filtro_!$A$5:$I$358,5,FALSE),0)","v":0},{"$f":"IFERROR(VLOOKUP($A628,Filtro_!$A$5:$I$358,6,FALSE),0)","v":0},{"$f":"IFERROR(VLOOKUP($A628,Filtro_!$A$5:$I$358,7,FALSE),0)","v":0},628]
["80500006","Tomografía coherencia óptica",null,0,{"$f":"IFERROR(VLOOKUP($A629,Filtro_!$A$5:$I$358,3,FALSE),0)","v":0},{"$f":"IFERROR(VLOOKUP($A629,Filtro_!$A$5:$I$358,4,FALSE),0)","v":0},{"$f":"IFERROR(VLOOKUP($A629,Filtro_!$A$5:$I$358,5,FALSE),0)","v":0},{"$f":"IFERROR(VLOOKUP($A629,Filtro_!$A$5:$I$358,6,FALSE),0)","v":0},{"$f":"IFERROR(VLOOKUP($A629,Filtro_!$A$5:$I$358,7,FALSE),0)","v":0},629]
["80500007","Inyeccion intravitrea avastin",null,13,{"$f":"IFERROR(VLOOKUP($A630,Filtro_!$A$5:$I$358,3,FALSE),0)","v":0},{"$f":"IFERROR(VLOOKUP($A630,Filtro_!$A$5:$I$358,4,FALSE),0)","v":13},{"$f":"IFERROR(VLOOKUP($A630,Filtro_!$A$5:$I$358,5,FALSE),0)","v":0},{"$f":"IFERROR(VLOOKUP($A630,Filtro_!$A$5:$I$358,6,FALSE),0)","v":13},{"$f":"IFERROR(VLOOKUP($A630,Filtro_!$A$5:$I$358,7,FALSE),0)","v":0},630]
["80500008","Insercion Implante Anticonceptivo",null,{"v":2157,"d":"2,157"},{"$f":"IFERROR(VLOOKUP($A631,Filtro_!$A$5:$I$358,3,FALSE),0)","v":0},{"$f":"IFERROR(VLOOKUP($A631,Filtro_!$A$5:$I$358,4,FALSE),0)","v":{"v":2157,"d":"2,157"}},{"$f":"IFERROR(VLOOKUP($A631,Filtro_!$A$5:$I$358,5,FALSE),0)","v":1},{"$f":"IFERROR(VLOOKUP($A631,Filtro_!$A$5:$I$358,6,FALSE),0)","v":{"v":2106,"d":"2,106"}},{"$f":"IFERROR(VLOOKUP($A631,Filtro_!$A$5:$I$358,7,FALSE),0)","v":0},631]
["80500009","Remocion Implante Anticonceptivo",null,{"v":1404,"d":"1,404"},{"$f":"IFERROR(VLOOKUP($A632,Filtro_!$A$5:$I$358,3,FALSE),0)","v":17},{"$f":"IFERROR(VLOOKUP($A632,Filtro_!$A$5:$I$358,4,FALSE),0)","v":{"v":1387,"d":"1,387"}},{"$f":"IFERROR(VLOOKUP($A632,Filtro_!$A$5:$I$358,5,FALSE),0)","v":1},{"$f":"IFERROR(VLOOKUP($A632,Filtro_!$A$5:$I$358,6,FALSE),0)","v":{"v":1371,"d":"1,371"}},{"$f":"IFERROR(VLOOKUP($A632,Filtro_!$A$5:$I$358,7,FALSE),0)","v":0},632]
["80500010","Insercion Pellets subcutáneo",null,209,{"$f":"IFERROR(VLOOKUP($A633,Filtro_!$A$5:$I$358,3,FALSE),0)","v":9},{"$f":"IFERROR(VLOOKUP($A633,Filtro_!$A$5:$I$358,4,FALSE),0)","v":200},{"$f":"IFERROR(VLOOKUP($A633,Filtro_!$A$5:$I$358,5,FALSE),0)","v":0},{"$f":"IFERROR(VLOOKUP($A633,Filtro_!$A$5:$I$358,6,FALSE),0)","v":194},{"$f":"IFERROR(VLOOKUP($A633,Filtro_!$A$5:$I$358,7,FALSE),0)","v":0},633]
["80500011","Hemoglocotest instantaneo ",null,{"v":80163,"d":"80,163"},{"$f":"IFERROR(VLOOKUP($A634,Filtro_!$A$5:$I$358,3,FALSE),0)","v":{"v":52316,"d":"52,316"}},{"$f":"IFERROR(VLOOKUP($A634,Filtro_!$A$5:$I$358,4,FALSE),0)","v":{"v":27847,"d":"27,847"}},{"$f":"IFERROR(VLOOKUP($A634,Filtro_!$A$5:$I$358,5,FALSE),0)","v":232},{"$f":"IFERROR(VLOOKUP($A634,Filtro_!$A$5:$I$358,6,FALSE),0)","v":{"v":73352,"d":"73,352"}},{"$f":"IFERROR(VLOOKUP($A634,Filtro_!$A$5:$I$358,7,FALSE),0)","v":52},634]
["80500014","Radiografía de pelvis, cadera o coxofemoral de 1er screening  (entre 3 -6 meses)",null,992,{"$f":"IFERROR(VLOOKUP($A635,Filtro_!$A$5:$I$358,3,FALSE),0)","v":426},{"$f":"IFERROR(VLOOKUP($A635,Filtro_!$A$5:$I$358,4,FALSE),0)","v":566},{"$f":"IFERROR(VLOOKUP($A635,Filtro_!$A$5:$I$358,5,FALSE),0)","v":111},{"$f":"IFERROR(VLOOKUP($A635,Filtro_!$A$5:$I$358,6,FALSE),0)","v":391},{"$f":"IFERROR(VLOOKUP($A635,Filtro_!$A$5:$I$358,7,FALSE),0)","v":746},635]
["80500016","Cartridge para Troponina",null,{"v":1391,"d":"1,391"},{"$f":"IFERROR(VLOOKUP($A636,Filtro_!$A$5:$I$358,3,FALSE),0)","v":{"v":1389,"d":"1,389"}},{"$f":"IFERROR(VLOOKUP($A636,Filtro_!$A$5:$I$358,4,FALSE),0)","v":2},{"$f":"IFERROR(VLOOKUP($A636,Filtro_!$A$5:$I$358,5,FALSE),0)","v":54},{"$f":"IFERROR(VLOOKUP($A636,Filtro_!$A$5:$I$358,6,FALSE),0)","v":{"v":1307,"d":"1,307"}},{"$f":"IFERROR(VLOOKUP($A636,Filtro_!$A$5:$I$358,7,FALSE),0)","v":0},636]
["80500017","Cartridge Multiple",null,{"v":6119,"d":"6,119"},{"$f":"IFERROR(VLOOKUP($A637,Filtro_!$A$5:$I$358,3,FALSE),0)","v":{"v":6111,"d":"6,111"}},{"$f":"IFERROR(VLOOKUP($A637,Filtro_!$A$5:$I$358,4,FALSE),0)","v":8},{"$f":"IFERROR(VLOOKUP($A637,Filtro_!$A$5:$I$358,5,FALSE),0)","v":117},{"$f":"IFERROR(VLOOKUP($A637,Filtro_!$A$5:$I$358,6,FALSE),0)","v":{"v":5972,"d":"5,972"}},{"$f":"IFERROR(VLOOKUP($A637,Filtro_!$A$5:$I$358,7,FALSE),0)","v":0},637]
[null,"TOTAL",null,{"$f":"SUM(D624:D637)","v":{"v":94424,"d":"94,424"}},{"v":60268,"d":"60,268"},{"v":34156,"d":"34,156"},541,{"v":86519,"d":"86,519"},798,638]
[]
[]
["CODIGOS NUEVOS"]
[81707038]
[80106024]
[]
["CODIGOS ELIMINADOS"]
[81707031]
[81707032]
[81707033]
[81707034]
[81707035]
[81707036]
[81707037]

{"sheet":"Filtro_","index":2,"n_rows":358,"n_cols":9,"rows_kept":358}
["Comuna","(Todas)"]
["Establecimiento","(Todas)"]
["Mes","(Todas)"]
[]
["Etiquetas de fila","Suma de Col01","Suma de Col02","Suma de Col03","Suma de Col04","Suma de Col05","Suma de Col06","Suma de Col07","Cuenta de Col08"]
["18010100",86640,0,86640]
["18010200",298537,0,298537]
["18010500",3303,0,3303]
["18010601",21060,0,21060]
["18010800",2530,0,2530]
["18010900",110326,1681,108645]
["18011001",46684,42056,4628]
["18011002",1745,59,1686]
["18020200",202,137,65]
["18020300",19751,15961,3790]
["18020400",917,0,917]
["18020500",138971,30228,108743]
["18020600",177,145,32]
["18020700",1518,1095,423]
["18020800",1891,1888,3]
["18020900",1122,0,1122]
["18030000",6477,3837,2640]
["18040100",3801,520,3281]
["18040200",2521,154,2375]
["18050100",95880,14064,81848]
["18050200",3590,1460,2130]
["18050300",1221,193,1028]
["18050400",7677,473,7204]
["18050500",52241,1817,50424]
["18070100",512,13,297,107,26,7,62]
["18070300",1838,442,622,84,68,341,281]
["18090000",31676,865,30807]
["18090100",58189,0,58189]
["18090200",9573,1968]
["18090300",20]
["18400400",265,187,78]
["18400500",597,0,597]
["18400700",1179567]
["18400900",14964,2840,12124]
["18700100",11333,3452,6165,1716,0]
["18700110",122,23,66,33,115,7,115]
["18700140",42,null,42,null,29,16,26]
["18700170",2,null,2,null,2,null,2]
["18700190",22,0,22,0,22,5,17]
["18700230",2474,383,1850,241,1422,415,1478]
["18700240",16,null,16]
["18700250",688,null,688]
["18700260",75,null,75]
["18700270",1354,null,1354]
["18700280",206,null,206]
["18700290",356,null,356]
["18700300",131,null,131]
["18700310",495,null,495]
["18700330",335,null,335]
["18700340",179,null,179]
["18700350",390,null,390]
["80106002",96017,14169,81848,439,88425,2]
["80106005",3590,1460,2130,58,3510]
["80106006",1225,197,1028,2,1070,0]
["80106007",869,482,387,124,657,0]
["80106008",506,162,344,55,322,0]
["80106009",33,19,14,2,31,0]
["80106010",1029,55,974,384,421,0]
["80106011",52,42,10,6,47,0]
["80106012",819,610,209,578,252,0]
["80106013",6369,3290,3079,222,4914,0]
["80106014",351320,197890,153445,5163,330446,36]
["80106015",66647,56672,9975,1312,61785,2]
["80106017",52258,1834,50424,593,49541,3]
["80106020",4589,3700,889,108,4259,0]
["80106021",331,105,226,17,305,0]
["80106022",3121,1197,1924,62,2794,0]
["80106023",31672,865,30807,48,29504,1795]
["80106024",7679,475,7204,0,7554,0]
["80301002",0,null,null,26]
["80301011",0,null,null,249]
["80301014",0,null,null,136]
["80301015",2,0,2,1611]
["80301026",0,null,null,2128]
["80301027",0,null,null,1]
["80301028",0,null,null,2]
["80301030",0,null,null,1]
["80301034",1340,null,1340,2748]
["80301035",0,null,null,151]
["80301036",2849,0,2849,41855]
["80301038",1503,0,1503,39171]
["80301039",0,null,null,145]
["80301040",0,null,null,9]
["80301041",25207,0,25207,57845]
["80301042",0,null,null,267]
["80301043",0,null,null,29]
["80301044",0,null,null,18]
["80301045",40859,0,40859,74000]
["80301058",0,null,null,63]
["80301059",2796,0,2796,3740]
["80301065",28,null,28,32]
["80301067",219,null,219,45]
["80301068",0,null,null,9]
["80301072",31,null,31]
["80301075",0,0,null,146]
["80301077",0,null,null,5]
["80301078",0,null,null,26]
["80301083",0,null,null,278]
["80301085",985,null,985,2070]
["80301086",10771,null,10771,2226]
["80301087",50,0,50,2890]
["80302004",0,null,null,104]
["80302005",26289,0,26289,45742]
["80302008",0,null,null,86]
["80302012",194,null,194,818]
["80302013",815,0,815,8620]
["80302015",39,null,39,2084]
["80302016",0,null,null,2]
["80302019",0,null,null,20]
["80302020",68,null,68,1]
["80302021",0,null,null,581]
["80302022",292,null,292,2393]
["80302023",39016,0,39016,102539]
["80302024",178,null,178,273]
["80302025",0,null,null,17]
["80302026",1,null,1,430]
["80302028",33,null,33,1]
["80302030",26,null,26,605]
["80302031",0,null,null,304]
["80302032",71265,0,71265,86175]
["80302033",0,null,null,1270]
["80302034",46154,null,46154,73758]
["80302035",0,null,null,169]
["80302039",0,null,null,4]
["80302040",365,0,365,7755]
["80302042",30,null,30,509]
["80302045",243,null,243,1427]
["80302046",0,null,null,432]
["80302047",53458,0,53458,133266]
["80302048",4582,0,4582,9734]
["80302050",0,null,null,20]
["80302051",0,null,null,29]
["80302053",0,null,null,5]
["80302054",0,null,null,7]
["80302056",0,null,null,3]
["80302057",24253,null,24253,44084]
["80302058",0,null,null,1]
["80302059",896,null,896,68]
["80302060",960,0,960,3172]
["80302062",0,null,null,184]
["80302063",660,0,660,19740]
["80302064",1681,0,1681,57569]
["80302065",0,null,null,379]
["80302067",3546,0,3546,63444]
["80302068",829,0,829,55070]
["80302069",0,null,null,2931]
["80302075",35,0,35,1242]
["80302076",22629,null,22629,24124]
["80303015",11,null,11,202]
["80303024",33352,0,33352,86908]
["80303025",0,null,null,39]
["80303026",23985,0,23985,31679]
["80303027",509,null,509,116]
["80303028",332,null,332,51]
["80305004",0,null,null,3]
["80305005",0,null,null,382]
["80305007",0,null,null,1]
["80305010",0,null,null,9]
["80305012",0,null,null,5]
["80305019",1428,0,1428,3142]
["80305020",19,null,19,243]
["80305027",0,null,null,4]
["80305030",2,null,2,685]
["80305040",0,null,null,2]
["80305042",0,null,null,3]
["80305045",0,null,null,1]
["80305047",0,null,null,240]
["80305063",4,null,4]
["80305070",1850,null,1850,6710]
["80305170",0,null,null,98]
["80306001",13,0,13,144]
["80306002",5,null,5,1656]
["80306004",16,null,16,1]
["80306005",291,null,291,14]
["80306007",275,null,275,223]
["80306008",237,null,237,370]
["80306011",10255,null,10255,19111]
["80306012",0,null,null,1]
["80306018",1,null,1,167]
["80306022",0,null,null,24]
["80306023",0,null,null,1]
["80306026",1606,null,1606,3]
["80306038",6236,null,6236,5079]
["80306041",2,null,2,35]
["80306042",402,0,402,17583]
["80306045",0,null,null,3]
["80306047",0,null,null,10]
["80306048",494,null,494,1086]
["80306049",0,null,null,9]
["80306051",161,null,161,359]
["80306052",1,null,1,77]
["80306057",0,null,null,8]
["80306059",101,null,101,189]
["80306061",884,0,884,4966]
["80306064",0,null,null,29]
["80306066",7,null,7,16]
["80306069",0,null,null,6]
["80306070",0,null,null,62]
["80306074",5,null,5,32]
["80306075",0,null,null,478]
["80306076",0,null,null,54]
["80306077",0,null,null,11]
["80306078",2,null,2,1363]
["80306079",29,0,29,659]
["80306080",1,null,1,104]
["80306081",0,null,null,27]
["80306117",16,null,16]
["80306169",1,null,1,2773]
["80306170",19,null,19]
["80307011",300622,4341,296281,85234]
["80307012",9397,76,9321,2711]
["80308001",2,null,2,84]
["80308004",171,0,171,1178]
["80308005",151,null,151,319]
["80308010",2007,0,2007,17]
["80308012",50,null,50,2333]
["80308013",0,null,null,308]
["80308018",0,null,null,75]
["80308022",0,null,null,47]
["80308024",0,null,null,474]
["80308025",0,null,null,2]
["80308029",0,null,null,17]
["80308030",0,null,null,3]
["80308031",0,null,null,30]
["80308032",0,null,null,6]
["80308034",5,null,5]
["80308035",0,null,null,1535]
["80308040",0,null,null,2]
["80308044",144,0,144,61]
["80309004",14,null,14,840]
["80309008",0,null,null,7]
["80309010",30561,0,30561,28123]
["80309011",0,null,null,336]
["80309012",45,null,45,45]
["80309013",30465,null,30465,43685]
["80309014",222,27,195,154]
["80309015",0,null,null,13]
["80309016",1022,null,1022]
["80309020",54,null,54,1233]
["80309021",111,null,111,111]
["80309022",44887,109,44778,99989]
["80309023",1627,1534,93,2802]
["80309024",0,null,null,4666]
["80309027",0,null,null,2]
["80309028",1307,0,1307,6955]
["80309029",0,null,null,379]
["80309040",11,11]
["80401001",16,16]
["80401002",100,100,null,74]
["80401004",14,null,14,33]
["80401008",0,null,null,68]
["80401009",1152,1096,56,670]
["80401010",1225,null,1225,4321]
["80401013",1096,1096,null,104]
["80401014",101,101]
["80401028",27,27]
["80401029",13,13]
["80401030",3,3]
["80401031",1493,1493,null,176]
["80401032",2480,2480,null,139]
["80401033",247,247,null,9]
["80401041",5,5]
["80401042",1093,1093,null,76]
["80401043",83,83,null,3]
["80401044",2,2,null,2]
["80401045",2057,2057,null,211]
["80401046",1177,1177,null,217]
["80401047",5,5,null,1]
["80401048",10,10,null,9]
["80401049",0,null,null,2]
["80401051",1875,1871,4,1226]
["80401052",468,468,null,198]
["80401053",284,284,null,17]
["80401054",11819,11819,null,1192]
["80401055",206,206,null,13]
["80401056",21,21,null,13]
["80401057",1,1]
["80401058",16,16,null,3]
["80401059",1388,1388,null,113]
["80401060",6188,6188,null,2051]
["80401062",258,258,null,111]
["80401070",10254,8116,2138,4502]
["80401110",0,null,null,737]
["80401130",0,null,null,4]
["80401151",1975,654,1321,2462]
["80404002",2212,56,2156,138]
["80404003",597,null,597,2175]
["80404005",237,18,219,6]
["80404006",653,41,612,10]
["80404007",6,null,6]
["80404012",252,null,252,1227]
["80500001",1976,0,1976,25,1813,0]
["80500007",13,null,13,null,13]
["80500008",2157,0,2157,1,2106,0]
["80500009",1404,17,1387,1,1371,0]
["80500010",209,9,200,0,194,0]
["80500011",80163,52316,27847,232,73352,52]
["80500014",992,426,566,111,391,746]
["80500016",1391,1389,2,54,1307]
["80500017",6119,6111,8,117,5972]
["81201029",265,187,78,7,208,0]
["81301025",175,128,47,59,104,1]
["81301026",9,8,1,null,4]
["81301029",1,1,null,1]
["81301030",6,6,0,6,0,0]
["81301043",17,0,17,0,17,0]
["81601115",917,0,917,0,858,0]
["81602201",113,0,113,99,8,93]
["81602202",224,0,224,65,94,151]
["81602203",178,0,178,153,9,102]
["81602204",131,0,131,113,4,102]
["81602205",82,0,82,79,25,74]
["81602206",192,null,192,150,35,33]
["81602207",5,null,5,5,null,5]
["81602211",6,3,3,6,0,0]
["81602212",10,0,10,10,0,0]
["81602213",56,0,56,56,0,27]
["81602216",2,2,null,2]
["81602217",259,28,231,218,41,79]
["81602221",922,760,162,332,456,0]
["81602222",3292,2862,430,1874,863,4]
["81602223",2,null,2,2]
["81602224",313,1,312,277,25,121]
["81602225",311,136,175,256,25,43]
["81602231",282,2,280,175,72,120]
["81602232",9,null,9,9,null,1]
["81602240",51,29,22,10,33,0]
["81602241",7,7,0,4,0,0]
["81602242",27,4,23,2]
["81701001",80022,21538,58484,243,74957,19937]
["81701006",89,null,89,null,89,75]
["81701009",34476,4150,30326,3,33592,259]
["81707001",1026,0,1026,0,1023,0]
["81707002",1212,15,1197,0,1148,0]
["81707004",202,1,201,0,202,0]
["81707030",17469,16072,1397,275,16955,44]
["81707032",null,null,65,null,65]
["81707035",null,null,1,null,1]
["81707036",null,null,99,null,99]
["81707037",null,null,3]
["81707038",24669,4825,19844,15,23509,15]
["81801001",35,35,null,null,35]
["81801023",141,109,32,3,129,0]
["81801042",3,3,null,1,2]
["81901019",1155,871,284,10,1084,0]
["81901022",399,260,139,4,379,0]
["82001015",1122,0,1122,1,1051,0]
["82106004",138,138,null,null,138]
["82106005",32,32,null,null,32]
["82106006",212,212,null,null,212]
["82106007",8,8,null,null,8]
["82107003",1501,1498,3,14,1487]
["Total general",4060241,571971,2298331,1492892,833118,24713,1981]